BEGIN:VCALENDAR
VERSION:2.0
PRODID:-//The Dog House Bar and Grill - ECPv6.15.17.1//NONSGML v1.0//EN
CALSCALE:GREGORIAN
METHOD:PUBLISH
X-WR-CALNAME:The Dog House Bar and Grill
X-ORIGINAL-URL:https://thedoghousebarandgrill.com
X-WR-CALDESC:Events for The Dog House Bar and Grill
REFRESH-INTERVAL;VALUE=DURATION:PT1H
X-Robots-Tag:noindex
X-PUBLISHED-TTL:PT1H
BEGIN:VTIMEZONE
TZID:America/Chicago
BEGIN:DAYLIGHT
TZOFFSETFROM:-0600
TZOFFSETTO:-0500
TZNAME:CDT
DTSTART:20280312T080000
END:DAYLIGHT
BEGIN:STANDARD
TZOFFSETFROM:-0500
TZOFFSETTO:-0600
TZNAME:CST
DTSTART:20281105T070000
END:STANDARD
BEGIN:DAYLIGHT
TZOFFSETFROM:-0600
TZOFFSETTO:-0500
TZNAME:CDT
DTSTART:20290311T080000
END:DAYLIGHT
BEGIN:STANDARD
TZOFFSETFROM:-0500
TZOFFSETTO:-0600
TZNAME:CST
DTSTART:20291104T070000
END:STANDARD
BEGIN:DAYLIGHT
TZOFFSETFROM:-0600
TZOFFSETTO:-0500
TZNAME:CDT
DTSTART:20300310T080000
END:DAYLIGHT
BEGIN:STANDARD
TZOFFSETFROM:-0500
TZOFFSETTO:-0600
TZNAME:CST
DTSTART:20301103T070000
END:STANDARD
END:VTIMEZONE
BEGIN:VEVENT
DTSTART;VALUE=DATE:20290605
DTEND;VALUE=DATE:20290606
DTSTAMP:20260424T220321
CREATED:20240126T201409Z
LAST-MODIFIED:20250924T190811Z
UID:10003572-1875312000-1875398399@thedoghousebarandgrill.com
SUMMARY:TUESDAY TRIVIA NIGHT
DESCRIPTION:  \nTRIVIA 7pm -9pm\nEach trivia event is based around a DJ experience combined with a trivia contest that offers fun competition for all\, along with prizes for the top teams. \nLIKE AND SHARE our posts on Facebook and/or Instagram then show us to receive 1 FREE trivia answer! \nLARGEST TEAM GETS FREE SHOTS! \n$1.50 WINGS ALL DAY
URL:https://thedoghousebarandgrill.com/calendar/tuesday-trivia-night/2029-06-05/
LOCATION:The Dog House Bar and Grill\, 2029 Woodlynn Ave\, St Paul\, MN\, 55109\, United States
CATEGORIES:Trivia,Weekdays
ATTACH;FMTTYPE=image/png:https://thedoghousebarandgrill.com/wp-content/uploads/2025/09/Tues.-Trivia-Wings-Night-Dog-House-.png
ORGANIZER;CN="The Dog House Bar and Grill":MAILTO:thedoghousemn@gmail.com
END:VEVENT
BEGIN:VEVENT
DTSTART;VALUE=DATE:20290612
DTEND;VALUE=DATE:20290613
DTSTAMP:20260424T220321
CREATED:20240126T201409Z
LAST-MODIFIED:20250924T190811Z
UID:10003573-1875916800-1876003199@thedoghousebarandgrill.com
SUMMARY:TUESDAY TRIVIA NIGHT
DESCRIPTION:  \nTRIVIA 7pm -9pm\nEach trivia event is based around a DJ experience combined with a trivia contest that offers fun competition for all\, along with prizes for the top teams. \nLIKE AND SHARE our posts on Facebook and/or Instagram then show us to receive 1 FREE trivia answer! \nLARGEST TEAM GETS FREE SHOTS! \n$1.50 WINGS ALL DAY
URL:https://thedoghousebarandgrill.com/calendar/tuesday-trivia-night/2029-06-12/
LOCATION:The Dog House Bar and Grill\, 2029 Woodlynn Ave\, St Paul\, MN\, 55109\, United States
CATEGORIES:Trivia,Weekdays
ATTACH;FMTTYPE=image/png:https://thedoghousebarandgrill.com/wp-content/uploads/2025/09/Tues.-Trivia-Wings-Night-Dog-House-.png
ORGANIZER;CN="The Dog House Bar and Grill":MAILTO:thedoghousemn@gmail.com
END:VEVENT
BEGIN:VEVENT
DTSTART;VALUE=DATE:20290619
DTEND;VALUE=DATE:20290620
DTSTAMP:20260424T220321
CREATED:20240126T201409Z
LAST-MODIFIED:20250924T190811Z
UID:10003574-1876521600-1876607999@thedoghousebarandgrill.com
SUMMARY:TUESDAY TRIVIA NIGHT
DESCRIPTION:  \nTRIVIA 7pm -9pm\nEach trivia event is based around a DJ experience combined with a trivia contest that offers fun competition for all\, along with prizes for the top teams. \nLIKE AND SHARE our posts on Facebook and/or Instagram then show us to receive 1 FREE trivia answer! \nLARGEST TEAM GETS FREE SHOTS! \n$1.50 WINGS ALL DAY
URL:https://thedoghousebarandgrill.com/calendar/tuesday-trivia-night/2029-06-19/
LOCATION:The Dog House Bar and Grill\, 2029 Woodlynn Ave\, St Paul\, MN\, 55109\, United States
CATEGORIES:Trivia,Weekdays
ATTACH;FMTTYPE=image/png:https://thedoghousebarandgrill.com/wp-content/uploads/2025/09/Tues.-Trivia-Wings-Night-Dog-House-.png
ORGANIZER;CN="The Dog House Bar and Grill":MAILTO:thedoghousemn@gmail.com
END:VEVENT
BEGIN:VEVENT
DTSTART;VALUE=DATE:20290626
DTEND;VALUE=DATE:20290627
DTSTAMP:20260424T220321
CREATED:20240126T201409Z
LAST-MODIFIED:20250924T190811Z
UID:10003575-1877126400-1877212799@thedoghousebarandgrill.com
SUMMARY:TUESDAY TRIVIA NIGHT
DESCRIPTION:  \nTRIVIA 7pm -9pm\nEach trivia event is based around a DJ experience combined with a trivia contest that offers fun competition for all\, along with prizes for the top teams. \nLIKE AND SHARE our posts on Facebook and/or Instagram then show us to receive 1 FREE trivia answer! \nLARGEST TEAM GETS FREE SHOTS! \n$1.50 WINGS ALL DAY
URL:https://thedoghousebarandgrill.com/calendar/tuesday-trivia-night/2029-06-26/
LOCATION:The Dog House Bar and Grill\, 2029 Woodlynn Ave\, St Paul\, MN\, 55109\, United States
CATEGORIES:Trivia,Weekdays
ATTACH;FMTTYPE=image/png:https://thedoghousebarandgrill.com/wp-content/uploads/2025/09/Tues.-Trivia-Wings-Night-Dog-House-.png
ORGANIZER;CN="The Dog House Bar and Grill":MAILTO:thedoghousemn@gmail.com
END:VEVENT
END:VCALENDAR