BEGIN:VCALENDAR
VERSION:2.0
PRODID:-//The Dog House Bar and Grill - ECPv6.15.17.1//NONSGML v1.0//EN
CALSCALE:GREGORIAN
METHOD:PUBLISH
X-ORIGINAL-URL:https://thedoghousebarandgrill.com
X-WR-CALDESC:Events for The Dog House Bar and Grill
REFRESH-INTERVAL;VALUE=DURATION:PT1H
X-Robots-Tag:noindex
X-PUBLISHED-TTL:PT1H
BEGIN:VTIMEZONE
TZID:America/Chicago
BEGIN:DAYLIGHT
TZOFFSETFROM:-0600
TZOFFSETTO:-0500
TZNAME:CDT
DTSTART:20240310T080000
END:DAYLIGHT
BEGIN:STANDARD
TZOFFSETFROM:-0500
TZOFFSETTO:-0600
TZNAME:CST
DTSTART:20241103T070000
END:STANDARD
BEGIN:DAYLIGHT
TZOFFSETFROM:-0600
TZOFFSETTO:-0500
TZNAME:CDT
DTSTART:20250309T080000
END:DAYLIGHT
BEGIN:STANDARD
TZOFFSETFROM:-0500
TZOFFSETTO:-0600
TZNAME:CST
DTSTART:20251102T070000
END:STANDARD
BEGIN:DAYLIGHT
TZOFFSETFROM:-0600
TZOFFSETTO:-0500
TZNAME:CDT
DTSTART:20260308T080000
END:DAYLIGHT
BEGIN:STANDARD
TZOFFSETFROM:-0500
TZOFFSETTO:-0600
TZNAME:CST
DTSTART:20261101T070000
END:STANDARD
END:VTIMEZONE
BEGIN:VEVENT
DTSTART;VALUE=DATE:20250701
DTEND;VALUE=DATE:20250702
DTSTAMP:20260423T010029
CREATED:20240126T201409Z
LAST-MODIFIED:20250924T190811Z
UID:10003367-1751328000-1751414399@thedoghousebarandgrill.com
SUMMARY:TUESDAY TRIVIA NIGHT
DESCRIPTION:  \nTRIVIA 7pm -9pm\nEach trivia event is based around a DJ experience combined with a trivia contest that offers fun competition for all\, along with prizes for the top teams. \nLIKE AND SHARE our posts on Facebook and/or Instagram then show us to receive 1 FREE trivia answer! \nLARGEST TEAM GETS FREE SHOTS! \n$1.50 WINGS ALL DAY
URL:https://thedoghousebarandgrill.com/calendar/tuesday-trivia-night/2025-07-01/
LOCATION:The Dog House Bar and Grill\, 2029 Woodlynn Ave\, St Paul\, MN\, 55109\, United States
CATEGORIES:Trivia,Weekdays
ATTACH;FMTTYPE=image/png:https://thedoghousebarandgrill.com/wp-content/uploads/2025/09/Tues.-Trivia-Wings-Night-Dog-House-.png
ORGANIZER;CN="The Dog House Bar and Grill":MAILTO:thedoghousemn@gmail.com
END:VEVENT
BEGIN:VEVENT
DTSTART;VALUE=DATE:20250708
DTEND;VALUE=DATE:20250709
DTSTAMP:20260423T010029
CREATED:20240126T201409Z
LAST-MODIFIED:20250924T190811Z
UID:10003368-1751932800-1752019199@thedoghousebarandgrill.com
SUMMARY:TUESDAY TRIVIA NIGHT
DESCRIPTION:  \nTRIVIA 7pm -9pm\nEach trivia event is based around a DJ experience combined with a trivia contest that offers fun competition for all\, along with prizes for the top teams. \nLIKE AND SHARE our posts on Facebook and/or Instagram then show us to receive 1 FREE trivia answer! \nLARGEST TEAM GETS FREE SHOTS! \n$1.50 WINGS ALL DAY
URL:https://thedoghousebarandgrill.com/calendar/tuesday-trivia-night/2025-07-08/
LOCATION:The Dog House Bar and Grill\, 2029 Woodlynn Ave\, St Paul\, MN\, 55109\, United States
CATEGORIES:Trivia,Weekdays
ATTACH;FMTTYPE=image/png:https://thedoghousebarandgrill.com/wp-content/uploads/2025/09/Tues.-Trivia-Wings-Night-Dog-House-.png
ORGANIZER;CN="The Dog House Bar and Grill":MAILTO:thedoghousemn@gmail.com
END:VEVENT
BEGIN:VEVENT
DTSTART;VALUE=DATE:20250715
DTEND;VALUE=DATE:20250716
DTSTAMP:20260423T010029
CREATED:20240126T201409Z
LAST-MODIFIED:20250924T190811Z
UID:10003369-1752537600-1752623999@thedoghousebarandgrill.com
SUMMARY:TUESDAY TRIVIA NIGHT
DESCRIPTION:  \nTRIVIA 7pm -9pm\nEach trivia event is based around a DJ experience combined with a trivia contest that offers fun competition for all\, along with prizes for the top teams. \nLIKE AND SHARE our posts on Facebook and/or Instagram then show us to receive 1 FREE trivia answer! \nLARGEST TEAM GETS FREE SHOTS! \n$1.50 WINGS ALL DAY
URL:https://thedoghousebarandgrill.com/calendar/tuesday-trivia-night/2025-07-15/
LOCATION:The Dog House Bar and Grill\, 2029 Woodlynn Ave\, St Paul\, MN\, 55109\, United States
CATEGORIES:Trivia,Weekdays
ATTACH;FMTTYPE=image/png:https://thedoghousebarandgrill.com/wp-content/uploads/2025/09/Tues.-Trivia-Wings-Night-Dog-House-.png
ORGANIZER;CN="The Dog House Bar and Grill":MAILTO:thedoghousemn@gmail.com
END:VEVENT
BEGIN:VEVENT
DTSTART;VALUE=DATE:20250722
DTEND;VALUE=DATE:20250723
DTSTAMP:20260423T010029
CREATED:20240126T201409Z
LAST-MODIFIED:20250924T190811Z
UID:10003370-1753142400-1753228799@thedoghousebarandgrill.com
SUMMARY:TUESDAY TRIVIA NIGHT
DESCRIPTION:  \nTRIVIA 7pm -9pm\nEach trivia event is based around a DJ experience combined with a trivia contest that offers fun competition for all\, along with prizes for the top teams. \nLIKE AND SHARE our posts on Facebook and/or Instagram then show us to receive 1 FREE trivia answer! \nLARGEST TEAM GETS FREE SHOTS! \n$1.50 WINGS ALL DAY
URL:https://thedoghousebarandgrill.com/calendar/tuesday-trivia-night/2025-07-22/
LOCATION:The Dog House Bar and Grill\, 2029 Woodlynn Ave\, St Paul\, MN\, 55109\, United States
CATEGORIES:Trivia,Weekdays
ATTACH;FMTTYPE=image/png:https://thedoghousebarandgrill.com/wp-content/uploads/2025/09/Tues.-Trivia-Wings-Night-Dog-House-.png
ORGANIZER;CN="The Dog House Bar and Grill":MAILTO:thedoghousemn@gmail.com
END:VEVENT
BEGIN:VEVENT
DTSTART;VALUE=DATE:20250729
DTEND;VALUE=DATE:20250730
DTSTAMP:20260423T010029
CREATED:20240126T201409Z
LAST-MODIFIED:20250924T190811Z
UID:10003371-1753747200-1753833599@thedoghousebarandgrill.com
SUMMARY:TUESDAY TRIVIA NIGHT
DESCRIPTION:  \nTRIVIA 7pm -9pm\nEach trivia event is based around a DJ experience combined with a trivia contest that offers fun competition for all\, along with prizes for the top teams. \nLIKE AND SHARE our posts on Facebook and/or Instagram then show us to receive 1 FREE trivia answer! \nLARGEST TEAM GETS FREE SHOTS! \n$1.50 WINGS ALL DAY
URL:https://thedoghousebarandgrill.com/calendar/tuesday-trivia-night/2025-07-29/
LOCATION:The Dog House Bar and Grill\, 2029 Woodlynn Ave\, St Paul\, MN\, 55109\, United States
CATEGORIES:Trivia,Weekdays
ATTACH;FMTTYPE=image/png:https://thedoghousebarandgrill.com/wp-content/uploads/2025/09/Tues.-Trivia-Wings-Night-Dog-House-.png
ORGANIZER;CN="The Dog House Bar and Grill":MAILTO:thedoghousemn@gmail.com
END:VEVENT
END:VCALENDAR