BEGIN:VCALENDAR
VERSION:2.0
PRODID:-//The Dog House Bar and Grill - ECPv6.15.17.1//NONSGML v1.0//EN
CALSCALE:GREGORIAN
METHOD:PUBLISH
X-WR-CALNAME:The Dog House Bar and Grill
X-ORIGINAL-URL:https://thedoghousebarandgrill.com
X-WR-CALDESC:Events for The Dog House Bar and Grill
REFRESH-INTERVAL;VALUE=DURATION:PT1H
X-Robots-Tag:noindex
X-PUBLISHED-TTL:PT1H
BEGIN:VTIMEZONE
TZID:America/Chicago
BEGIN:DAYLIGHT
TZOFFSETFROM:-0600
TZOFFSETTO:-0500
TZNAME:CDT
DTSTART:20250309T080000
END:DAYLIGHT
BEGIN:STANDARD
TZOFFSETFROM:-0500
TZOFFSETTO:-0600
TZNAME:CST
DTSTART:20251102T070000
END:STANDARD
BEGIN:DAYLIGHT
TZOFFSETFROM:-0600
TZOFFSETTO:-0500
TZNAME:CDT
DTSTART:20260308T080000
END:DAYLIGHT
BEGIN:STANDARD
TZOFFSETFROM:-0500
TZOFFSETTO:-0600
TZNAME:CST
DTSTART:20261101T070000
END:STANDARD
BEGIN:DAYLIGHT
TZOFFSETFROM:-0600
TZOFFSETTO:-0500
TZNAME:CDT
DTSTART:20270314T080000
END:DAYLIGHT
BEGIN:STANDARD
TZOFFSETFROM:-0500
TZOFFSETTO:-0600
TZNAME:CST
DTSTART:20271107T070000
END:STANDARD
END:VTIMEZONE
BEGIN:VEVENT
DTSTART;TZID=America/Chicago:20260426T100000
DTEND;TZID=America/Chicago:20260426T235900
DTSTAMP:20260424T201300
CREATED:20260109T214810Z
LAST-MODIFIED:20260109T214838Z
UID:10005198-1777197600-1777247940@thedoghousebarandgrill.com
SUMMARY:SUNDAY FUNDAY!
DESCRIPTION:Cash Bingo 1st and 3rd Sundays | 3:30pm\n\n\n\nCoach Purse Bingo 2nd\, 4th and 5th Sundays | 3:30pm\n\n\n\nMeat Raffle During Bingo\n\n\n\nTexas hold ’em at 7pm\n\n\n\nWin up to $100 in cash! \n\n\n\nALL DAY HAPPY HOUR
URL:https://thedoghousebarandgrill.com/calendar/sunday-funday-2/2026-04-26/
LOCATION:The Dog House Bar and Grill\, 2029 Woodlynn Ave\, St Paul\, MN\, 55109\, United States
ATTACH;FMTTYPE=image/jpeg:https://thedoghousebarandgrill.com/wp-content/uploads/2026/01/Bingo_real-image-at-Dog-House.jpg
END:VEVENT
BEGIN:VEVENT
DTSTART;TZID=America/Chicago:20260503T100000
DTEND;TZID=America/Chicago:20260503T235900
DTSTAMP:20260424T201300
CREATED:20260109T214810Z
LAST-MODIFIED:20260109T214838Z
UID:10005199-1777802400-1777852740@thedoghousebarandgrill.com
SUMMARY:SUNDAY FUNDAY!
DESCRIPTION:Cash Bingo 1st and 3rd Sundays | 3:30pm\n\n\n\nCoach Purse Bingo 2nd\, 4th and 5th Sundays | 3:30pm\n\n\n\nMeat Raffle During Bingo\n\n\n\nTexas hold ’em at 7pm\n\n\n\nWin up to $100 in cash! \n\n\n\nALL DAY HAPPY HOUR
URL:https://thedoghousebarandgrill.com/calendar/sunday-funday-2/2026-05-03/
LOCATION:The Dog House Bar and Grill\, 2029 Woodlynn Ave\, St Paul\, MN\, 55109\, United States
ATTACH;FMTTYPE=image/jpeg:https://thedoghousebarandgrill.com/wp-content/uploads/2026/01/Bingo_real-image-at-Dog-House.jpg
END:VEVENT
BEGIN:VEVENT
DTSTART;TZID=America/Chicago:20260510T100000
DTEND;TZID=America/Chicago:20260510T235900
DTSTAMP:20260424T201300
CREATED:20260109T214810Z
LAST-MODIFIED:20260109T214838Z
UID:10005200-1778407200-1778457540@thedoghousebarandgrill.com
SUMMARY:SUNDAY FUNDAY!
DESCRIPTION:Cash Bingo 1st and 3rd Sundays | 3:30pm\n\n\n\nCoach Purse Bingo 2nd\, 4th and 5th Sundays | 3:30pm\n\n\n\nMeat Raffle During Bingo\n\n\n\nTexas hold ’em at 7pm\n\n\n\nWin up to $100 in cash! \n\n\n\nALL DAY HAPPY HOUR
URL:https://thedoghousebarandgrill.com/calendar/sunday-funday-2/2026-05-10/
LOCATION:The Dog House Bar and Grill\, 2029 Woodlynn Ave\, St Paul\, MN\, 55109\, United States
ATTACH;FMTTYPE=image/jpeg:https://thedoghousebarandgrill.com/wp-content/uploads/2026/01/Bingo_real-image-at-Dog-House.jpg
END:VEVENT
BEGIN:VEVENT
DTSTART;TZID=America/Chicago:20260517T100000
DTEND;TZID=America/Chicago:20260517T235900
DTSTAMP:20260424T201300
CREATED:20260109T214810Z
LAST-MODIFIED:20260109T214838Z
UID:10005201-1779012000-1779062340@thedoghousebarandgrill.com
SUMMARY:SUNDAY FUNDAY!
DESCRIPTION:Cash Bingo 1st and 3rd Sundays | 3:30pm\n\n\n\nCoach Purse Bingo 2nd\, 4th and 5th Sundays | 3:30pm\n\n\n\nMeat Raffle During Bingo\n\n\n\nTexas hold ’em at 7pm\n\n\n\nWin up to $100 in cash! \n\n\n\nALL DAY HAPPY HOUR
URL:https://thedoghousebarandgrill.com/calendar/sunday-funday-2/2026-05-17/
LOCATION:The Dog House Bar and Grill\, 2029 Woodlynn Ave\, St Paul\, MN\, 55109\, United States
ATTACH;FMTTYPE=image/jpeg:https://thedoghousebarandgrill.com/wp-content/uploads/2026/01/Bingo_real-image-at-Dog-House.jpg
END:VEVENT
BEGIN:VEVENT
DTSTART;TZID=America/Chicago:20260524T100000
DTEND;TZID=America/Chicago:20260524T235900
DTSTAMP:20260424T201300
CREATED:20260109T214810Z
LAST-MODIFIED:20260109T214838Z
UID:10005202-1779616800-1779667140@thedoghousebarandgrill.com
SUMMARY:SUNDAY FUNDAY!
DESCRIPTION:Cash Bingo 1st and 3rd Sundays | 3:30pm\n\n\n\nCoach Purse Bingo 2nd\, 4th and 5th Sundays | 3:30pm\n\n\n\nMeat Raffle During Bingo\n\n\n\nTexas hold ’em at 7pm\n\n\n\nWin up to $100 in cash! \n\n\n\nALL DAY HAPPY HOUR
URL:https://thedoghousebarandgrill.com/calendar/sunday-funday-2/2026-05-24/
LOCATION:The Dog House Bar and Grill\, 2029 Woodlynn Ave\, St Paul\, MN\, 55109\, United States
ATTACH;FMTTYPE=image/jpeg:https://thedoghousebarandgrill.com/wp-content/uploads/2026/01/Bingo_real-image-at-Dog-House.jpg
END:VEVENT
BEGIN:VEVENT
DTSTART;TZID=America/Chicago:20260531T100000
DTEND;TZID=America/Chicago:20260531T235900
DTSTAMP:20260424T201300
CREATED:20260109T214810Z
LAST-MODIFIED:20260109T214838Z
UID:10005203-1780221600-1780271940@thedoghousebarandgrill.com
SUMMARY:SUNDAY FUNDAY!
DESCRIPTION:Cash Bingo 1st and 3rd Sundays | 3:30pm\n\n\n\nCoach Purse Bingo 2nd\, 4th and 5th Sundays | 3:30pm\n\n\n\nMeat Raffle During Bingo\n\n\n\nTexas hold ’em at 7pm\n\n\n\nWin up to $100 in cash! \n\n\n\nALL DAY HAPPY HOUR
URL:https://thedoghousebarandgrill.com/calendar/sunday-funday-2/2026-05-31/
LOCATION:The Dog House Bar and Grill\, 2029 Woodlynn Ave\, St Paul\, MN\, 55109\, United States
ATTACH;FMTTYPE=image/jpeg:https://thedoghousebarandgrill.com/wp-content/uploads/2026/01/Bingo_real-image-at-Dog-House.jpg
END:VEVENT
BEGIN:VEVENT
DTSTART;TZID=America/Chicago:20260607T100000
DTEND;TZID=America/Chicago:20260607T235900
DTSTAMP:20260424T201300
CREATED:20260109T214810Z
LAST-MODIFIED:20260109T214838Z
UID:10005204-1780826400-1780876740@thedoghousebarandgrill.com
SUMMARY:SUNDAY FUNDAY!
DESCRIPTION:Cash Bingo 1st and 3rd Sundays | 3:30pm\n\n\n\nCoach Purse Bingo 2nd\, 4th and 5th Sundays | 3:30pm\n\n\n\nMeat Raffle During Bingo\n\n\n\nTexas hold ’em at 7pm\n\n\n\nWin up to $100 in cash! \n\n\n\nALL DAY HAPPY HOUR
URL:https://thedoghousebarandgrill.com/calendar/sunday-funday-2/2026-06-07/
LOCATION:The Dog House Bar and Grill\, 2029 Woodlynn Ave\, St Paul\, MN\, 55109\, United States
ATTACH;FMTTYPE=image/jpeg:https://thedoghousebarandgrill.com/wp-content/uploads/2026/01/Bingo_real-image-at-Dog-House.jpg
END:VEVENT
BEGIN:VEVENT
DTSTART;TZID=America/Chicago:20260614T100000
DTEND;TZID=America/Chicago:20260614T235900
DTSTAMP:20260424T201300
CREATED:20260109T214810Z
LAST-MODIFIED:20260109T214838Z
UID:10005205-1781431200-1781481540@thedoghousebarandgrill.com
SUMMARY:SUNDAY FUNDAY!
DESCRIPTION:Cash Bingo 1st and 3rd Sundays | 3:30pm\n\n\n\nCoach Purse Bingo 2nd\, 4th and 5th Sundays | 3:30pm\n\n\n\nMeat Raffle During Bingo\n\n\n\nTexas hold ’em at 7pm\n\n\n\nWin up to $100 in cash! \n\n\n\nALL DAY HAPPY HOUR
URL:https://thedoghousebarandgrill.com/calendar/sunday-funday-2/2026-06-14/
LOCATION:The Dog House Bar and Grill\, 2029 Woodlynn Ave\, St Paul\, MN\, 55109\, United States
ATTACH;FMTTYPE=image/jpeg:https://thedoghousebarandgrill.com/wp-content/uploads/2026/01/Bingo_real-image-at-Dog-House.jpg
END:VEVENT
BEGIN:VEVENT
DTSTART;TZID=America/Chicago:20260621T100000
DTEND;TZID=America/Chicago:20260621T235900
DTSTAMP:20260424T201300
CREATED:20260109T214810Z
LAST-MODIFIED:20260109T214838Z
UID:10005206-1782036000-1782086340@thedoghousebarandgrill.com
SUMMARY:SUNDAY FUNDAY!
DESCRIPTION:Cash Bingo 1st and 3rd Sundays | 3:30pm\n\n\n\nCoach Purse Bingo 2nd\, 4th and 5th Sundays | 3:30pm\n\n\n\nMeat Raffle During Bingo\n\n\n\nTexas hold ’em at 7pm\n\n\n\nWin up to $100 in cash! \n\n\n\nALL DAY HAPPY HOUR
URL:https://thedoghousebarandgrill.com/calendar/sunday-funday-2/2026-06-21/
LOCATION:The Dog House Bar and Grill\, 2029 Woodlynn Ave\, St Paul\, MN\, 55109\, United States
ATTACH;FMTTYPE=image/jpeg:https://thedoghousebarandgrill.com/wp-content/uploads/2026/01/Bingo_real-image-at-Dog-House.jpg
END:VEVENT
BEGIN:VEVENT
DTSTART;TZID=America/Chicago:20260628T100000
DTEND;TZID=America/Chicago:20260628T235900
DTSTAMP:20260424T201300
CREATED:20260109T214810Z
LAST-MODIFIED:20260109T214838Z
UID:10005207-1782640800-1782691140@thedoghousebarandgrill.com
SUMMARY:SUNDAY FUNDAY!
DESCRIPTION:Cash Bingo 1st and 3rd Sundays | 3:30pm\n\n\n\nCoach Purse Bingo 2nd\, 4th and 5th Sundays | 3:30pm\n\n\n\nMeat Raffle During Bingo\n\n\n\nTexas hold ’em at 7pm\n\n\n\nWin up to $100 in cash! \n\n\n\nALL DAY HAPPY HOUR
URL:https://thedoghousebarandgrill.com/calendar/sunday-funday-2/2026-06-28/
LOCATION:The Dog House Bar and Grill\, 2029 Woodlynn Ave\, St Paul\, MN\, 55109\, United States
ATTACH;FMTTYPE=image/jpeg:https://thedoghousebarandgrill.com/wp-content/uploads/2026/01/Bingo_real-image-at-Dog-House.jpg
END:VEVENT
BEGIN:VEVENT
DTSTART;TZID=America/Chicago:20260705T100000
DTEND;TZID=America/Chicago:20260705T235900
DTSTAMP:20260424T201300
CREATED:20260109T214810Z
LAST-MODIFIED:20260109T214838Z
UID:10005208-1783245600-1783295940@thedoghousebarandgrill.com
SUMMARY:SUNDAY FUNDAY!
DESCRIPTION:Cash Bingo 1st and 3rd Sundays | 3:30pm\n\n\n\nCoach Purse Bingo 2nd\, 4th and 5th Sundays | 3:30pm\n\n\n\nMeat Raffle During Bingo\n\n\n\nTexas hold ’em at 7pm\n\n\n\nWin up to $100 in cash! \n\n\n\nALL DAY HAPPY HOUR
URL:https://thedoghousebarandgrill.com/calendar/sunday-funday-2/2026-07-05/
LOCATION:The Dog House Bar and Grill\, 2029 Woodlynn Ave\, St Paul\, MN\, 55109\, United States
ATTACH;FMTTYPE=image/jpeg:https://thedoghousebarandgrill.com/wp-content/uploads/2026/01/Bingo_real-image-at-Dog-House.jpg
END:VEVENT
BEGIN:VEVENT
DTSTART;TZID=America/Chicago:20260712T100000
DTEND;TZID=America/Chicago:20260712T235900
DTSTAMP:20260424T201300
CREATED:20260109T214810Z
LAST-MODIFIED:20260109T214838Z
UID:10005209-1783850400-1783900740@thedoghousebarandgrill.com
SUMMARY:SUNDAY FUNDAY!
DESCRIPTION:Cash Bingo 1st and 3rd Sundays | 3:30pm\n\n\n\nCoach Purse Bingo 2nd\, 4th and 5th Sundays | 3:30pm\n\n\n\nMeat Raffle During Bingo\n\n\n\nTexas hold ’em at 7pm\n\n\n\nWin up to $100 in cash! \n\n\n\nALL DAY HAPPY HOUR
URL:https://thedoghousebarandgrill.com/calendar/sunday-funday-2/2026-07-12/
LOCATION:The Dog House Bar and Grill\, 2029 Woodlynn Ave\, St Paul\, MN\, 55109\, United States
ATTACH;FMTTYPE=image/jpeg:https://thedoghousebarandgrill.com/wp-content/uploads/2026/01/Bingo_real-image-at-Dog-House.jpg
END:VEVENT
BEGIN:VEVENT
DTSTART;TZID=America/Chicago:20260719T100000
DTEND;TZID=America/Chicago:20260719T235900
DTSTAMP:20260424T201300
CREATED:20260109T214810Z
LAST-MODIFIED:20260109T214838Z
UID:10005210-1784455200-1784505540@thedoghousebarandgrill.com
SUMMARY:SUNDAY FUNDAY!
DESCRIPTION:Cash Bingo 1st and 3rd Sundays | 3:30pm\n\n\n\nCoach Purse Bingo 2nd\, 4th and 5th Sundays | 3:30pm\n\n\n\nMeat Raffle During Bingo\n\n\n\nTexas hold ’em at 7pm\n\n\n\nWin up to $100 in cash! \n\n\n\nALL DAY HAPPY HOUR
URL:https://thedoghousebarandgrill.com/calendar/sunday-funday-2/2026-07-19/
LOCATION:The Dog House Bar and Grill\, 2029 Woodlynn Ave\, St Paul\, MN\, 55109\, United States
ATTACH;FMTTYPE=image/jpeg:https://thedoghousebarandgrill.com/wp-content/uploads/2026/01/Bingo_real-image-at-Dog-House.jpg
END:VEVENT
BEGIN:VEVENT
DTSTART;TZID=America/Chicago:20260726T100000
DTEND;TZID=America/Chicago:20260726T235900
DTSTAMP:20260424T201301
CREATED:20260109T214810Z
LAST-MODIFIED:20260109T214838Z
UID:10005211-1785060000-1785110340@thedoghousebarandgrill.com
SUMMARY:SUNDAY FUNDAY!
DESCRIPTION:Cash Bingo 1st and 3rd Sundays | 3:30pm\n\n\n\nCoach Purse Bingo 2nd\, 4th and 5th Sundays | 3:30pm\n\n\n\nMeat Raffle During Bingo\n\n\n\nTexas hold ’em at 7pm\n\n\n\nWin up to $100 in cash! \n\n\n\nALL DAY HAPPY HOUR
URL:https://thedoghousebarandgrill.com/calendar/sunday-funday-2/2026-07-26/
LOCATION:The Dog House Bar and Grill\, 2029 Woodlynn Ave\, St Paul\, MN\, 55109\, United States
ATTACH;FMTTYPE=image/jpeg:https://thedoghousebarandgrill.com/wp-content/uploads/2026/01/Bingo_real-image-at-Dog-House.jpg
END:VEVENT
BEGIN:VEVENT
DTSTART;TZID=America/Chicago:20260802T100000
DTEND;TZID=America/Chicago:20260802T235900
DTSTAMP:20260424T201301
CREATED:20260109T214810Z
LAST-MODIFIED:20260109T214838Z
UID:10005212-1785664800-1785715140@thedoghousebarandgrill.com
SUMMARY:SUNDAY FUNDAY!
DESCRIPTION:Cash Bingo 1st and 3rd Sundays | 3:30pm\n\n\n\nCoach Purse Bingo 2nd\, 4th and 5th Sundays | 3:30pm\n\n\n\nMeat Raffle During Bingo\n\n\n\nTexas hold ’em at 7pm\n\n\n\nWin up to $100 in cash! \n\n\n\nALL DAY HAPPY HOUR
URL:https://thedoghousebarandgrill.com/calendar/sunday-funday-2/2026-08-02/
LOCATION:The Dog House Bar and Grill\, 2029 Woodlynn Ave\, St Paul\, MN\, 55109\, United States
ATTACH;FMTTYPE=image/jpeg:https://thedoghousebarandgrill.com/wp-content/uploads/2026/01/Bingo_real-image-at-Dog-House.jpg
END:VEVENT
BEGIN:VEVENT
DTSTART;TZID=America/Chicago:20260809T100000
DTEND;TZID=America/Chicago:20260809T235900
DTSTAMP:20260424T201301
CREATED:20260109T214810Z
LAST-MODIFIED:20260109T214838Z
UID:10005213-1786269600-1786319940@thedoghousebarandgrill.com
SUMMARY:SUNDAY FUNDAY!
DESCRIPTION:Cash Bingo 1st and 3rd Sundays | 3:30pm\n\n\n\nCoach Purse Bingo 2nd\, 4th and 5th Sundays | 3:30pm\n\n\n\nMeat Raffle During Bingo\n\n\n\nTexas hold ’em at 7pm\n\n\n\nWin up to $100 in cash! \n\n\n\nALL DAY HAPPY HOUR
URL:https://thedoghousebarandgrill.com/calendar/sunday-funday-2/2026-08-09/
LOCATION:The Dog House Bar and Grill\, 2029 Woodlynn Ave\, St Paul\, MN\, 55109\, United States
ATTACH;FMTTYPE=image/jpeg:https://thedoghousebarandgrill.com/wp-content/uploads/2026/01/Bingo_real-image-at-Dog-House.jpg
END:VEVENT
BEGIN:VEVENT
DTSTART;TZID=America/Chicago:20260816T100000
DTEND;TZID=America/Chicago:20260816T235900
DTSTAMP:20260424T201301
CREATED:20260109T214810Z
LAST-MODIFIED:20260109T214838Z
UID:10005214-1786874400-1786924740@thedoghousebarandgrill.com
SUMMARY:SUNDAY FUNDAY!
DESCRIPTION:Cash Bingo 1st and 3rd Sundays | 3:30pm\n\n\n\nCoach Purse Bingo 2nd\, 4th and 5th Sundays | 3:30pm\n\n\n\nMeat Raffle During Bingo\n\n\n\nTexas hold ’em at 7pm\n\n\n\nWin up to $100 in cash! \n\n\n\nALL DAY HAPPY HOUR
URL:https://thedoghousebarandgrill.com/calendar/sunday-funday-2/2026-08-16/
LOCATION:The Dog House Bar and Grill\, 2029 Woodlynn Ave\, St Paul\, MN\, 55109\, United States
ATTACH;FMTTYPE=image/jpeg:https://thedoghousebarandgrill.com/wp-content/uploads/2026/01/Bingo_real-image-at-Dog-House.jpg
END:VEVENT
BEGIN:VEVENT
DTSTART;TZID=America/Chicago:20260823T100000
DTEND;TZID=America/Chicago:20260823T235900
DTSTAMP:20260424T201301
CREATED:20260109T214810Z
LAST-MODIFIED:20260109T214838Z
UID:10005215-1787479200-1787529540@thedoghousebarandgrill.com
SUMMARY:SUNDAY FUNDAY!
DESCRIPTION:Cash Bingo 1st and 3rd Sundays | 3:30pm\n\n\n\nCoach Purse Bingo 2nd\, 4th and 5th Sundays | 3:30pm\n\n\n\nMeat Raffle During Bingo\n\n\n\nTexas hold ’em at 7pm\n\n\n\nWin up to $100 in cash! \n\n\n\nALL DAY HAPPY HOUR
URL:https://thedoghousebarandgrill.com/calendar/sunday-funday-2/2026-08-23/
LOCATION:The Dog House Bar and Grill\, 2029 Woodlynn Ave\, St Paul\, MN\, 55109\, United States
ATTACH;FMTTYPE=image/jpeg:https://thedoghousebarandgrill.com/wp-content/uploads/2026/01/Bingo_real-image-at-Dog-House.jpg
END:VEVENT
BEGIN:VEVENT
DTSTART;TZID=America/Chicago:20260830T100000
DTEND;TZID=America/Chicago:20260830T235900
DTSTAMP:20260424T201301
CREATED:20260109T214810Z
LAST-MODIFIED:20260109T214838Z
UID:10005216-1788084000-1788134340@thedoghousebarandgrill.com
SUMMARY:SUNDAY FUNDAY!
DESCRIPTION:Cash Bingo 1st and 3rd Sundays | 3:30pm\n\n\n\nCoach Purse Bingo 2nd\, 4th and 5th Sundays | 3:30pm\n\n\n\nMeat Raffle During Bingo\n\n\n\nTexas hold ’em at 7pm\n\n\n\nWin up to $100 in cash! \n\n\n\nALL DAY HAPPY HOUR
URL:https://thedoghousebarandgrill.com/calendar/sunday-funday-2/2026-08-30/
LOCATION:The Dog House Bar and Grill\, 2029 Woodlynn Ave\, St Paul\, MN\, 55109\, United States
ATTACH;FMTTYPE=image/jpeg:https://thedoghousebarandgrill.com/wp-content/uploads/2026/01/Bingo_real-image-at-Dog-House.jpg
END:VEVENT
BEGIN:VEVENT
DTSTART;TZID=America/Chicago:20260906T100000
DTEND;TZID=America/Chicago:20260906T235900
DTSTAMP:20260424T201301
CREATED:20260109T214810Z
LAST-MODIFIED:20260109T214838Z
UID:10005217-1788688800-1788739140@thedoghousebarandgrill.com
SUMMARY:SUNDAY FUNDAY!
DESCRIPTION:Cash Bingo 1st and 3rd Sundays | 3:30pm\n\n\n\nCoach Purse Bingo 2nd\, 4th and 5th Sundays | 3:30pm\n\n\n\nMeat Raffle During Bingo\n\n\n\nTexas hold ’em at 7pm\n\n\n\nWin up to $100 in cash! \n\n\n\nALL DAY HAPPY HOUR
URL:https://thedoghousebarandgrill.com/calendar/sunday-funday-2/2026-09-06/
LOCATION:The Dog House Bar and Grill\, 2029 Woodlynn Ave\, St Paul\, MN\, 55109\, United States
ATTACH;FMTTYPE=image/jpeg:https://thedoghousebarandgrill.com/wp-content/uploads/2026/01/Bingo_real-image-at-Dog-House.jpg
END:VEVENT
BEGIN:VEVENT
DTSTART;TZID=America/Chicago:20260913T100000
DTEND;TZID=America/Chicago:20260913T235900
DTSTAMP:20260424T201301
CREATED:20260109T214810Z
LAST-MODIFIED:20260109T214838Z
UID:10005218-1789293600-1789343940@thedoghousebarandgrill.com
SUMMARY:SUNDAY FUNDAY!
DESCRIPTION:Cash Bingo 1st and 3rd Sundays | 3:30pm\n\n\n\nCoach Purse Bingo 2nd\, 4th and 5th Sundays | 3:30pm\n\n\n\nMeat Raffle During Bingo\n\n\n\nTexas hold ’em at 7pm\n\n\n\nWin up to $100 in cash! \n\n\n\nALL DAY HAPPY HOUR
URL:https://thedoghousebarandgrill.com/calendar/sunday-funday-2/2026-09-13/
LOCATION:The Dog House Bar and Grill\, 2029 Woodlynn Ave\, St Paul\, MN\, 55109\, United States
ATTACH;FMTTYPE=image/jpeg:https://thedoghousebarandgrill.com/wp-content/uploads/2026/01/Bingo_real-image-at-Dog-House.jpg
END:VEVENT
BEGIN:VEVENT
DTSTART;TZID=America/Chicago:20260920T100000
DTEND;TZID=America/Chicago:20260920T235900
DTSTAMP:20260424T201301
CREATED:20260109T214810Z
LAST-MODIFIED:20260109T214838Z
UID:10005219-1789898400-1789948740@thedoghousebarandgrill.com
SUMMARY:SUNDAY FUNDAY!
DESCRIPTION:Cash Bingo 1st and 3rd Sundays | 3:30pm\n\n\n\nCoach Purse Bingo 2nd\, 4th and 5th Sundays | 3:30pm\n\n\n\nMeat Raffle During Bingo\n\n\n\nTexas hold ’em at 7pm\n\n\n\nWin up to $100 in cash! \n\n\n\nALL DAY HAPPY HOUR
URL:https://thedoghousebarandgrill.com/calendar/sunday-funday-2/2026-09-20/
LOCATION:The Dog House Bar and Grill\, 2029 Woodlynn Ave\, St Paul\, MN\, 55109\, United States
ATTACH;FMTTYPE=image/jpeg:https://thedoghousebarandgrill.com/wp-content/uploads/2026/01/Bingo_real-image-at-Dog-House.jpg
END:VEVENT
BEGIN:VEVENT
DTSTART;TZID=America/Chicago:20260927T100000
DTEND;TZID=America/Chicago:20260927T235900
DTSTAMP:20260424T201301
CREATED:20260109T214810Z
LAST-MODIFIED:20260109T214838Z
UID:10005220-1790503200-1790553540@thedoghousebarandgrill.com
SUMMARY:SUNDAY FUNDAY!
DESCRIPTION:Cash Bingo 1st and 3rd Sundays | 3:30pm\n\n\n\nCoach Purse Bingo 2nd\, 4th and 5th Sundays | 3:30pm\n\n\n\nMeat Raffle During Bingo\n\n\n\nTexas hold ’em at 7pm\n\n\n\nWin up to $100 in cash! \n\n\n\nALL DAY HAPPY HOUR
URL:https://thedoghousebarandgrill.com/calendar/sunday-funday-2/2026-09-27/
LOCATION:The Dog House Bar and Grill\, 2029 Woodlynn Ave\, St Paul\, MN\, 55109\, United States
ATTACH;FMTTYPE=image/jpeg:https://thedoghousebarandgrill.com/wp-content/uploads/2026/01/Bingo_real-image-at-Dog-House.jpg
END:VEVENT
BEGIN:VEVENT
DTSTART;TZID=America/Chicago:20261004T100000
DTEND;TZID=America/Chicago:20261004T235900
DTSTAMP:20260424T201301
CREATED:20260109T214810Z
LAST-MODIFIED:20260109T214838Z
UID:10005221-1791108000-1791158340@thedoghousebarandgrill.com
SUMMARY:SUNDAY FUNDAY!
DESCRIPTION:Cash Bingo 1st and 3rd Sundays | 3:30pm\n\n\n\nCoach Purse Bingo 2nd\, 4th and 5th Sundays | 3:30pm\n\n\n\nMeat Raffle During Bingo\n\n\n\nTexas hold ’em at 7pm\n\n\n\nWin up to $100 in cash! \n\n\n\nALL DAY HAPPY HOUR
URL:https://thedoghousebarandgrill.com/calendar/sunday-funday-2/2026-10-04/
LOCATION:The Dog House Bar and Grill\, 2029 Woodlynn Ave\, St Paul\, MN\, 55109\, United States
ATTACH;FMTTYPE=image/jpeg:https://thedoghousebarandgrill.com/wp-content/uploads/2026/01/Bingo_real-image-at-Dog-House.jpg
END:VEVENT
BEGIN:VEVENT
DTSTART;TZID=America/Chicago:20261011T100000
DTEND;TZID=America/Chicago:20261011T235900
DTSTAMP:20260424T201301
CREATED:20260109T214810Z
LAST-MODIFIED:20260109T214838Z
UID:10005222-1791712800-1791763140@thedoghousebarandgrill.com
SUMMARY:SUNDAY FUNDAY!
DESCRIPTION:Cash Bingo 1st and 3rd Sundays | 3:30pm\n\n\n\nCoach Purse Bingo 2nd\, 4th and 5th Sundays | 3:30pm\n\n\n\nMeat Raffle During Bingo\n\n\n\nTexas hold ’em at 7pm\n\n\n\nWin up to $100 in cash! \n\n\n\nALL DAY HAPPY HOUR
URL:https://thedoghousebarandgrill.com/calendar/sunday-funday-2/2026-10-11/
LOCATION:The Dog House Bar and Grill\, 2029 Woodlynn Ave\, St Paul\, MN\, 55109\, United States
ATTACH;FMTTYPE=image/jpeg:https://thedoghousebarandgrill.com/wp-content/uploads/2026/01/Bingo_real-image-at-Dog-House.jpg
END:VEVENT
BEGIN:VEVENT
DTSTART;TZID=America/Chicago:20261018T100000
DTEND;TZID=America/Chicago:20261018T235900
DTSTAMP:20260424T201301
CREATED:20260109T214810Z
LAST-MODIFIED:20260109T214838Z
UID:10005223-1792317600-1792367940@thedoghousebarandgrill.com
SUMMARY:SUNDAY FUNDAY!
DESCRIPTION:Cash Bingo 1st and 3rd Sundays | 3:30pm\n\n\n\nCoach Purse Bingo 2nd\, 4th and 5th Sundays | 3:30pm\n\n\n\nMeat Raffle During Bingo\n\n\n\nTexas hold ’em at 7pm\n\n\n\nWin up to $100 in cash! \n\n\n\nALL DAY HAPPY HOUR
URL:https://thedoghousebarandgrill.com/calendar/sunday-funday-2/2026-10-18/
LOCATION:The Dog House Bar and Grill\, 2029 Woodlynn Ave\, St Paul\, MN\, 55109\, United States
ATTACH;FMTTYPE=image/jpeg:https://thedoghousebarandgrill.com/wp-content/uploads/2026/01/Bingo_real-image-at-Dog-House.jpg
END:VEVENT
BEGIN:VEVENT
DTSTART;TZID=America/Chicago:20261025T100000
DTEND;TZID=America/Chicago:20261025T235900
DTSTAMP:20260424T201301
CREATED:20260109T214810Z
LAST-MODIFIED:20260109T214838Z
UID:10005224-1792922400-1792972740@thedoghousebarandgrill.com
SUMMARY:SUNDAY FUNDAY!
DESCRIPTION:Cash Bingo 1st and 3rd Sundays | 3:30pm\n\n\n\nCoach Purse Bingo 2nd\, 4th and 5th Sundays | 3:30pm\n\n\n\nMeat Raffle During Bingo\n\n\n\nTexas hold ’em at 7pm\n\n\n\nWin up to $100 in cash! \n\n\n\nALL DAY HAPPY HOUR
URL:https://thedoghousebarandgrill.com/calendar/sunday-funday-2/2026-10-25/
LOCATION:The Dog House Bar and Grill\, 2029 Woodlynn Ave\, St Paul\, MN\, 55109\, United States
ATTACH;FMTTYPE=image/jpeg:https://thedoghousebarandgrill.com/wp-content/uploads/2026/01/Bingo_real-image-at-Dog-House.jpg
END:VEVENT
BEGIN:VEVENT
DTSTART;TZID=America/Chicago:20261101T100000
DTEND;TZID=America/Chicago:20261101T235900
DTSTAMP:20260424T201301
CREATED:20260109T214810Z
LAST-MODIFIED:20260109T214838Z
UID:10005225-1793527200-1793577540@thedoghousebarandgrill.com
SUMMARY:SUNDAY FUNDAY!
DESCRIPTION:Cash Bingo 1st and 3rd Sundays | 3:30pm\n\n\n\nCoach Purse Bingo 2nd\, 4th and 5th Sundays | 3:30pm\n\n\n\nMeat Raffle During Bingo\n\n\n\nTexas hold ’em at 7pm\n\n\n\nWin up to $100 in cash! \n\n\n\nALL DAY HAPPY HOUR
URL:https://thedoghousebarandgrill.com/calendar/sunday-funday-2/2026-11-01/
LOCATION:The Dog House Bar and Grill\, 2029 Woodlynn Ave\, St Paul\, MN\, 55109\, United States
ATTACH;FMTTYPE=image/jpeg:https://thedoghousebarandgrill.com/wp-content/uploads/2026/01/Bingo_real-image-at-Dog-House.jpg
END:VEVENT
BEGIN:VEVENT
DTSTART;TZID=America/Chicago:20261108T100000
DTEND;TZID=America/Chicago:20261108T235900
DTSTAMP:20260424T201301
CREATED:20260109T214810Z
LAST-MODIFIED:20260109T214838Z
UID:10005226-1794132000-1794182340@thedoghousebarandgrill.com
SUMMARY:SUNDAY FUNDAY!
DESCRIPTION:Cash Bingo 1st and 3rd Sundays | 3:30pm\n\n\n\nCoach Purse Bingo 2nd\, 4th and 5th Sundays | 3:30pm\n\n\n\nMeat Raffle During Bingo\n\n\n\nTexas hold ’em at 7pm\n\n\n\nWin up to $100 in cash! \n\n\n\nALL DAY HAPPY HOUR
URL:https://thedoghousebarandgrill.com/calendar/sunday-funday-2/2026-11-08/
LOCATION:The Dog House Bar and Grill\, 2029 Woodlynn Ave\, St Paul\, MN\, 55109\, United States
ATTACH;FMTTYPE=image/jpeg:https://thedoghousebarandgrill.com/wp-content/uploads/2026/01/Bingo_real-image-at-Dog-House.jpg
END:VEVENT
BEGIN:VEVENT
DTSTART;TZID=America/Chicago:20261115T100000
DTEND;TZID=America/Chicago:20261115T235900
DTSTAMP:20260424T201301
CREATED:20260109T214810Z
LAST-MODIFIED:20260109T214838Z
UID:10005227-1794736800-1794787140@thedoghousebarandgrill.com
SUMMARY:SUNDAY FUNDAY!
DESCRIPTION:Cash Bingo 1st and 3rd Sundays | 3:30pm\n\n\n\nCoach Purse Bingo 2nd\, 4th and 5th Sundays | 3:30pm\n\n\n\nMeat Raffle During Bingo\n\n\n\nTexas hold ’em at 7pm\n\n\n\nWin up to $100 in cash! \n\n\n\nALL DAY HAPPY HOUR
URL:https://thedoghousebarandgrill.com/calendar/sunday-funday-2/2026-11-15/
LOCATION:The Dog House Bar and Grill\, 2029 Woodlynn Ave\, St Paul\, MN\, 55109\, United States
ATTACH;FMTTYPE=image/jpeg:https://thedoghousebarandgrill.com/wp-content/uploads/2026/01/Bingo_real-image-at-Dog-House.jpg
END:VEVENT
END:VCALENDAR