BEGIN:VCALENDAR
VERSION:2.0
PRODID:-//The Dog House Bar and Grill - ECPv6.15.17.1//NONSGML v1.0//EN
CALSCALE:GREGORIAN
METHOD:PUBLISH
X-WR-CALNAME:The Dog House Bar and Grill
X-ORIGINAL-URL:https://thedoghousebarandgrill.com
X-WR-CALDESC:Events for The Dog House Bar and Grill
REFRESH-INTERVAL;VALUE=DURATION:PT1H
X-Robots-Tag:noindex
X-PUBLISHED-TTL:PT1H
BEGIN:VTIMEZONE
TZID:America/Chicago
BEGIN:DAYLIGHT
TZOFFSETFROM:-0600
TZOFFSETTO:-0500
TZNAME:CDT
DTSTART:20260308T080000
END:DAYLIGHT
BEGIN:STANDARD
TZOFFSETFROM:-0500
TZOFFSETTO:-0600
TZNAME:CST
DTSTART:20261101T070000
END:STANDARD
BEGIN:DAYLIGHT
TZOFFSETFROM:-0600
TZOFFSETTO:-0500
TZNAME:CDT
DTSTART:20270314T080000
END:DAYLIGHT
BEGIN:STANDARD
TZOFFSETFROM:-0500
TZOFFSETTO:-0600
TZNAME:CST
DTSTART:20271107T070000
END:STANDARD
BEGIN:DAYLIGHT
TZOFFSETFROM:-0600
TZOFFSETTO:-0500
TZNAME:CDT
DTSTART:20280312T080000
END:DAYLIGHT
BEGIN:STANDARD
TZOFFSETFROM:-0500
TZOFFSETTO:-0600
TZNAME:CST
DTSTART:20281105T070000
END:STANDARD
END:VTIMEZONE
BEGIN:VEVENT
DTSTART;VALUE=DATE:20270201
DTEND;VALUE=DATE:20270202
DTSTAMP:20260422T100342
CREATED:20240126T194845Z
LAST-MODIFIED:20260319T141939Z
UID:10003187-1801440000-1801526399@thedoghousebarandgrill.com
SUMMARY:MONDAY KARAOKE NIGHT & SPECIALS
DESCRIPTION: \nKaraoke With Ick: 9pm to 1am\n10PM – 1AM\nLate Night Happy Hour\n$1.50 OFF all alcoholic drinks\n$4-$8 Happy Appetizers\n\n+ $5 OFF All Burgers\, All Day!\n\n 
URL:https://thedoghousebarandgrill.com/calendar/monday-karaoke-night/2027-02-01/
LOCATION:The Dog House Bar and Grill\, 2029 Woodlynn Ave\, St Paul\, MN\, 55109\, United States
CATEGORIES:Karaoke,Weekdays
ATTACH;FMTTYPE=image/jpeg:https://thedoghousebarandgrill.com/wp-content/uploads/2024/01/Monday-Karaoke-Night-New-Dog-House.jpg
ORGANIZER;CN="The Dog House Bar and Grill":MAILTO:thedoghousemn@gmail.com
END:VEVENT
BEGIN:VEVENT
DTSTART;VALUE=DATE:20270202
DTEND;VALUE=DATE:20270203
DTSTAMP:20260422T100342
CREATED:20240126T201409Z
LAST-MODIFIED:20250924T190811Z
UID:10003450-1801526400-1801612799@thedoghousebarandgrill.com
SUMMARY:TUESDAY TRIVIA NIGHT
DESCRIPTION:  \nTRIVIA 7pm -9pm\nEach trivia event is based around a DJ experience combined with a trivia contest that offers fun competition for all\, along with prizes for the top teams. \nLIKE AND SHARE our posts on Facebook and/or Instagram then show us to receive 1 FREE trivia answer! \nLARGEST TEAM GETS FREE SHOTS! \n$1.50 WINGS ALL DAY
URL:https://thedoghousebarandgrill.com/calendar/tuesday-trivia-night/2027-02-02/
LOCATION:The Dog House Bar and Grill\, 2029 Woodlynn Ave\, St Paul\, MN\, 55109\, United States
CATEGORIES:Trivia,Weekdays
ATTACH;FMTTYPE=image/png:https://thedoghousebarandgrill.com/wp-content/uploads/2025/09/Tues.-Trivia-Wings-Night-Dog-House-.png
ORGANIZER;CN="The Dog House Bar and Grill":MAILTO:thedoghousemn@gmail.com
END:VEVENT
BEGIN:VEVENT
DTSTART;VALUE=DATE:20270203
DTEND;VALUE=DATE:20270204
DTSTAMP:20260422T100342
CREATED:20240126T202135Z
LAST-MODIFIED:20250924T190944Z
UID:10003712-1801612800-1801699199@thedoghousebarandgrill.com
SUMMARY:WEDNESDAY BINGO NIGHT
DESCRIPTION:Cash Bingo starts at 6:30pm\n$99 Games & 2 Guaranteed cover all $700 7 $1000\nMeat Raffle from Borcherts Meat market\n3 Ball Call!!!\n$2/Pulltab\nAvailable for purchase 90 minutes prior to bingo ONLY.  Save all the Pulltabs with bingo balls on them for a chances at: \nAn extra $200 payout on Game #1\nAn extra $400 payout on Game #2\nAn extra $500 payout on Game #3 \nNeed not play bingo to win these extra prizes!! \n+ Daily Chef Specials.\n(Ask your server/bartender or check our social media for details)
URL:https://thedoghousebarandgrill.com/calendar/wednesday-bingo-night/2027-02-03/
LOCATION:The Dog House Bar and Grill\, 2029 Woodlynn Ave\, St Paul\, MN\, 55109\, United States
CATEGORIES:Bingo,Weekdays
ATTACH;FMTTYPE=image/jpeg:https://thedoghousebarandgrill.com/wp-content/uploads/2021/11/cash-bingo-banner.jpg
ORGANIZER;CN="The Dog House Bar and Grill":MAILTO:thedoghousemn@gmail.com
END:VEVENT
BEGIN:VEVENT
DTSTART;TZID=America/Chicago:20270204T000000
DTEND;TZID=America/Chicago:20270204T235959
DTSTAMP:20260422T100342
CREATED:20260204T204951Z
LAST-MODIFIED:20260204T205008Z
UID:10005767-1801699200-1801785599@thedoghousebarandgrill.com
SUMMARY:THURSDAY SPECIALS
DESCRIPTION:Kids Eat Free Thursdays at The Dog House Bar & Grill! \n\n\n\nBring the whole family out every Thursday from 4PM–8PM and let the kids eat FREE! Enjoy great food\, a fun atmosphere\, and quality time together while saving on dinner. \n\n\n\nLimit one free kids meal from the kids menu per adult entrée purchased. Dine-in only. \n\n\n\n\n\n\n\n\n\n\n\nDJ & DANCING at 9:30pm with the Official MN Wild DJ himself: DJ YS \n\n\n\nHappy Hour 11am-6pm & 9pm – 11pm
URL:https://thedoghousebarandgrill.com/calendar/thursday-specials/2027-02-04/
LOCATION:The Dog House Bar and Grill\, 2029 Woodlynn Ave\, St Paul\, MN\, 55109\, United States
ATTACH;FMTTYPE=image/jpeg:https://thedoghousebarandgrill.com/wp-content/uploads/2024/01/Kids-Eat-Free-Thurs-DogHouse.jpg
END:VEVENT
BEGIN:VEVENT
DTSTART;TZID=America/Chicago:20270207T100000
DTEND;TZID=America/Chicago:20270207T235900
DTSTAMP:20260422T100343
CREATED:20260109T214810Z
LAST-MODIFIED:20260109T214838Z
UID:10005239-1801994400-1802044740@thedoghousebarandgrill.com
SUMMARY:SUNDAY FUNDAY!
DESCRIPTION:Cash Bingo 1st and 3rd Sundays | 3:30pm\n\n\n\nCoach Purse Bingo 2nd\, 4th and 5th Sundays | 3:30pm\n\n\n\nMeat Raffle During Bingo\n\n\n\nTexas hold ’em at 7pm\n\n\n\nWin up to $100 in cash! \n\n\n\nALL DAY HAPPY HOUR
URL:https://thedoghousebarandgrill.com/calendar/sunday-funday-2/2027-02-07/
LOCATION:The Dog House Bar and Grill\, 2029 Woodlynn Ave\, St Paul\, MN\, 55109\, United States
ATTACH;FMTTYPE=image/jpeg:https://thedoghousebarandgrill.com/wp-content/uploads/2026/01/Bingo_real-image-at-Dog-House.jpg
END:VEVENT
BEGIN:VEVENT
DTSTART;TZID=America/Chicago:20270207T190000
DTEND;TZID=America/Chicago:20270207T220000
DTSTAMP:20260422T100343
CREATED:20250212T035145Z
LAST-MODIFIED:20250212T035145Z
UID:10002925-1802026800-1802037600@thedoghousebarandgrill.com
SUMMARY:FREE Poker Night
DESCRIPTION:FREE TEXAS HOLD ‘EM!\nThe more players the bigger the payout\, so share this with your friends! \nLast sunday of the month we are doing a Bigger Payout Game ($100 cash\, $60 cash\, $25 gift card\, $15 gift card)
URL:https://thedoghousebarandgrill.com/calendar/free-poker-night/2027-02-07/
LOCATION:The Dog House Bar and Grill\, 2029 Woodlynn Ave\, St Paul\, MN\, 55109\, United States
CATEGORIES:Live Music
ATTACH;FMTTYPE=image/png:https://thedoghousebarandgrill.com/wp-content/uploads/2025/02/Poker-Night-Sundays-Doghouse.png
ORGANIZER;CN="The Dog House Bar and Grill":MAILTO:thedoghousemn@gmail.com
END:VEVENT
BEGIN:VEVENT
DTSTART;VALUE=DATE:20270208
DTEND;VALUE=DATE:20270209
DTSTAMP:20260422T100343
CREATED:20240126T194845Z
LAST-MODIFIED:20260319T141939Z
UID:10003188-1802044800-1802131199@thedoghousebarandgrill.com
SUMMARY:MONDAY KARAOKE NIGHT & SPECIALS
DESCRIPTION: \nKaraoke With Ick: 9pm to 1am\n10PM – 1AM\nLate Night Happy Hour\n$1.50 OFF all alcoholic drinks\n$4-$8 Happy Appetizers\n\n+ $5 OFF All Burgers\, All Day!\n\n 
URL:https://thedoghousebarandgrill.com/calendar/monday-karaoke-night/2027-02-08/
LOCATION:The Dog House Bar and Grill\, 2029 Woodlynn Ave\, St Paul\, MN\, 55109\, United States
CATEGORIES:Karaoke,Weekdays
ATTACH;FMTTYPE=image/jpeg:https://thedoghousebarandgrill.com/wp-content/uploads/2024/01/Monday-Karaoke-Night-New-Dog-House.jpg
ORGANIZER;CN="The Dog House Bar and Grill":MAILTO:thedoghousemn@gmail.com
END:VEVENT
BEGIN:VEVENT
DTSTART;VALUE=DATE:20270209
DTEND;VALUE=DATE:20270210
DTSTAMP:20260422T100343
CREATED:20240126T201409Z
LAST-MODIFIED:20250924T190811Z
UID:10003451-1802131200-1802217599@thedoghousebarandgrill.com
SUMMARY:TUESDAY TRIVIA NIGHT
DESCRIPTION:  \nTRIVIA 7pm -9pm\nEach trivia event is based around a DJ experience combined with a trivia contest that offers fun competition for all\, along with prizes for the top teams. \nLIKE AND SHARE our posts on Facebook and/or Instagram then show us to receive 1 FREE trivia answer! \nLARGEST TEAM GETS FREE SHOTS! \n$1.50 WINGS ALL DAY
URL:https://thedoghousebarandgrill.com/calendar/tuesday-trivia-night/2027-02-09/
LOCATION:The Dog House Bar and Grill\, 2029 Woodlynn Ave\, St Paul\, MN\, 55109\, United States
CATEGORIES:Trivia,Weekdays
ATTACH;FMTTYPE=image/png:https://thedoghousebarandgrill.com/wp-content/uploads/2025/09/Tues.-Trivia-Wings-Night-Dog-House-.png
ORGANIZER;CN="The Dog House Bar and Grill":MAILTO:thedoghousemn@gmail.com
END:VEVENT
BEGIN:VEVENT
DTSTART;VALUE=DATE:20270210
DTEND;VALUE=DATE:20270211
DTSTAMP:20260422T100343
CREATED:20240126T202135Z
LAST-MODIFIED:20250924T190944Z
UID:10003713-1802217600-1802303999@thedoghousebarandgrill.com
SUMMARY:WEDNESDAY BINGO NIGHT
DESCRIPTION:Cash Bingo starts at 6:30pm\n$99 Games & 2 Guaranteed cover all $700 7 $1000\nMeat Raffle from Borcherts Meat market\n3 Ball Call!!!\n$2/Pulltab\nAvailable for purchase 90 minutes prior to bingo ONLY.  Save all the Pulltabs with bingo balls on them for a chances at: \nAn extra $200 payout on Game #1\nAn extra $400 payout on Game #2\nAn extra $500 payout on Game #3 \nNeed not play bingo to win these extra prizes!! \n+ Daily Chef Specials.\n(Ask your server/bartender or check our social media for details)
URL:https://thedoghousebarandgrill.com/calendar/wednesday-bingo-night/2027-02-10/
LOCATION:The Dog House Bar and Grill\, 2029 Woodlynn Ave\, St Paul\, MN\, 55109\, United States
CATEGORIES:Bingo,Weekdays
ATTACH;FMTTYPE=image/jpeg:https://thedoghousebarandgrill.com/wp-content/uploads/2021/11/cash-bingo-banner.jpg
ORGANIZER;CN="The Dog House Bar and Grill":MAILTO:thedoghousemn@gmail.com
END:VEVENT
BEGIN:VEVENT
DTSTART;TZID=America/Chicago:20270211T000000
DTEND;TZID=America/Chicago:20270211T235959
DTSTAMP:20260422T100343
CREATED:20260204T204951Z
LAST-MODIFIED:20260204T205008Z
UID:10005768-1802304000-1802390399@thedoghousebarandgrill.com
SUMMARY:THURSDAY SPECIALS
DESCRIPTION:Kids Eat Free Thursdays at The Dog House Bar & Grill! \n\n\n\nBring the whole family out every Thursday from 4PM–8PM and let the kids eat FREE! Enjoy great food\, a fun atmosphere\, and quality time together while saving on dinner. \n\n\n\nLimit one free kids meal from the kids menu per adult entrée purchased. Dine-in only. \n\n\n\n\n\n\n\n\n\n\n\nDJ & DANCING at 9:30pm with the Official MN Wild DJ himself: DJ YS \n\n\n\nHappy Hour 11am-6pm & 9pm – 11pm
URL:https://thedoghousebarandgrill.com/calendar/thursday-specials/2027-02-11/
LOCATION:The Dog House Bar and Grill\, 2029 Woodlynn Ave\, St Paul\, MN\, 55109\, United States
ATTACH;FMTTYPE=image/jpeg:https://thedoghousebarandgrill.com/wp-content/uploads/2024/01/Kids-Eat-Free-Thurs-DogHouse.jpg
END:VEVENT
BEGIN:VEVENT
DTSTART;TZID=America/Chicago:20270214T100000
DTEND;TZID=America/Chicago:20270214T235900
DTSTAMP:20260422T100343
CREATED:20260109T214810Z
LAST-MODIFIED:20260109T214838Z
UID:10005240-1802599200-1802649540@thedoghousebarandgrill.com
SUMMARY:SUNDAY FUNDAY!
DESCRIPTION:Cash Bingo 1st and 3rd Sundays | 3:30pm\n\n\n\nCoach Purse Bingo 2nd\, 4th and 5th Sundays | 3:30pm\n\n\n\nMeat Raffle During Bingo\n\n\n\nTexas hold ’em at 7pm\n\n\n\nWin up to $100 in cash! \n\n\n\nALL DAY HAPPY HOUR
URL:https://thedoghousebarandgrill.com/calendar/sunday-funday-2/2027-02-14/
LOCATION:The Dog House Bar and Grill\, 2029 Woodlynn Ave\, St Paul\, MN\, 55109\, United States
ATTACH;FMTTYPE=image/jpeg:https://thedoghousebarandgrill.com/wp-content/uploads/2026/01/Bingo_real-image-at-Dog-House.jpg
END:VEVENT
BEGIN:VEVENT
DTSTART;TZID=America/Chicago:20270214T190000
DTEND;TZID=America/Chicago:20270214T220000
DTSTAMP:20260422T100343
CREATED:20250212T035145Z
LAST-MODIFIED:20250212T035145Z
UID:10002926-1802631600-1802642400@thedoghousebarandgrill.com
SUMMARY:FREE Poker Night
DESCRIPTION:FREE TEXAS HOLD ‘EM!\nThe more players the bigger the payout\, so share this with your friends! \nLast sunday of the month we are doing a Bigger Payout Game ($100 cash\, $60 cash\, $25 gift card\, $15 gift card)
URL:https://thedoghousebarandgrill.com/calendar/free-poker-night/2027-02-14/
LOCATION:The Dog House Bar and Grill\, 2029 Woodlynn Ave\, St Paul\, MN\, 55109\, United States
CATEGORIES:Live Music
ATTACH;FMTTYPE=image/png:https://thedoghousebarandgrill.com/wp-content/uploads/2025/02/Poker-Night-Sundays-Doghouse.png
ORGANIZER;CN="The Dog House Bar and Grill":MAILTO:thedoghousemn@gmail.com
END:VEVENT
BEGIN:VEVENT
DTSTART;VALUE=DATE:20270215
DTEND;VALUE=DATE:20270216
DTSTAMP:20260422T100343
CREATED:20240126T194845Z
LAST-MODIFIED:20260319T141939Z
UID:10003189-1802649600-1802735999@thedoghousebarandgrill.com
SUMMARY:MONDAY KARAOKE NIGHT & SPECIALS
DESCRIPTION: \nKaraoke With Ick: 9pm to 1am\n10PM – 1AM\nLate Night Happy Hour\n$1.50 OFF all alcoholic drinks\n$4-$8 Happy Appetizers\n\n+ $5 OFF All Burgers\, All Day!\n\n 
URL:https://thedoghousebarandgrill.com/calendar/monday-karaoke-night/2027-02-15/
LOCATION:The Dog House Bar and Grill\, 2029 Woodlynn Ave\, St Paul\, MN\, 55109\, United States
CATEGORIES:Karaoke,Weekdays
ATTACH;FMTTYPE=image/jpeg:https://thedoghousebarandgrill.com/wp-content/uploads/2024/01/Monday-Karaoke-Night-New-Dog-House.jpg
ORGANIZER;CN="The Dog House Bar and Grill":MAILTO:thedoghousemn@gmail.com
END:VEVENT
BEGIN:VEVENT
DTSTART;VALUE=DATE:20270216
DTEND;VALUE=DATE:20270217
DTSTAMP:20260422T100343
CREATED:20240126T201409Z
LAST-MODIFIED:20250924T190811Z
UID:10003452-1802736000-1802822399@thedoghousebarandgrill.com
SUMMARY:TUESDAY TRIVIA NIGHT
DESCRIPTION:  \nTRIVIA 7pm -9pm\nEach trivia event is based around a DJ experience combined with a trivia contest that offers fun competition for all\, along with prizes for the top teams. \nLIKE AND SHARE our posts on Facebook and/or Instagram then show us to receive 1 FREE trivia answer! \nLARGEST TEAM GETS FREE SHOTS! \n$1.50 WINGS ALL DAY
URL:https://thedoghousebarandgrill.com/calendar/tuesday-trivia-night/2027-02-16/
LOCATION:The Dog House Bar and Grill\, 2029 Woodlynn Ave\, St Paul\, MN\, 55109\, United States
CATEGORIES:Trivia,Weekdays
ATTACH;FMTTYPE=image/png:https://thedoghousebarandgrill.com/wp-content/uploads/2025/09/Tues.-Trivia-Wings-Night-Dog-House-.png
ORGANIZER;CN="The Dog House Bar and Grill":MAILTO:thedoghousemn@gmail.com
END:VEVENT
BEGIN:VEVENT
DTSTART;VALUE=DATE:20270217
DTEND;VALUE=DATE:20270218
DTSTAMP:20260422T100343
CREATED:20240126T202135Z
LAST-MODIFIED:20250924T190944Z
UID:10003714-1802822400-1802908799@thedoghousebarandgrill.com
SUMMARY:WEDNESDAY BINGO NIGHT
DESCRIPTION:Cash Bingo starts at 6:30pm\n$99 Games & 2 Guaranteed cover all $700 7 $1000\nMeat Raffle from Borcherts Meat market\n3 Ball Call!!!\n$2/Pulltab\nAvailable for purchase 90 minutes prior to bingo ONLY.  Save all the Pulltabs with bingo balls on them for a chances at: \nAn extra $200 payout on Game #1\nAn extra $400 payout on Game #2\nAn extra $500 payout on Game #3 \nNeed not play bingo to win these extra prizes!! \n+ Daily Chef Specials.\n(Ask your server/bartender or check our social media for details)
URL:https://thedoghousebarandgrill.com/calendar/wednesday-bingo-night/2027-02-17/
LOCATION:The Dog House Bar and Grill\, 2029 Woodlynn Ave\, St Paul\, MN\, 55109\, United States
CATEGORIES:Bingo,Weekdays
ATTACH;FMTTYPE=image/jpeg:https://thedoghousebarandgrill.com/wp-content/uploads/2021/11/cash-bingo-banner.jpg
ORGANIZER;CN="The Dog House Bar and Grill":MAILTO:thedoghousemn@gmail.com
END:VEVENT
BEGIN:VEVENT
DTSTART;TZID=America/Chicago:20270218T000000
DTEND;TZID=America/Chicago:20270218T235959
DTSTAMP:20260422T100343
CREATED:20260204T204951Z
LAST-MODIFIED:20260204T205008Z
UID:10005769-1802908800-1802995199@thedoghousebarandgrill.com
SUMMARY:THURSDAY SPECIALS
DESCRIPTION:Kids Eat Free Thursdays at The Dog House Bar & Grill! \n\n\n\nBring the whole family out every Thursday from 4PM–8PM and let the kids eat FREE! Enjoy great food\, a fun atmosphere\, and quality time together while saving on dinner. \n\n\n\nLimit one free kids meal from the kids menu per adult entrée purchased. Dine-in only. \n\n\n\n\n\n\n\n\n\n\n\nDJ & DANCING at 9:30pm with the Official MN Wild DJ himself: DJ YS \n\n\n\nHappy Hour 11am-6pm & 9pm – 11pm
URL:https://thedoghousebarandgrill.com/calendar/thursday-specials/2027-02-18/
LOCATION:The Dog House Bar and Grill\, 2029 Woodlynn Ave\, St Paul\, MN\, 55109\, United States
ATTACH;FMTTYPE=image/jpeg:https://thedoghousebarandgrill.com/wp-content/uploads/2024/01/Kids-Eat-Free-Thurs-DogHouse.jpg
END:VEVENT
BEGIN:VEVENT
DTSTART;TZID=America/Chicago:20270221T100000
DTEND;TZID=America/Chicago:20270221T235900
DTSTAMP:20260422T100343
CREATED:20260109T214810Z
LAST-MODIFIED:20260109T214838Z
UID:10005241-1803204000-1803254340@thedoghousebarandgrill.com
SUMMARY:SUNDAY FUNDAY!
DESCRIPTION:Cash Bingo 1st and 3rd Sundays | 3:30pm\n\n\n\nCoach Purse Bingo 2nd\, 4th and 5th Sundays | 3:30pm\n\n\n\nMeat Raffle During Bingo\n\n\n\nTexas hold ’em at 7pm\n\n\n\nWin up to $100 in cash! \n\n\n\nALL DAY HAPPY HOUR
URL:https://thedoghousebarandgrill.com/calendar/sunday-funday-2/2027-02-21/
LOCATION:The Dog House Bar and Grill\, 2029 Woodlynn Ave\, St Paul\, MN\, 55109\, United States
ATTACH;FMTTYPE=image/jpeg:https://thedoghousebarandgrill.com/wp-content/uploads/2026/01/Bingo_real-image-at-Dog-House.jpg
END:VEVENT
BEGIN:VEVENT
DTSTART;TZID=America/Chicago:20270221T190000
DTEND;TZID=America/Chicago:20270221T220000
DTSTAMP:20260422T100343
CREATED:20250212T035145Z
LAST-MODIFIED:20250212T035145Z
UID:10002927-1803236400-1803247200@thedoghousebarandgrill.com
SUMMARY:FREE Poker Night
DESCRIPTION:FREE TEXAS HOLD ‘EM!\nThe more players the bigger the payout\, so share this with your friends! \nLast sunday of the month we are doing a Bigger Payout Game ($100 cash\, $60 cash\, $25 gift card\, $15 gift card)
URL:https://thedoghousebarandgrill.com/calendar/free-poker-night/2027-02-21/
LOCATION:The Dog House Bar and Grill\, 2029 Woodlynn Ave\, St Paul\, MN\, 55109\, United States
CATEGORIES:Live Music
ATTACH;FMTTYPE=image/png:https://thedoghousebarandgrill.com/wp-content/uploads/2025/02/Poker-Night-Sundays-Doghouse.png
ORGANIZER;CN="The Dog House Bar and Grill":MAILTO:thedoghousemn@gmail.com
END:VEVENT
BEGIN:VEVENT
DTSTART;VALUE=DATE:20270222
DTEND;VALUE=DATE:20270223
DTSTAMP:20260422T100343
CREATED:20240126T194845Z
LAST-MODIFIED:20260319T141939Z
UID:10003190-1803254400-1803340799@thedoghousebarandgrill.com
SUMMARY:MONDAY KARAOKE NIGHT & SPECIALS
DESCRIPTION: \nKaraoke With Ick: 9pm to 1am\n10PM – 1AM\nLate Night Happy Hour\n$1.50 OFF all alcoholic drinks\n$4-$8 Happy Appetizers\n\n+ $5 OFF All Burgers\, All Day!\n\n 
URL:https://thedoghousebarandgrill.com/calendar/monday-karaoke-night/2027-02-22/
LOCATION:The Dog House Bar and Grill\, 2029 Woodlynn Ave\, St Paul\, MN\, 55109\, United States
CATEGORIES:Karaoke,Weekdays
ATTACH;FMTTYPE=image/jpeg:https://thedoghousebarandgrill.com/wp-content/uploads/2024/01/Monday-Karaoke-Night-New-Dog-House.jpg
ORGANIZER;CN="The Dog House Bar and Grill":MAILTO:thedoghousemn@gmail.com
END:VEVENT
BEGIN:VEVENT
DTSTART;VALUE=DATE:20270223
DTEND;VALUE=DATE:20270224
DTSTAMP:20260422T100343
CREATED:20240126T201409Z
LAST-MODIFIED:20250924T190811Z
UID:10003453-1803340800-1803427199@thedoghousebarandgrill.com
SUMMARY:TUESDAY TRIVIA NIGHT
DESCRIPTION:  \nTRIVIA 7pm -9pm\nEach trivia event is based around a DJ experience combined with a trivia contest that offers fun competition for all\, along with prizes for the top teams. \nLIKE AND SHARE our posts on Facebook and/or Instagram then show us to receive 1 FREE trivia answer! \nLARGEST TEAM GETS FREE SHOTS! \n$1.50 WINGS ALL DAY
URL:https://thedoghousebarandgrill.com/calendar/tuesday-trivia-night/2027-02-23/
LOCATION:The Dog House Bar and Grill\, 2029 Woodlynn Ave\, St Paul\, MN\, 55109\, United States
CATEGORIES:Trivia,Weekdays
ATTACH;FMTTYPE=image/png:https://thedoghousebarandgrill.com/wp-content/uploads/2025/09/Tues.-Trivia-Wings-Night-Dog-House-.png
ORGANIZER;CN="The Dog House Bar and Grill":MAILTO:thedoghousemn@gmail.com
END:VEVENT
BEGIN:VEVENT
DTSTART;VALUE=DATE:20270224
DTEND;VALUE=DATE:20270225
DTSTAMP:20260422T100343
CREATED:20240126T202135Z
LAST-MODIFIED:20250924T190944Z
UID:10003715-1803427200-1803513599@thedoghousebarandgrill.com
SUMMARY:WEDNESDAY BINGO NIGHT
DESCRIPTION:Cash Bingo starts at 6:30pm\n$99 Games & 2 Guaranteed cover all $700 7 $1000\nMeat Raffle from Borcherts Meat market\n3 Ball Call!!!\n$2/Pulltab\nAvailable for purchase 90 minutes prior to bingo ONLY.  Save all the Pulltabs with bingo balls on them for a chances at: \nAn extra $200 payout on Game #1\nAn extra $400 payout on Game #2\nAn extra $500 payout on Game #3 \nNeed not play bingo to win these extra prizes!! \n+ Daily Chef Specials.\n(Ask your server/bartender or check our social media for details)
URL:https://thedoghousebarandgrill.com/calendar/wednesday-bingo-night/2027-02-24/
LOCATION:The Dog House Bar and Grill\, 2029 Woodlynn Ave\, St Paul\, MN\, 55109\, United States
CATEGORIES:Bingo,Weekdays
ATTACH;FMTTYPE=image/jpeg:https://thedoghousebarandgrill.com/wp-content/uploads/2021/11/cash-bingo-banner.jpg
ORGANIZER;CN="The Dog House Bar and Grill":MAILTO:thedoghousemn@gmail.com
END:VEVENT
BEGIN:VEVENT
DTSTART;TZID=America/Chicago:20270225T000000
DTEND;TZID=America/Chicago:20270225T235959
DTSTAMP:20260422T100343
CREATED:20260204T204951Z
LAST-MODIFIED:20260204T205008Z
UID:10005770-1803513600-1803599999@thedoghousebarandgrill.com
SUMMARY:THURSDAY SPECIALS
DESCRIPTION:Kids Eat Free Thursdays at The Dog House Bar & Grill! \n\n\n\nBring the whole family out every Thursday from 4PM–8PM and let the kids eat FREE! Enjoy great food\, a fun atmosphere\, and quality time together while saving on dinner. \n\n\n\nLimit one free kids meal from the kids menu per adult entrée purchased. Dine-in only. \n\n\n\n\n\n\n\n\n\n\n\nDJ & DANCING at 9:30pm with the Official MN Wild DJ himself: DJ YS \n\n\n\nHappy Hour 11am-6pm & 9pm – 11pm
URL:https://thedoghousebarandgrill.com/calendar/thursday-specials/2027-02-25/
LOCATION:The Dog House Bar and Grill\, 2029 Woodlynn Ave\, St Paul\, MN\, 55109\, United States
ATTACH;FMTTYPE=image/jpeg:https://thedoghousebarandgrill.com/wp-content/uploads/2024/01/Kids-Eat-Free-Thurs-DogHouse.jpg
END:VEVENT
BEGIN:VEVENT
DTSTART;TZID=America/Chicago:20270228T100000
DTEND;TZID=America/Chicago:20270228T235900
DTSTAMP:20260422T100343
CREATED:20260109T214810Z
LAST-MODIFIED:20260109T214838Z
UID:10005242-1803808800-1803859140@thedoghousebarandgrill.com
SUMMARY:SUNDAY FUNDAY!
DESCRIPTION:Cash Bingo 1st and 3rd Sundays | 3:30pm\n\n\n\nCoach Purse Bingo 2nd\, 4th and 5th Sundays | 3:30pm\n\n\n\nMeat Raffle During Bingo\n\n\n\nTexas hold ’em at 7pm\n\n\n\nWin up to $100 in cash! \n\n\n\nALL DAY HAPPY HOUR
URL:https://thedoghousebarandgrill.com/calendar/sunday-funday-2/2027-02-28/
LOCATION:The Dog House Bar and Grill\, 2029 Woodlynn Ave\, St Paul\, MN\, 55109\, United States
ATTACH;FMTTYPE=image/jpeg:https://thedoghousebarandgrill.com/wp-content/uploads/2026/01/Bingo_real-image-at-Dog-House.jpg
END:VEVENT
BEGIN:VEVENT
DTSTART;TZID=America/Chicago:20270228T190000
DTEND;TZID=America/Chicago:20270228T220000
DTSTAMP:20260422T100343
CREATED:20250212T035145Z
LAST-MODIFIED:20250212T035145Z
UID:10002928-1803841200-1803852000@thedoghousebarandgrill.com
SUMMARY:FREE Poker Night
DESCRIPTION:FREE TEXAS HOLD ‘EM!\nThe more players the bigger the payout\, so share this with your friends! \nLast sunday of the month we are doing a Bigger Payout Game ($100 cash\, $60 cash\, $25 gift card\, $15 gift card)
URL:https://thedoghousebarandgrill.com/calendar/free-poker-night/2027-02-28/
LOCATION:The Dog House Bar and Grill\, 2029 Woodlynn Ave\, St Paul\, MN\, 55109\, United States
CATEGORIES:Live Music
ATTACH;FMTTYPE=image/png:https://thedoghousebarandgrill.com/wp-content/uploads/2025/02/Poker-Night-Sundays-Doghouse.png
ORGANIZER;CN="The Dog House Bar and Grill":MAILTO:thedoghousemn@gmail.com
END:VEVENT
END:VCALENDAR