BEGIN:VCALENDAR
VERSION:2.0
PRODID:-//The Dog House Bar and Grill - ECPv6.15.17.1//NONSGML v1.0//EN
CALSCALE:GREGORIAN
METHOD:PUBLISH
X-WR-CALNAME:The Dog House Bar and Grill
X-ORIGINAL-URL:https://thedoghousebarandgrill.com
X-WR-CALDESC:Events for The Dog House Bar and Grill
REFRESH-INTERVAL;VALUE=DURATION:PT1H
X-Robots-Tag:noindex
X-PUBLISHED-TTL:PT1H
BEGIN:VTIMEZONE
TZID:America/Chicago
BEGIN:DAYLIGHT
TZOFFSETFROM:-0600
TZOFFSETTO:-0500
TZNAME:CDT
DTSTART:20250309T080000
END:DAYLIGHT
BEGIN:STANDARD
TZOFFSETFROM:-0500
TZOFFSETTO:-0600
TZNAME:CST
DTSTART:20251102T070000
END:STANDARD
BEGIN:DAYLIGHT
TZOFFSETFROM:-0600
TZOFFSETTO:-0500
TZNAME:CDT
DTSTART:20260308T080000
END:DAYLIGHT
BEGIN:STANDARD
TZOFFSETFROM:-0500
TZOFFSETTO:-0600
TZNAME:CST
DTSTART:20261101T070000
END:STANDARD
BEGIN:DAYLIGHT
TZOFFSETFROM:-0600
TZOFFSETTO:-0500
TZNAME:CDT
DTSTART:20270314T080000
END:DAYLIGHT
BEGIN:STANDARD
TZOFFSETFROM:-0500
TZOFFSETTO:-0600
TZNAME:CST
DTSTART:20271107T070000
END:STANDARD
END:VTIMEZONE
BEGIN:VEVENT
DTSTART;TZID=America/Chicago:20261101T100000
DTEND;TZID=America/Chicago:20261101T235900
DTSTAMP:20260422T051057
CREATED:20260109T214810Z
LAST-MODIFIED:20260109T214838Z
UID:10005225-1793527200-1793577540@thedoghousebarandgrill.com
SUMMARY:SUNDAY FUNDAY!
DESCRIPTION:Cash Bingo 1st and 3rd Sundays | 3:30pm\n\n\n\nCoach Purse Bingo 2nd\, 4th and 5th Sundays | 3:30pm\n\n\n\nMeat Raffle During Bingo\n\n\n\nTexas hold ’em at 7pm\n\n\n\nWin up to $100 in cash! \n\n\n\nALL DAY HAPPY HOUR
URL:https://thedoghousebarandgrill.com/calendar/sunday-funday-2/2026-11-01/
LOCATION:The Dog House Bar and Grill\, 2029 Woodlynn Ave\, St Paul\, MN\, 55109\, United States
ATTACH;FMTTYPE=image/jpeg:https://thedoghousebarandgrill.com/wp-content/uploads/2026/01/Bingo_real-image-at-Dog-House.jpg
END:VEVENT
BEGIN:VEVENT
DTSTART;TZID=America/Chicago:20261101T190000
DTEND;TZID=America/Chicago:20261101T220000
DTSTAMP:20260422T051057
CREATED:20250212T035145Z
LAST-MODIFIED:20250212T035145Z
UID:10002911-1793559600-1793570400@thedoghousebarandgrill.com
SUMMARY:FREE Poker Night
DESCRIPTION:FREE TEXAS HOLD ‘EM!\nThe more players the bigger the payout\, so share this with your friends! \nLast sunday of the month we are doing a Bigger Payout Game ($100 cash\, $60 cash\, $25 gift card\, $15 gift card)
URL:https://thedoghousebarandgrill.com/calendar/free-poker-night/2026-11-01/
LOCATION:The Dog House Bar and Grill\, 2029 Woodlynn Ave\, St Paul\, MN\, 55109\, United States
CATEGORIES:Live Music
ATTACH;FMTTYPE=image/png:https://thedoghousebarandgrill.com/wp-content/uploads/2025/02/Poker-Night-Sundays-Doghouse.png
ORGANIZER;CN="The Dog House Bar and Grill":MAILTO:thedoghousemn@gmail.com
END:VEVENT
BEGIN:VEVENT
DTSTART;VALUE=DATE:20261102
DTEND;VALUE=DATE:20261103
DTSTAMP:20260422T051057
CREATED:20240126T194845Z
LAST-MODIFIED:20260319T141939Z
UID:10003174-1793577600-1793663999@thedoghousebarandgrill.com
SUMMARY:MONDAY KARAOKE NIGHT & SPECIALS
DESCRIPTION: \nKaraoke With Ick: 9pm to 1am\n10PM – 1AM\nLate Night Happy Hour\n$1.50 OFF all alcoholic drinks\n$4-$8 Happy Appetizers\n\n+ $5 OFF All Burgers\, All Day!\n\n 
URL:https://thedoghousebarandgrill.com/calendar/monday-karaoke-night/2026-11-02/
LOCATION:The Dog House Bar and Grill\, 2029 Woodlynn Ave\, St Paul\, MN\, 55109\, United States
CATEGORIES:Karaoke,Weekdays
ATTACH;FMTTYPE=image/jpeg:https://thedoghousebarandgrill.com/wp-content/uploads/2024/01/Monday-Karaoke-Night-New-Dog-House.jpg
ORGANIZER;CN="The Dog House Bar and Grill":MAILTO:thedoghousemn@gmail.com
END:VEVENT
BEGIN:VEVENT
DTSTART;VALUE=DATE:20261103
DTEND;VALUE=DATE:20261104
DTSTAMP:20260422T051057
CREATED:20240126T201409Z
LAST-MODIFIED:20250924T190811Z
UID:10003437-1793664000-1793750399@thedoghousebarandgrill.com
SUMMARY:TUESDAY TRIVIA NIGHT
DESCRIPTION:  \nTRIVIA 7pm -9pm\nEach trivia event is based around a DJ experience combined with a trivia contest that offers fun competition for all\, along with prizes for the top teams. \nLIKE AND SHARE our posts on Facebook and/or Instagram then show us to receive 1 FREE trivia answer! \nLARGEST TEAM GETS FREE SHOTS! \n$1.50 WINGS ALL DAY
URL:https://thedoghousebarandgrill.com/calendar/tuesday-trivia-night/2026-11-03/
LOCATION:The Dog House Bar and Grill\, 2029 Woodlynn Ave\, St Paul\, MN\, 55109\, United States
CATEGORIES:Trivia,Weekdays
ATTACH;FMTTYPE=image/png:https://thedoghousebarandgrill.com/wp-content/uploads/2025/09/Tues.-Trivia-Wings-Night-Dog-House-.png
ORGANIZER;CN="The Dog House Bar and Grill":MAILTO:thedoghousemn@gmail.com
END:VEVENT
BEGIN:VEVENT
DTSTART;VALUE=DATE:20261104
DTEND;VALUE=DATE:20261105
DTSTAMP:20260422T051057
CREATED:20240126T202135Z
LAST-MODIFIED:20250924T190944Z
UID:10003699-1793750400-1793836799@thedoghousebarandgrill.com
SUMMARY:WEDNESDAY BINGO NIGHT
DESCRIPTION:Cash Bingo starts at 6:30pm\n$99 Games & 2 Guaranteed cover all $700 7 $1000\nMeat Raffle from Borcherts Meat market\n3 Ball Call!!!\n$2/Pulltab\nAvailable for purchase 90 minutes prior to bingo ONLY.  Save all the Pulltabs with bingo balls on them for a chances at: \nAn extra $200 payout on Game #1\nAn extra $400 payout on Game #2\nAn extra $500 payout on Game #3 \nNeed not play bingo to win these extra prizes!! \n+ Daily Chef Specials.\n(Ask your server/bartender or check our social media for details)
URL:https://thedoghousebarandgrill.com/calendar/wednesday-bingo-night/2026-11-04/
LOCATION:The Dog House Bar and Grill\, 2029 Woodlynn Ave\, St Paul\, MN\, 55109\, United States
CATEGORIES:Bingo,Weekdays
ATTACH;FMTTYPE=image/jpeg:https://thedoghousebarandgrill.com/wp-content/uploads/2021/11/cash-bingo-banner.jpg
ORGANIZER;CN="The Dog House Bar and Grill":MAILTO:thedoghousemn@gmail.com
END:VEVENT
BEGIN:VEVENT
DTSTART;TZID=America/Chicago:20261105T000000
DTEND;TZID=America/Chicago:20261105T235959
DTSTAMP:20260422T051057
CREATED:20260204T204951Z
LAST-MODIFIED:20260204T205008Z
UID:10005754-1793836800-1793923199@thedoghousebarandgrill.com
SUMMARY:THURSDAY SPECIALS
DESCRIPTION:Kids Eat Free Thursdays at The Dog House Bar & Grill! \n\n\n\nBring the whole family out every Thursday from 4PM–8PM and let the kids eat FREE! Enjoy great food\, a fun atmosphere\, and quality time together while saving on dinner. \n\n\n\nLimit one free kids meal from the kids menu per adult entrée purchased. Dine-in only. \n\n\n\n\n\n\n\n\n\n\n\nDJ & DANCING at 9:30pm with the Official MN Wild DJ himself: DJ YS \n\n\n\nHappy Hour 11am-6pm & 9pm – 11pm
URL:https://thedoghousebarandgrill.com/calendar/thursday-specials/2026-11-05/
LOCATION:The Dog House Bar and Grill\, 2029 Woodlynn Ave\, St Paul\, MN\, 55109\, United States
ATTACH;FMTTYPE=image/jpeg:https://thedoghousebarandgrill.com/wp-content/uploads/2024/01/Kids-Eat-Free-Thurs-DogHouse.jpg
END:VEVENT
BEGIN:VEVENT
DTSTART;TZID=America/Chicago:20261108T100000
DTEND;TZID=America/Chicago:20261108T235900
DTSTAMP:20260422T051057
CREATED:20260109T214810Z
LAST-MODIFIED:20260109T214838Z
UID:10005226-1794132000-1794182340@thedoghousebarandgrill.com
SUMMARY:SUNDAY FUNDAY!
DESCRIPTION:Cash Bingo 1st and 3rd Sundays | 3:30pm\n\n\n\nCoach Purse Bingo 2nd\, 4th and 5th Sundays | 3:30pm\n\n\n\nMeat Raffle During Bingo\n\n\n\nTexas hold ’em at 7pm\n\n\n\nWin up to $100 in cash! \n\n\n\nALL DAY HAPPY HOUR
URL:https://thedoghousebarandgrill.com/calendar/sunday-funday-2/2026-11-08/
LOCATION:The Dog House Bar and Grill\, 2029 Woodlynn Ave\, St Paul\, MN\, 55109\, United States
ATTACH;FMTTYPE=image/jpeg:https://thedoghousebarandgrill.com/wp-content/uploads/2026/01/Bingo_real-image-at-Dog-House.jpg
END:VEVENT
BEGIN:VEVENT
DTSTART;TZID=America/Chicago:20261108T190000
DTEND;TZID=America/Chicago:20261108T220000
DTSTAMP:20260422T051057
CREATED:20250212T035145Z
LAST-MODIFIED:20250212T035145Z
UID:10002912-1794164400-1794175200@thedoghousebarandgrill.com
SUMMARY:FREE Poker Night
DESCRIPTION:FREE TEXAS HOLD ‘EM!\nThe more players the bigger the payout\, so share this with your friends! \nLast sunday of the month we are doing a Bigger Payout Game ($100 cash\, $60 cash\, $25 gift card\, $15 gift card)
URL:https://thedoghousebarandgrill.com/calendar/free-poker-night/2026-11-08/
LOCATION:The Dog House Bar and Grill\, 2029 Woodlynn Ave\, St Paul\, MN\, 55109\, United States
CATEGORIES:Live Music
ATTACH;FMTTYPE=image/png:https://thedoghousebarandgrill.com/wp-content/uploads/2025/02/Poker-Night-Sundays-Doghouse.png
ORGANIZER;CN="The Dog House Bar and Grill":MAILTO:thedoghousemn@gmail.com
END:VEVENT
BEGIN:VEVENT
DTSTART;VALUE=DATE:20261109
DTEND;VALUE=DATE:20261110
DTSTAMP:20260422T051057
CREATED:20240126T194845Z
LAST-MODIFIED:20260319T141939Z
UID:10003175-1794182400-1794268799@thedoghousebarandgrill.com
SUMMARY:MONDAY KARAOKE NIGHT & SPECIALS
DESCRIPTION: \nKaraoke With Ick: 9pm to 1am\n10PM – 1AM\nLate Night Happy Hour\n$1.50 OFF all alcoholic drinks\n$4-$8 Happy Appetizers\n\n+ $5 OFF All Burgers\, All Day!\n\n 
URL:https://thedoghousebarandgrill.com/calendar/monday-karaoke-night/2026-11-09/
LOCATION:The Dog House Bar and Grill\, 2029 Woodlynn Ave\, St Paul\, MN\, 55109\, United States
CATEGORIES:Karaoke,Weekdays
ATTACH;FMTTYPE=image/jpeg:https://thedoghousebarandgrill.com/wp-content/uploads/2024/01/Monday-Karaoke-Night-New-Dog-House.jpg
ORGANIZER;CN="The Dog House Bar and Grill":MAILTO:thedoghousemn@gmail.com
END:VEVENT
BEGIN:VEVENT
DTSTART;VALUE=DATE:20261110
DTEND;VALUE=DATE:20261111
DTSTAMP:20260422T051057
CREATED:20240126T201409Z
LAST-MODIFIED:20250924T190811Z
UID:10003438-1794268800-1794355199@thedoghousebarandgrill.com
SUMMARY:TUESDAY TRIVIA NIGHT
DESCRIPTION:  \nTRIVIA 7pm -9pm\nEach trivia event is based around a DJ experience combined with a trivia contest that offers fun competition for all\, along with prizes for the top teams. \nLIKE AND SHARE our posts on Facebook and/or Instagram then show us to receive 1 FREE trivia answer! \nLARGEST TEAM GETS FREE SHOTS! \n$1.50 WINGS ALL DAY
URL:https://thedoghousebarandgrill.com/calendar/tuesday-trivia-night/2026-11-10/
LOCATION:The Dog House Bar and Grill\, 2029 Woodlynn Ave\, St Paul\, MN\, 55109\, United States
CATEGORIES:Trivia,Weekdays
ATTACH;FMTTYPE=image/png:https://thedoghousebarandgrill.com/wp-content/uploads/2025/09/Tues.-Trivia-Wings-Night-Dog-House-.png
ORGANIZER;CN="The Dog House Bar and Grill":MAILTO:thedoghousemn@gmail.com
END:VEVENT
BEGIN:VEVENT
DTSTART;VALUE=DATE:20261111
DTEND;VALUE=DATE:20261112
DTSTAMP:20260422T051057
CREATED:20240126T202135Z
LAST-MODIFIED:20250924T190944Z
UID:10003700-1794355200-1794441599@thedoghousebarandgrill.com
SUMMARY:WEDNESDAY BINGO NIGHT
DESCRIPTION:Cash Bingo starts at 6:30pm\n$99 Games & 2 Guaranteed cover all $700 7 $1000\nMeat Raffle from Borcherts Meat market\n3 Ball Call!!!\n$2/Pulltab\nAvailable for purchase 90 minutes prior to bingo ONLY.  Save all the Pulltabs with bingo balls on them for a chances at: \nAn extra $200 payout on Game #1\nAn extra $400 payout on Game #2\nAn extra $500 payout on Game #3 \nNeed not play bingo to win these extra prizes!! \n+ Daily Chef Specials.\n(Ask your server/bartender or check our social media for details)
URL:https://thedoghousebarandgrill.com/calendar/wednesday-bingo-night/2026-11-11/
LOCATION:The Dog House Bar and Grill\, 2029 Woodlynn Ave\, St Paul\, MN\, 55109\, United States
CATEGORIES:Bingo,Weekdays
ATTACH;FMTTYPE=image/jpeg:https://thedoghousebarandgrill.com/wp-content/uploads/2021/11/cash-bingo-banner.jpg
ORGANIZER;CN="The Dog House Bar and Grill":MAILTO:thedoghousemn@gmail.com
END:VEVENT
BEGIN:VEVENT
DTSTART;TZID=America/Chicago:20261112T000000
DTEND;TZID=America/Chicago:20261112T235959
DTSTAMP:20260422T051057
CREATED:20260204T204951Z
LAST-MODIFIED:20260204T205008Z
UID:10005755-1794441600-1794527999@thedoghousebarandgrill.com
SUMMARY:THURSDAY SPECIALS
DESCRIPTION:Kids Eat Free Thursdays at The Dog House Bar & Grill! \n\n\n\nBring the whole family out every Thursday from 4PM–8PM and let the kids eat FREE! Enjoy great food\, a fun atmosphere\, and quality time together while saving on dinner. \n\n\n\nLimit one free kids meal from the kids menu per adult entrée purchased. Dine-in only. \n\n\n\n\n\n\n\n\n\n\n\nDJ & DANCING at 9:30pm with the Official MN Wild DJ himself: DJ YS \n\n\n\nHappy Hour 11am-6pm & 9pm – 11pm
URL:https://thedoghousebarandgrill.com/calendar/thursday-specials/2026-11-12/
LOCATION:The Dog House Bar and Grill\, 2029 Woodlynn Ave\, St Paul\, MN\, 55109\, United States
ATTACH;FMTTYPE=image/jpeg:https://thedoghousebarandgrill.com/wp-content/uploads/2024/01/Kids-Eat-Free-Thurs-DogHouse.jpg
END:VEVENT
BEGIN:VEVENT
DTSTART;TZID=America/Chicago:20261115T100000
DTEND;TZID=America/Chicago:20261115T235900
DTSTAMP:20260422T051057
CREATED:20260109T214810Z
LAST-MODIFIED:20260109T214838Z
UID:10005227-1794736800-1794787140@thedoghousebarandgrill.com
SUMMARY:SUNDAY FUNDAY!
DESCRIPTION:Cash Bingo 1st and 3rd Sundays | 3:30pm\n\n\n\nCoach Purse Bingo 2nd\, 4th and 5th Sundays | 3:30pm\n\n\n\nMeat Raffle During Bingo\n\n\n\nTexas hold ’em at 7pm\n\n\n\nWin up to $100 in cash! \n\n\n\nALL DAY HAPPY HOUR
URL:https://thedoghousebarandgrill.com/calendar/sunday-funday-2/2026-11-15/
LOCATION:The Dog House Bar and Grill\, 2029 Woodlynn Ave\, St Paul\, MN\, 55109\, United States
ATTACH;FMTTYPE=image/jpeg:https://thedoghousebarandgrill.com/wp-content/uploads/2026/01/Bingo_real-image-at-Dog-House.jpg
END:VEVENT
BEGIN:VEVENT
DTSTART;TZID=America/Chicago:20261115T190000
DTEND;TZID=America/Chicago:20261115T220000
DTSTAMP:20260422T051057
CREATED:20250212T035145Z
LAST-MODIFIED:20250212T035145Z
UID:10002913-1794769200-1794780000@thedoghousebarandgrill.com
SUMMARY:FREE Poker Night
DESCRIPTION:FREE TEXAS HOLD ‘EM!\nThe more players the bigger the payout\, so share this with your friends! \nLast sunday of the month we are doing a Bigger Payout Game ($100 cash\, $60 cash\, $25 gift card\, $15 gift card)
URL:https://thedoghousebarandgrill.com/calendar/free-poker-night/2026-11-15/
LOCATION:The Dog House Bar and Grill\, 2029 Woodlynn Ave\, St Paul\, MN\, 55109\, United States
CATEGORIES:Live Music
ATTACH;FMTTYPE=image/png:https://thedoghousebarandgrill.com/wp-content/uploads/2025/02/Poker-Night-Sundays-Doghouse.png
ORGANIZER;CN="The Dog House Bar and Grill":MAILTO:thedoghousemn@gmail.com
END:VEVENT
BEGIN:VEVENT
DTSTART;VALUE=DATE:20261116
DTEND;VALUE=DATE:20261117
DTSTAMP:20260422T051057
CREATED:20240126T194845Z
LAST-MODIFIED:20260319T141939Z
UID:10003176-1794787200-1794873599@thedoghousebarandgrill.com
SUMMARY:MONDAY KARAOKE NIGHT & SPECIALS
DESCRIPTION: \nKaraoke With Ick: 9pm to 1am\n10PM – 1AM\nLate Night Happy Hour\n$1.50 OFF all alcoholic drinks\n$4-$8 Happy Appetizers\n\n+ $5 OFF All Burgers\, All Day!\n\n 
URL:https://thedoghousebarandgrill.com/calendar/monday-karaoke-night/2026-11-16/
LOCATION:The Dog House Bar and Grill\, 2029 Woodlynn Ave\, St Paul\, MN\, 55109\, United States
CATEGORIES:Karaoke,Weekdays
ATTACH;FMTTYPE=image/jpeg:https://thedoghousebarandgrill.com/wp-content/uploads/2024/01/Monday-Karaoke-Night-New-Dog-House.jpg
ORGANIZER;CN="The Dog House Bar and Grill":MAILTO:thedoghousemn@gmail.com
END:VEVENT
BEGIN:VEVENT
DTSTART;VALUE=DATE:20261117
DTEND;VALUE=DATE:20261118
DTSTAMP:20260422T051057
CREATED:20240126T201409Z
LAST-MODIFIED:20250924T190811Z
UID:10003439-1794873600-1794959999@thedoghousebarandgrill.com
SUMMARY:TUESDAY TRIVIA NIGHT
DESCRIPTION:  \nTRIVIA 7pm -9pm\nEach trivia event is based around a DJ experience combined with a trivia contest that offers fun competition for all\, along with prizes for the top teams. \nLIKE AND SHARE our posts on Facebook and/or Instagram then show us to receive 1 FREE trivia answer! \nLARGEST TEAM GETS FREE SHOTS! \n$1.50 WINGS ALL DAY
URL:https://thedoghousebarandgrill.com/calendar/tuesday-trivia-night/2026-11-17/
LOCATION:The Dog House Bar and Grill\, 2029 Woodlynn Ave\, St Paul\, MN\, 55109\, United States
CATEGORIES:Trivia,Weekdays
ATTACH;FMTTYPE=image/png:https://thedoghousebarandgrill.com/wp-content/uploads/2025/09/Tues.-Trivia-Wings-Night-Dog-House-.png
ORGANIZER;CN="The Dog House Bar and Grill":MAILTO:thedoghousemn@gmail.com
END:VEVENT
BEGIN:VEVENT
DTSTART;VALUE=DATE:20261118
DTEND;VALUE=DATE:20261119
DTSTAMP:20260422T051057
CREATED:20240126T202135Z
LAST-MODIFIED:20250924T190944Z
UID:10003701-1794960000-1795046399@thedoghousebarandgrill.com
SUMMARY:WEDNESDAY BINGO NIGHT
DESCRIPTION:Cash Bingo starts at 6:30pm\n$99 Games & 2 Guaranteed cover all $700 7 $1000\nMeat Raffle from Borcherts Meat market\n3 Ball Call!!!\n$2/Pulltab\nAvailable for purchase 90 minutes prior to bingo ONLY.  Save all the Pulltabs with bingo balls on them for a chances at: \nAn extra $200 payout on Game #1\nAn extra $400 payout on Game #2\nAn extra $500 payout on Game #3 \nNeed not play bingo to win these extra prizes!! \n+ Daily Chef Specials.\n(Ask your server/bartender or check our social media for details)
URL:https://thedoghousebarandgrill.com/calendar/wednesday-bingo-night/2026-11-18/
LOCATION:The Dog House Bar and Grill\, 2029 Woodlynn Ave\, St Paul\, MN\, 55109\, United States
CATEGORIES:Bingo,Weekdays
ATTACH;FMTTYPE=image/jpeg:https://thedoghousebarandgrill.com/wp-content/uploads/2021/11/cash-bingo-banner.jpg
ORGANIZER;CN="The Dog House Bar and Grill":MAILTO:thedoghousemn@gmail.com
END:VEVENT
BEGIN:VEVENT
DTSTART;TZID=America/Chicago:20261119T000000
DTEND;TZID=America/Chicago:20261119T235959
DTSTAMP:20260422T051057
CREATED:20260204T204951Z
LAST-MODIFIED:20260204T205008Z
UID:10005756-1795046400-1795132799@thedoghousebarandgrill.com
SUMMARY:THURSDAY SPECIALS
DESCRIPTION:Kids Eat Free Thursdays at The Dog House Bar & Grill! \n\n\n\nBring the whole family out every Thursday from 4PM–8PM and let the kids eat FREE! Enjoy great food\, a fun atmosphere\, and quality time together while saving on dinner. \n\n\n\nLimit one free kids meal from the kids menu per adult entrée purchased. Dine-in only. \n\n\n\n\n\n\n\n\n\n\n\nDJ & DANCING at 9:30pm with the Official MN Wild DJ himself: DJ YS \n\n\n\nHappy Hour 11am-6pm & 9pm – 11pm
URL:https://thedoghousebarandgrill.com/calendar/thursday-specials/2026-11-19/
LOCATION:The Dog House Bar and Grill\, 2029 Woodlynn Ave\, St Paul\, MN\, 55109\, United States
ATTACH;FMTTYPE=image/jpeg:https://thedoghousebarandgrill.com/wp-content/uploads/2024/01/Kids-Eat-Free-Thurs-DogHouse.jpg
END:VEVENT
BEGIN:VEVENT
DTSTART;TZID=America/Chicago:20261122T100000
DTEND;TZID=America/Chicago:20261122T235900
DTSTAMP:20260422T051057
CREATED:20260109T214810Z
LAST-MODIFIED:20260109T214838Z
UID:10005228-1795341600-1795391940@thedoghousebarandgrill.com
SUMMARY:SUNDAY FUNDAY!
DESCRIPTION:Cash Bingo 1st and 3rd Sundays | 3:30pm\n\n\n\nCoach Purse Bingo 2nd\, 4th and 5th Sundays | 3:30pm\n\n\n\nMeat Raffle During Bingo\n\n\n\nTexas hold ’em at 7pm\n\n\n\nWin up to $100 in cash! \n\n\n\nALL DAY HAPPY HOUR
URL:https://thedoghousebarandgrill.com/calendar/sunday-funday-2/2026-11-22/
LOCATION:The Dog House Bar and Grill\, 2029 Woodlynn Ave\, St Paul\, MN\, 55109\, United States
ATTACH;FMTTYPE=image/jpeg:https://thedoghousebarandgrill.com/wp-content/uploads/2026/01/Bingo_real-image-at-Dog-House.jpg
END:VEVENT
BEGIN:VEVENT
DTSTART;TZID=America/Chicago:20261122T190000
DTEND;TZID=America/Chicago:20261122T220000
DTSTAMP:20260422T051057
CREATED:20250212T035145Z
LAST-MODIFIED:20250212T035145Z
UID:10002914-1795374000-1795384800@thedoghousebarandgrill.com
SUMMARY:FREE Poker Night
DESCRIPTION:FREE TEXAS HOLD ‘EM!\nThe more players the bigger the payout\, so share this with your friends! \nLast sunday of the month we are doing a Bigger Payout Game ($100 cash\, $60 cash\, $25 gift card\, $15 gift card)
URL:https://thedoghousebarandgrill.com/calendar/free-poker-night/2026-11-22/
LOCATION:The Dog House Bar and Grill\, 2029 Woodlynn Ave\, St Paul\, MN\, 55109\, United States
CATEGORIES:Live Music
ATTACH;FMTTYPE=image/png:https://thedoghousebarandgrill.com/wp-content/uploads/2025/02/Poker-Night-Sundays-Doghouse.png
ORGANIZER;CN="The Dog House Bar and Grill":MAILTO:thedoghousemn@gmail.com
END:VEVENT
BEGIN:VEVENT
DTSTART;VALUE=DATE:20261123
DTEND;VALUE=DATE:20261124
DTSTAMP:20260422T051057
CREATED:20240126T194845Z
LAST-MODIFIED:20260319T141939Z
UID:10003177-1795392000-1795478399@thedoghousebarandgrill.com
SUMMARY:MONDAY KARAOKE NIGHT & SPECIALS
DESCRIPTION: \nKaraoke With Ick: 9pm to 1am\n10PM – 1AM\nLate Night Happy Hour\n$1.50 OFF all alcoholic drinks\n$4-$8 Happy Appetizers\n\n+ $5 OFF All Burgers\, All Day!\n\n 
URL:https://thedoghousebarandgrill.com/calendar/monday-karaoke-night/2026-11-23/
LOCATION:The Dog House Bar and Grill\, 2029 Woodlynn Ave\, St Paul\, MN\, 55109\, United States
CATEGORIES:Karaoke,Weekdays
ATTACH;FMTTYPE=image/jpeg:https://thedoghousebarandgrill.com/wp-content/uploads/2024/01/Monday-Karaoke-Night-New-Dog-House.jpg
ORGANIZER;CN="The Dog House Bar and Grill":MAILTO:thedoghousemn@gmail.com
END:VEVENT
BEGIN:VEVENT
DTSTART;VALUE=DATE:20261124
DTEND;VALUE=DATE:20261125
DTSTAMP:20260422T051057
CREATED:20240126T201409Z
LAST-MODIFIED:20250924T190811Z
UID:10003440-1795478400-1795564799@thedoghousebarandgrill.com
SUMMARY:TUESDAY TRIVIA NIGHT
DESCRIPTION:  \nTRIVIA 7pm -9pm\nEach trivia event is based around a DJ experience combined with a trivia contest that offers fun competition for all\, along with prizes for the top teams. \nLIKE AND SHARE our posts on Facebook and/or Instagram then show us to receive 1 FREE trivia answer! \nLARGEST TEAM GETS FREE SHOTS! \n$1.50 WINGS ALL DAY
URL:https://thedoghousebarandgrill.com/calendar/tuesday-trivia-night/2026-11-24/
LOCATION:The Dog House Bar and Grill\, 2029 Woodlynn Ave\, St Paul\, MN\, 55109\, United States
CATEGORIES:Trivia,Weekdays
ATTACH;FMTTYPE=image/png:https://thedoghousebarandgrill.com/wp-content/uploads/2025/09/Tues.-Trivia-Wings-Night-Dog-House-.png
ORGANIZER;CN="The Dog House Bar and Grill":MAILTO:thedoghousemn@gmail.com
END:VEVENT
BEGIN:VEVENT
DTSTART;VALUE=DATE:20261125
DTEND;VALUE=DATE:20261126
DTSTAMP:20260422T051057
CREATED:20240126T202135Z
LAST-MODIFIED:20250924T190944Z
UID:10003702-1795564800-1795651199@thedoghousebarandgrill.com
SUMMARY:WEDNESDAY BINGO NIGHT
DESCRIPTION:Cash Bingo starts at 6:30pm\n$99 Games & 2 Guaranteed cover all $700 7 $1000\nMeat Raffle from Borcherts Meat market\n3 Ball Call!!!\n$2/Pulltab\nAvailable for purchase 90 minutes prior to bingo ONLY.  Save all the Pulltabs with bingo balls on them for a chances at: \nAn extra $200 payout on Game #1\nAn extra $400 payout on Game #2\nAn extra $500 payout on Game #3 \nNeed not play bingo to win these extra prizes!! \n+ Daily Chef Specials.\n(Ask your server/bartender or check our social media for details)
URL:https://thedoghousebarandgrill.com/calendar/wednesday-bingo-night/2026-11-25/
LOCATION:The Dog House Bar and Grill\, 2029 Woodlynn Ave\, St Paul\, MN\, 55109\, United States
CATEGORIES:Bingo,Weekdays
ATTACH;FMTTYPE=image/jpeg:https://thedoghousebarandgrill.com/wp-content/uploads/2021/11/cash-bingo-banner.jpg
ORGANIZER;CN="The Dog House Bar and Grill":MAILTO:thedoghousemn@gmail.com
END:VEVENT
BEGIN:VEVENT
DTSTART;TZID=America/Chicago:20261126T000000
DTEND;TZID=America/Chicago:20261126T235959
DTSTAMP:20260422T051057
CREATED:20260204T204951Z
LAST-MODIFIED:20260204T205008Z
UID:10005757-1795651200-1795737599@thedoghousebarandgrill.com
SUMMARY:THURSDAY SPECIALS
DESCRIPTION:Kids Eat Free Thursdays at The Dog House Bar & Grill! \n\n\n\nBring the whole family out every Thursday from 4PM–8PM and let the kids eat FREE! Enjoy great food\, a fun atmosphere\, and quality time together while saving on dinner. \n\n\n\nLimit one free kids meal from the kids menu per adult entrée purchased. Dine-in only. \n\n\n\n\n\n\n\n\n\n\n\nDJ & DANCING at 9:30pm with the Official MN Wild DJ himself: DJ YS \n\n\n\nHappy Hour 11am-6pm & 9pm – 11pm
URL:https://thedoghousebarandgrill.com/calendar/thursday-specials/2026-11-26/
LOCATION:The Dog House Bar and Grill\, 2029 Woodlynn Ave\, St Paul\, MN\, 55109\, United States
ATTACH;FMTTYPE=image/jpeg:https://thedoghousebarandgrill.com/wp-content/uploads/2024/01/Kids-Eat-Free-Thurs-DogHouse.jpg
END:VEVENT
BEGIN:VEVENT
DTSTART;TZID=America/Chicago:20261129T100000
DTEND;TZID=America/Chicago:20261129T235900
DTSTAMP:20260422T051057
CREATED:20260109T214810Z
LAST-MODIFIED:20260109T214838Z
UID:10005229-1795946400-1795996740@thedoghousebarandgrill.com
SUMMARY:SUNDAY FUNDAY!
DESCRIPTION:Cash Bingo 1st and 3rd Sundays | 3:30pm\n\n\n\nCoach Purse Bingo 2nd\, 4th and 5th Sundays | 3:30pm\n\n\n\nMeat Raffle During Bingo\n\n\n\nTexas hold ’em at 7pm\n\n\n\nWin up to $100 in cash! \n\n\n\nALL DAY HAPPY HOUR
URL:https://thedoghousebarandgrill.com/calendar/sunday-funday-2/2026-11-29/
LOCATION:The Dog House Bar and Grill\, 2029 Woodlynn Ave\, St Paul\, MN\, 55109\, United States
ATTACH;FMTTYPE=image/jpeg:https://thedoghousebarandgrill.com/wp-content/uploads/2026/01/Bingo_real-image-at-Dog-House.jpg
END:VEVENT
BEGIN:VEVENT
DTSTART;TZID=America/Chicago:20261129T190000
DTEND;TZID=America/Chicago:20261129T220000
DTSTAMP:20260422T051057
CREATED:20250212T035145Z
LAST-MODIFIED:20250212T035145Z
UID:10002915-1795978800-1795989600@thedoghousebarandgrill.com
SUMMARY:FREE Poker Night
DESCRIPTION:FREE TEXAS HOLD ‘EM!\nThe more players the bigger the payout\, so share this with your friends! \nLast sunday of the month we are doing a Bigger Payout Game ($100 cash\, $60 cash\, $25 gift card\, $15 gift card)
URL:https://thedoghousebarandgrill.com/calendar/free-poker-night/2026-11-29/
LOCATION:The Dog House Bar and Grill\, 2029 Woodlynn Ave\, St Paul\, MN\, 55109\, United States
CATEGORIES:Live Music
ATTACH;FMTTYPE=image/png:https://thedoghousebarandgrill.com/wp-content/uploads/2025/02/Poker-Night-Sundays-Doghouse.png
ORGANIZER;CN="The Dog House Bar and Grill":MAILTO:thedoghousemn@gmail.com
END:VEVENT
BEGIN:VEVENT
DTSTART;VALUE=DATE:20261130
DTEND;VALUE=DATE:20261201
DTSTAMP:20260422T051057
CREATED:20240126T194845Z
LAST-MODIFIED:20260319T141939Z
UID:10003178-1795996800-1796083199@thedoghousebarandgrill.com
SUMMARY:MONDAY KARAOKE NIGHT & SPECIALS
DESCRIPTION: \nKaraoke With Ick: 9pm to 1am\n10PM – 1AM\nLate Night Happy Hour\n$1.50 OFF all alcoholic drinks\n$4-$8 Happy Appetizers\n\n+ $5 OFF All Burgers\, All Day!\n\n 
URL:https://thedoghousebarandgrill.com/calendar/monday-karaoke-night/2026-11-30/
LOCATION:The Dog House Bar and Grill\, 2029 Woodlynn Ave\, St Paul\, MN\, 55109\, United States
CATEGORIES:Karaoke,Weekdays
ATTACH;FMTTYPE=image/jpeg:https://thedoghousebarandgrill.com/wp-content/uploads/2024/01/Monday-Karaoke-Night-New-Dog-House.jpg
ORGANIZER;CN="The Dog House Bar and Grill":MAILTO:thedoghousemn@gmail.com
END:VEVENT
END:VCALENDAR