BEGIN:VCALENDAR
VERSION:2.0
PRODID:-//The Dog House Bar and Grill - ECPv6.15.17.1//NONSGML v1.0//EN
CALSCALE:GREGORIAN
METHOD:PUBLISH
X-ORIGINAL-URL:https://thedoghousebarandgrill.com
X-WR-CALDESC:Events for The Dog House Bar and Grill
REFRESH-INTERVAL;VALUE=DURATION:PT1H
X-Robots-Tag:noindex
X-PUBLISHED-TTL:PT1H
BEGIN:VTIMEZONE
TZID:America/Chicago
BEGIN:DAYLIGHT
TZOFFSETFROM:-0600
TZOFFSETTO:-0500
TZNAME:CDT
DTSTART:20250309T080000
END:DAYLIGHT
BEGIN:STANDARD
TZOFFSETFROM:-0500
TZOFFSETTO:-0600
TZNAME:CST
DTSTART:20251102T070000
END:STANDARD
BEGIN:DAYLIGHT
TZOFFSETFROM:-0600
TZOFFSETTO:-0500
TZNAME:CDT
DTSTART:20260308T080000
END:DAYLIGHT
BEGIN:STANDARD
TZOFFSETFROM:-0500
TZOFFSETTO:-0600
TZNAME:CST
DTSTART:20261101T070000
END:STANDARD
BEGIN:DAYLIGHT
TZOFFSETFROM:-0600
TZOFFSETTO:-0500
TZNAME:CDT
DTSTART:20270314T080000
END:DAYLIGHT
BEGIN:STANDARD
TZOFFSETFROM:-0500
TZOFFSETTO:-0600
TZNAME:CST
DTSTART:20271107T070000
END:STANDARD
END:VTIMEZONE
BEGIN:VEVENT
DTSTART;TZID=America/Chicago:20261001T000000
DTEND;TZID=America/Chicago:20261001T235959
DTSTAMP:20260422T032410
CREATED:20260204T204951Z
LAST-MODIFIED:20260204T205008Z
UID:10005749-1790812800-1790899199@thedoghousebarandgrill.com
SUMMARY:THURSDAY SPECIALS
DESCRIPTION:Kids Eat Free Thursdays at The Dog House Bar & Grill! \n\n\n\nBring the whole family out every Thursday from 4PM–8PM and let the kids eat FREE! Enjoy great food\, a fun atmosphere\, and quality time together while saving on dinner. \n\n\n\nLimit one free kids meal from the kids menu per adult entrée purchased. Dine-in only. \n\n\n\n\n\n\n\n\n\n\n\nDJ & DANCING at 9:30pm with the Official MN Wild DJ himself: DJ YS \n\n\n\nHappy Hour 11am-6pm & 9pm – 11pm
URL:https://thedoghousebarandgrill.com/calendar/thursday-specials/2026-10-01/
LOCATION:The Dog House Bar and Grill\, 2029 Woodlynn Ave\, St Paul\, MN\, 55109\, United States
ATTACH;FMTTYPE=image/jpeg:https://thedoghousebarandgrill.com/wp-content/uploads/2024/01/Kids-Eat-Free-Thurs-DogHouse.jpg
END:VEVENT
BEGIN:VEVENT
DTSTART;TZID=America/Chicago:20261004T100000
DTEND;TZID=America/Chicago:20261004T235900
DTSTAMP:20260422T032410
CREATED:20260109T214810Z
LAST-MODIFIED:20260109T214838Z
UID:10005221-1791108000-1791158340@thedoghousebarandgrill.com
SUMMARY:SUNDAY FUNDAY!
DESCRIPTION:Cash Bingo 1st and 3rd Sundays | 3:30pm\n\n\n\nCoach Purse Bingo 2nd\, 4th and 5th Sundays | 3:30pm\n\n\n\nMeat Raffle During Bingo\n\n\n\nTexas hold ’em at 7pm\n\n\n\nWin up to $100 in cash! \n\n\n\nALL DAY HAPPY HOUR
URL:https://thedoghousebarandgrill.com/calendar/sunday-funday-2/2026-10-04/
LOCATION:The Dog House Bar and Grill\, 2029 Woodlynn Ave\, St Paul\, MN\, 55109\, United States
ATTACH;FMTTYPE=image/jpeg:https://thedoghousebarandgrill.com/wp-content/uploads/2026/01/Bingo_real-image-at-Dog-House.jpg
END:VEVENT
BEGIN:VEVENT
DTSTART;TZID=America/Chicago:20261004T190000
DTEND;TZID=America/Chicago:20261004T220000
DTSTAMP:20260422T032410
CREATED:20250212T035145Z
LAST-MODIFIED:20250212T035145Z
UID:10002907-1791140400-1791151200@thedoghousebarandgrill.com
SUMMARY:FREE Poker Night
DESCRIPTION:FREE TEXAS HOLD ‘EM!\nThe more players the bigger the payout\, so share this with your friends! \nLast sunday of the month we are doing a Bigger Payout Game ($100 cash\, $60 cash\, $25 gift card\, $15 gift card)
URL:https://thedoghousebarandgrill.com/calendar/free-poker-night/2026-10-04/
LOCATION:The Dog House Bar and Grill\, 2029 Woodlynn Ave\, St Paul\, MN\, 55109\, United States
CATEGORIES:Live Music
ATTACH;FMTTYPE=image/png:https://thedoghousebarandgrill.com/wp-content/uploads/2025/02/Poker-Night-Sundays-Doghouse.png
ORGANIZER;CN="The Dog House Bar and Grill":MAILTO:thedoghousemn@gmail.com
END:VEVENT
BEGIN:VEVENT
DTSTART;VALUE=DATE:20261005
DTEND;VALUE=DATE:20261006
DTSTAMP:20260422T032410
CREATED:20240126T194845Z
LAST-MODIFIED:20260319T141939Z
UID:10003170-1791158400-1791244799@thedoghousebarandgrill.com
SUMMARY:MONDAY KARAOKE NIGHT & SPECIALS
DESCRIPTION: \nKaraoke With Ick: 9pm to 1am\n10PM – 1AM\nLate Night Happy Hour\n$1.50 OFF all alcoholic drinks\n$4-$8 Happy Appetizers\n\n+ $5 OFF All Burgers\, All Day!\n\n 
URL:https://thedoghousebarandgrill.com/calendar/monday-karaoke-night/2026-10-05/
LOCATION:The Dog House Bar and Grill\, 2029 Woodlynn Ave\, St Paul\, MN\, 55109\, United States
CATEGORIES:Karaoke,Weekdays
ATTACH;FMTTYPE=image/jpeg:https://thedoghousebarandgrill.com/wp-content/uploads/2024/01/Monday-Karaoke-Night-New-Dog-House.jpg
ORGANIZER;CN="The Dog House Bar and Grill":MAILTO:thedoghousemn@gmail.com
END:VEVENT
BEGIN:VEVENT
DTSTART;VALUE=DATE:20261006
DTEND;VALUE=DATE:20261007
DTSTAMP:20260422T032410
CREATED:20240126T201409Z
LAST-MODIFIED:20250924T190811Z
UID:10003433-1791244800-1791331199@thedoghousebarandgrill.com
SUMMARY:TUESDAY TRIVIA NIGHT
DESCRIPTION:  \nTRIVIA 7pm -9pm\nEach trivia event is based around a DJ experience combined with a trivia contest that offers fun competition for all\, along with prizes for the top teams. \nLIKE AND SHARE our posts on Facebook and/or Instagram then show us to receive 1 FREE trivia answer! \nLARGEST TEAM GETS FREE SHOTS! \n$1.50 WINGS ALL DAY
URL:https://thedoghousebarandgrill.com/calendar/tuesday-trivia-night/2026-10-06/
LOCATION:The Dog House Bar and Grill\, 2029 Woodlynn Ave\, St Paul\, MN\, 55109\, United States
CATEGORIES:Trivia,Weekdays
ATTACH;FMTTYPE=image/png:https://thedoghousebarandgrill.com/wp-content/uploads/2025/09/Tues.-Trivia-Wings-Night-Dog-House-.png
ORGANIZER;CN="The Dog House Bar and Grill":MAILTO:thedoghousemn@gmail.com
END:VEVENT
BEGIN:VEVENT
DTSTART;VALUE=DATE:20261007
DTEND;VALUE=DATE:20261008
DTSTAMP:20260422T032410
CREATED:20240126T202135Z
LAST-MODIFIED:20250924T190944Z
UID:10003695-1791331200-1791417599@thedoghousebarandgrill.com
SUMMARY:WEDNESDAY BINGO NIGHT
DESCRIPTION:Cash Bingo starts at 6:30pm\n$99 Games & 2 Guaranteed cover all $700 7 $1000\nMeat Raffle from Borcherts Meat market\n3 Ball Call!!!\n$2/Pulltab\nAvailable for purchase 90 minutes prior to bingo ONLY.  Save all the Pulltabs with bingo balls on them for a chances at: \nAn extra $200 payout on Game #1\nAn extra $400 payout on Game #2\nAn extra $500 payout on Game #3 \nNeed not play bingo to win these extra prizes!! \n+ Daily Chef Specials.\n(Ask your server/bartender or check our social media for details)
URL:https://thedoghousebarandgrill.com/calendar/wednesday-bingo-night/2026-10-07/
LOCATION:The Dog House Bar and Grill\, 2029 Woodlynn Ave\, St Paul\, MN\, 55109\, United States
CATEGORIES:Bingo,Weekdays
ATTACH;FMTTYPE=image/jpeg:https://thedoghousebarandgrill.com/wp-content/uploads/2021/11/cash-bingo-banner.jpg
ORGANIZER;CN="The Dog House Bar and Grill":MAILTO:thedoghousemn@gmail.com
END:VEVENT
BEGIN:VEVENT
DTSTART;TZID=America/Chicago:20261008T000000
DTEND;TZID=America/Chicago:20261008T235959
DTSTAMP:20260422T032410
CREATED:20260204T204951Z
LAST-MODIFIED:20260204T205008Z
UID:10005750-1791417600-1791503999@thedoghousebarandgrill.com
SUMMARY:THURSDAY SPECIALS
DESCRIPTION:Kids Eat Free Thursdays at The Dog House Bar & Grill! \n\n\n\nBring the whole family out every Thursday from 4PM–8PM and let the kids eat FREE! Enjoy great food\, a fun atmosphere\, and quality time together while saving on dinner. \n\n\n\nLimit one free kids meal from the kids menu per adult entrée purchased. Dine-in only. \n\n\n\n\n\n\n\n\n\n\n\nDJ & DANCING at 9:30pm with the Official MN Wild DJ himself: DJ YS \n\n\n\nHappy Hour 11am-6pm & 9pm – 11pm
URL:https://thedoghousebarandgrill.com/calendar/thursday-specials/2026-10-08/
LOCATION:The Dog House Bar and Grill\, 2029 Woodlynn Ave\, St Paul\, MN\, 55109\, United States
ATTACH;FMTTYPE=image/jpeg:https://thedoghousebarandgrill.com/wp-content/uploads/2024/01/Kids-Eat-Free-Thurs-DogHouse.jpg
END:VEVENT
BEGIN:VEVENT
DTSTART;TZID=America/Chicago:20261011T100000
DTEND;TZID=America/Chicago:20261011T235900
DTSTAMP:20260422T032410
CREATED:20260109T214810Z
LAST-MODIFIED:20260109T214838Z
UID:10005222-1791712800-1791763140@thedoghousebarandgrill.com
SUMMARY:SUNDAY FUNDAY!
DESCRIPTION:Cash Bingo 1st and 3rd Sundays | 3:30pm\n\n\n\nCoach Purse Bingo 2nd\, 4th and 5th Sundays | 3:30pm\n\n\n\nMeat Raffle During Bingo\n\n\n\nTexas hold ’em at 7pm\n\n\n\nWin up to $100 in cash! \n\n\n\nALL DAY HAPPY HOUR
URL:https://thedoghousebarandgrill.com/calendar/sunday-funday-2/2026-10-11/
LOCATION:The Dog House Bar and Grill\, 2029 Woodlynn Ave\, St Paul\, MN\, 55109\, United States
ATTACH;FMTTYPE=image/jpeg:https://thedoghousebarandgrill.com/wp-content/uploads/2026/01/Bingo_real-image-at-Dog-House.jpg
END:VEVENT
BEGIN:VEVENT
DTSTART;TZID=America/Chicago:20261011T190000
DTEND;TZID=America/Chicago:20261011T220000
DTSTAMP:20260422T032410
CREATED:20250212T035145Z
LAST-MODIFIED:20250212T035145Z
UID:10002908-1791745200-1791756000@thedoghousebarandgrill.com
SUMMARY:FREE Poker Night
DESCRIPTION:FREE TEXAS HOLD ‘EM!\nThe more players the bigger the payout\, so share this with your friends! \nLast sunday of the month we are doing a Bigger Payout Game ($100 cash\, $60 cash\, $25 gift card\, $15 gift card)
URL:https://thedoghousebarandgrill.com/calendar/free-poker-night/2026-10-11/
LOCATION:The Dog House Bar and Grill\, 2029 Woodlynn Ave\, St Paul\, MN\, 55109\, United States
CATEGORIES:Live Music
ATTACH;FMTTYPE=image/png:https://thedoghousebarandgrill.com/wp-content/uploads/2025/02/Poker-Night-Sundays-Doghouse.png
ORGANIZER;CN="The Dog House Bar and Grill":MAILTO:thedoghousemn@gmail.com
END:VEVENT
BEGIN:VEVENT
DTSTART;VALUE=DATE:20261012
DTEND;VALUE=DATE:20261013
DTSTAMP:20260422T032410
CREATED:20240126T194845Z
LAST-MODIFIED:20260319T141939Z
UID:10003171-1791763200-1791849599@thedoghousebarandgrill.com
SUMMARY:MONDAY KARAOKE NIGHT & SPECIALS
DESCRIPTION: \nKaraoke With Ick: 9pm to 1am\n10PM – 1AM\nLate Night Happy Hour\n$1.50 OFF all alcoholic drinks\n$4-$8 Happy Appetizers\n\n+ $5 OFF All Burgers\, All Day!\n\n 
URL:https://thedoghousebarandgrill.com/calendar/monday-karaoke-night/2026-10-12/
LOCATION:The Dog House Bar and Grill\, 2029 Woodlynn Ave\, St Paul\, MN\, 55109\, United States
CATEGORIES:Karaoke,Weekdays
ATTACH;FMTTYPE=image/jpeg:https://thedoghousebarandgrill.com/wp-content/uploads/2024/01/Monday-Karaoke-Night-New-Dog-House.jpg
ORGANIZER;CN="The Dog House Bar and Grill":MAILTO:thedoghousemn@gmail.com
END:VEVENT
BEGIN:VEVENT
DTSTART;VALUE=DATE:20261013
DTEND;VALUE=DATE:20261014
DTSTAMP:20260422T032410
CREATED:20240126T201409Z
LAST-MODIFIED:20250924T190811Z
UID:10003434-1791849600-1791935999@thedoghousebarandgrill.com
SUMMARY:TUESDAY TRIVIA NIGHT
DESCRIPTION:  \nTRIVIA 7pm -9pm\nEach trivia event is based around a DJ experience combined with a trivia contest that offers fun competition for all\, along with prizes for the top teams. \nLIKE AND SHARE our posts on Facebook and/or Instagram then show us to receive 1 FREE trivia answer! \nLARGEST TEAM GETS FREE SHOTS! \n$1.50 WINGS ALL DAY
URL:https://thedoghousebarandgrill.com/calendar/tuesday-trivia-night/2026-10-13/
LOCATION:The Dog House Bar and Grill\, 2029 Woodlynn Ave\, St Paul\, MN\, 55109\, United States
CATEGORIES:Trivia,Weekdays
ATTACH;FMTTYPE=image/png:https://thedoghousebarandgrill.com/wp-content/uploads/2025/09/Tues.-Trivia-Wings-Night-Dog-House-.png
ORGANIZER;CN="The Dog House Bar and Grill":MAILTO:thedoghousemn@gmail.com
END:VEVENT
BEGIN:VEVENT
DTSTART;VALUE=DATE:20261014
DTEND;VALUE=DATE:20261015
DTSTAMP:20260422T032410
CREATED:20240126T202135Z
LAST-MODIFIED:20250924T190944Z
UID:10003696-1791936000-1792022399@thedoghousebarandgrill.com
SUMMARY:WEDNESDAY BINGO NIGHT
DESCRIPTION:Cash Bingo starts at 6:30pm\n$99 Games & 2 Guaranteed cover all $700 7 $1000\nMeat Raffle from Borcherts Meat market\n3 Ball Call!!!\n$2/Pulltab\nAvailable for purchase 90 minutes prior to bingo ONLY.  Save all the Pulltabs with bingo balls on them for a chances at: \nAn extra $200 payout on Game #1\nAn extra $400 payout on Game #2\nAn extra $500 payout on Game #3 \nNeed not play bingo to win these extra prizes!! \n+ Daily Chef Specials.\n(Ask your server/bartender or check our social media for details)
URL:https://thedoghousebarandgrill.com/calendar/wednesday-bingo-night/2026-10-14/
LOCATION:The Dog House Bar and Grill\, 2029 Woodlynn Ave\, St Paul\, MN\, 55109\, United States
CATEGORIES:Bingo,Weekdays
ATTACH;FMTTYPE=image/jpeg:https://thedoghousebarandgrill.com/wp-content/uploads/2021/11/cash-bingo-banner.jpg
ORGANIZER;CN="The Dog House Bar and Grill":MAILTO:thedoghousemn@gmail.com
END:VEVENT
BEGIN:VEVENT
DTSTART;TZID=America/Chicago:20261015T000000
DTEND;TZID=America/Chicago:20261015T235959
DTSTAMP:20260422T032410
CREATED:20260204T204951Z
LAST-MODIFIED:20260204T205008Z
UID:10005751-1792022400-1792108799@thedoghousebarandgrill.com
SUMMARY:THURSDAY SPECIALS
DESCRIPTION:Kids Eat Free Thursdays at The Dog House Bar & Grill! \n\n\n\nBring the whole family out every Thursday from 4PM–8PM and let the kids eat FREE! Enjoy great food\, a fun atmosphere\, and quality time together while saving on dinner. \n\n\n\nLimit one free kids meal from the kids menu per adult entrée purchased. Dine-in only. \n\n\n\n\n\n\n\n\n\n\n\nDJ & DANCING at 9:30pm with the Official MN Wild DJ himself: DJ YS \n\n\n\nHappy Hour 11am-6pm & 9pm – 11pm
URL:https://thedoghousebarandgrill.com/calendar/thursday-specials/2026-10-15/
LOCATION:The Dog House Bar and Grill\, 2029 Woodlynn Ave\, St Paul\, MN\, 55109\, United States
ATTACH;FMTTYPE=image/jpeg:https://thedoghousebarandgrill.com/wp-content/uploads/2024/01/Kids-Eat-Free-Thurs-DogHouse.jpg
END:VEVENT
BEGIN:VEVENT
DTSTART;TZID=America/Chicago:20261018T100000
DTEND;TZID=America/Chicago:20261018T235900
DTSTAMP:20260422T032410
CREATED:20260109T214810Z
LAST-MODIFIED:20260109T214838Z
UID:10005223-1792317600-1792367940@thedoghousebarandgrill.com
SUMMARY:SUNDAY FUNDAY!
DESCRIPTION:Cash Bingo 1st and 3rd Sundays | 3:30pm\n\n\n\nCoach Purse Bingo 2nd\, 4th and 5th Sundays | 3:30pm\n\n\n\nMeat Raffle During Bingo\n\n\n\nTexas hold ’em at 7pm\n\n\n\nWin up to $100 in cash! \n\n\n\nALL DAY HAPPY HOUR
URL:https://thedoghousebarandgrill.com/calendar/sunday-funday-2/2026-10-18/
LOCATION:The Dog House Bar and Grill\, 2029 Woodlynn Ave\, St Paul\, MN\, 55109\, United States
ATTACH;FMTTYPE=image/jpeg:https://thedoghousebarandgrill.com/wp-content/uploads/2026/01/Bingo_real-image-at-Dog-House.jpg
END:VEVENT
BEGIN:VEVENT
DTSTART;TZID=America/Chicago:20261018T190000
DTEND;TZID=America/Chicago:20261018T220000
DTSTAMP:20260422T032410
CREATED:20250212T035145Z
LAST-MODIFIED:20250212T035145Z
UID:10002909-1792350000-1792360800@thedoghousebarandgrill.com
SUMMARY:FREE Poker Night
DESCRIPTION:FREE TEXAS HOLD ‘EM!\nThe more players the bigger the payout\, so share this with your friends! \nLast sunday of the month we are doing a Bigger Payout Game ($100 cash\, $60 cash\, $25 gift card\, $15 gift card)
URL:https://thedoghousebarandgrill.com/calendar/free-poker-night/2026-10-18/
LOCATION:The Dog House Bar and Grill\, 2029 Woodlynn Ave\, St Paul\, MN\, 55109\, United States
CATEGORIES:Live Music
ATTACH;FMTTYPE=image/png:https://thedoghousebarandgrill.com/wp-content/uploads/2025/02/Poker-Night-Sundays-Doghouse.png
ORGANIZER;CN="The Dog House Bar and Grill":MAILTO:thedoghousemn@gmail.com
END:VEVENT
BEGIN:VEVENT
DTSTART;VALUE=DATE:20261019
DTEND;VALUE=DATE:20261020
DTSTAMP:20260422T032410
CREATED:20240126T194845Z
LAST-MODIFIED:20260319T141939Z
UID:10003172-1792368000-1792454399@thedoghousebarandgrill.com
SUMMARY:MONDAY KARAOKE NIGHT & SPECIALS
DESCRIPTION: \nKaraoke With Ick: 9pm to 1am\n10PM – 1AM\nLate Night Happy Hour\n$1.50 OFF all alcoholic drinks\n$4-$8 Happy Appetizers\n\n+ $5 OFF All Burgers\, All Day!\n\n 
URL:https://thedoghousebarandgrill.com/calendar/monday-karaoke-night/2026-10-19/
LOCATION:The Dog House Bar and Grill\, 2029 Woodlynn Ave\, St Paul\, MN\, 55109\, United States
CATEGORIES:Karaoke,Weekdays
ATTACH;FMTTYPE=image/jpeg:https://thedoghousebarandgrill.com/wp-content/uploads/2024/01/Monday-Karaoke-Night-New-Dog-House.jpg
ORGANIZER;CN="The Dog House Bar and Grill":MAILTO:thedoghousemn@gmail.com
END:VEVENT
BEGIN:VEVENT
DTSTART;VALUE=DATE:20261020
DTEND;VALUE=DATE:20261021
DTSTAMP:20260422T032410
CREATED:20240126T201409Z
LAST-MODIFIED:20250924T190811Z
UID:10003435-1792454400-1792540799@thedoghousebarandgrill.com
SUMMARY:TUESDAY TRIVIA NIGHT
DESCRIPTION:  \nTRIVIA 7pm -9pm\nEach trivia event is based around a DJ experience combined with a trivia contest that offers fun competition for all\, along with prizes for the top teams. \nLIKE AND SHARE our posts on Facebook and/or Instagram then show us to receive 1 FREE trivia answer! \nLARGEST TEAM GETS FREE SHOTS! \n$1.50 WINGS ALL DAY
URL:https://thedoghousebarandgrill.com/calendar/tuesday-trivia-night/2026-10-20/
LOCATION:The Dog House Bar and Grill\, 2029 Woodlynn Ave\, St Paul\, MN\, 55109\, United States
CATEGORIES:Trivia,Weekdays
ATTACH;FMTTYPE=image/png:https://thedoghousebarandgrill.com/wp-content/uploads/2025/09/Tues.-Trivia-Wings-Night-Dog-House-.png
ORGANIZER;CN="The Dog House Bar and Grill":MAILTO:thedoghousemn@gmail.com
END:VEVENT
BEGIN:VEVENT
DTSTART;VALUE=DATE:20261021
DTEND;VALUE=DATE:20261022
DTSTAMP:20260422T032410
CREATED:20240126T202135Z
LAST-MODIFIED:20250924T190944Z
UID:10003697-1792540800-1792627199@thedoghousebarandgrill.com
SUMMARY:WEDNESDAY BINGO NIGHT
DESCRIPTION:Cash Bingo starts at 6:30pm\n$99 Games & 2 Guaranteed cover all $700 7 $1000\nMeat Raffle from Borcherts Meat market\n3 Ball Call!!!\n$2/Pulltab\nAvailable for purchase 90 minutes prior to bingo ONLY.  Save all the Pulltabs with bingo balls on them for a chances at: \nAn extra $200 payout on Game #1\nAn extra $400 payout on Game #2\nAn extra $500 payout on Game #3 \nNeed not play bingo to win these extra prizes!! \n+ Daily Chef Specials.\n(Ask your server/bartender or check our social media for details)
URL:https://thedoghousebarandgrill.com/calendar/wednesday-bingo-night/2026-10-21/
LOCATION:The Dog House Bar and Grill\, 2029 Woodlynn Ave\, St Paul\, MN\, 55109\, United States
CATEGORIES:Bingo,Weekdays
ATTACH;FMTTYPE=image/jpeg:https://thedoghousebarandgrill.com/wp-content/uploads/2021/11/cash-bingo-banner.jpg
ORGANIZER;CN="The Dog House Bar and Grill":MAILTO:thedoghousemn@gmail.com
END:VEVENT
BEGIN:VEVENT
DTSTART;TZID=America/Chicago:20261022T000000
DTEND;TZID=America/Chicago:20261022T235959
DTSTAMP:20260422T032410
CREATED:20260204T204951Z
LAST-MODIFIED:20260204T205008Z
UID:10005752-1792627200-1792713599@thedoghousebarandgrill.com
SUMMARY:THURSDAY SPECIALS
DESCRIPTION:Kids Eat Free Thursdays at The Dog House Bar & Grill! \n\n\n\nBring the whole family out every Thursday from 4PM–8PM and let the kids eat FREE! Enjoy great food\, a fun atmosphere\, and quality time together while saving on dinner. \n\n\n\nLimit one free kids meal from the kids menu per adult entrée purchased. Dine-in only. \n\n\n\n\n\n\n\n\n\n\n\nDJ & DANCING at 9:30pm with the Official MN Wild DJ himself: DJ YS \n\n\n\nHappy Hour 11am-6pm & 9pm – 11pm
URL:https://thedoghousebarandgrill.com/calendar/thursday-specials/2026-10-22/
LOCATION:The Dog House Bar and Grill\, 2029 Woodlynn Ave\, St Paul\, MN\, 55109\, United States
ATTACH;FMTTYPE=image/jpeg:https://thedoghousebarandgrill.com/wp-content/uploads/2024/01/Kids-Eat-Free-Thurs-DogHouse.jpg
END:VEVENT
BEGIN:VEVENT
DTSTART;TZID=America/Chicago:20261025T100000
DTEND;TZID=America/Chicago:20261025T235900
DTSTAMP:20260422T032410
CREATED:20260109T214810Z
LAST-MODIFIED:20260109T214838Z
UID:10005224-1792922400-1792972740@thedoghousebarandgrill.com
SUMMARY:SUNDAY FUNDAY!
DESCRIPTION:Cash Bingo 1st and 3rd Sundays | 3:30pm\n\n\n\nCoach Purse Bingo 2nd\, 4th and 5th Sundays | 3:30pm\n\n\n\nMeat Raffle During Bingo\n\n\n\nTexas hold ’em at 7pm\n\n\n\nWin up to $100 in cash! \n\n\n\nALL DAY HAPPY HOUR
URL:https://thedoghousebarandgrill.com/calendar/sunday-funday-2/2026-10-25/
LOCATION:The Dog House Bar and Grill\, 2029 Woodlynn Ave\, St Paul\, MN\, 55109\, United States
ATTACH;FMTTYPE=image/jpeg:https://thedoghousebarandgrill.com/wp-content/uploads/2026/01/Bingo_real-image-at-Dog-House.jpg
END:VEVENT
BEGIN:VEVENT
DTSTART;TZID=America/Chicago:20261025T190000
DTEND;TZID=America/Chicago:20261025T220000
DTSTAMP:20260422T032410
CREATED:20250212T035145Z
LAST-MODIFIED:20250212T035145Z
UID:10002910-1792954800-1792965600@thedoghousebarandgrill.com
SUMMARY:FREE Poker Night
DESCRIPTION:FREE TEXAS HOLD ‘EM!\nThe more players the bigger the payout\, so share this with your friends! \nLast sunday of the month we are doing a Bigger Payout Game ($100 cash\, $60 cash\, $25 gift card\, $15 gift card)
URL:https://thedoghousebarandgrill.com/calendar/free-poker-night/2026-10-25/
LOCATION:The Dog House Bar and Grill\, 2029 Woodlynn Ave\, St Paul\, MN\, 55109\, United States
CATEGORIES:Live Music
ATTACH;FMTTYPE=image/png:https://thedoghousebarandgrill.com/wp-content/uploads/2025/02/Poker-Night-Sundays-Doghouse.png
ORGANIZER;CN="The Dog House Bar and Grill":MAILTO:thedoghousemn@gmail.com
END:VEVENT
BEGIN:VEVENT
DTSTART;VALUE=DATE:20261026
DTEND;VALUE=DATE:20261027
DTSTAMP:20260422T032410
CREATED:20240126T194845Z
LAST-MODIFIED:20260319T141939Z
UID:10003173-1792972800-1793059199@thedoghousebarandgrill.com
SUMMARY:MONDAY KARAOKE NIGHT & SPECIALS
DESCRIPTION: \nKaraoke With Ick: 9pm to 1am\n10PM – 1AM\nLate Night Happy Hour\n$1.50 OFF all alcoholic drinks\n$4-$8 Happy Appetizers\n\n+ $5 OFF All Burgers\, All Day!\n\n 
URL:https://thedoghousebarandgrill.com/calendar/monday-karaoke-night/2026-10-26/
LOCATION:The Dog House Bar and Grill\, 2029 Woodlynn Ave\, St Paul\, MN\, 55109\, United States
CATEGORIES:Karaoke,Weekdays
ATTACH;FMTTYPE=image/jpeg:https://thedoghousebarandgrill.com/wp-content/uploads/2024/01/Monday-Karaoke-Night-New-Dog-House.jpg
ORGANIZER;CN="The Dog House Bar and Grill":MAILTO:thedoghousemn@gmail.com
END:VEVENT
BEGIN:VEVENT
DTSTART;VALUE=DATE:20261027
DTEND;VALUE=DATE:20261028
DTSTAMP:20260422T032410
CREATED:20240126T201409Z
LAST-MODIFIED:20250924T190811Z
UID:10003436-1793059200-1793145599@thedoghousebarandgrill.com
SUMMARY:TUESDAY TRIVIA NIGHT
DESCRIPTION:  \nTRIVIA 7pm -9pm\nEach trivia event is based around a DJ experience combined with a trivia contest that offers fun competition for all\, along with prizes for the top teams. \nLIKE AND SHARE our posts on Facebook and/or Instagram then show us to receive 1 FREE trivia answer! \nLARGEST TEAM GETS FREE SHOTS! \n$1.50 WINGS ALL DAY
URL:https://thedoghousebarandgrill.com/calendar/tuesday-trivia-night/2026-10-27/
LOCATION:The Dog House Bar and Grill\, 2029 Woodlynn Ave\, St Paul\, MN\, 55109\, United States
CATEGORIES:Trivia,Weekdays
ATTACH;FMTTYPE=image/png:https://thedoghousebarandgrill.com/wp-content/uploads/2025/09/Tues.-Trivia-Wings-Night-Dog-House-.png
ORGANIZER;CN="The Dog House Bar and Grill":MAILTO:thedoghousemn@gmail.com
END:VEVENT
BEGIN:VEVENT
DTSTART;VALUE=DATE:20261028
DTEND;VALUE=DATE:20261029
DTSTAMP:20260422T032410
CREATED:20240126T202135Z
LAST-MODIFIED:20250924T190944Z
UID:10003698-1793145600-1793231999@thedoghousebarandgrill.com
SUMMARY:WEDNESDAY BINGO NIGHT
DESCRIPTION:Cash Bingo starts at 6:30pm\n$99 Games & 2 Guaranteed cover all $700 7 $1000\nMeat Raffle from Borcherts Meat market\n3 Ball Call!!!\n$2/Pulltab\nAvailable for purchase 90 minutes prior to bingo ONLY.  Save all the Pulltabs with bingo balls on them for a chances at: \nAn extra $200 payout on Game #1\nAn extra $400 payout on Game #2\nAn extra $500 payout on Game #3 \nNeed not play bingo to win these extra prizes!! \n+ Daily Chef Specials.\n(Ask your server/bartender or check our social media for details)
URL:https://thedoghousebarandgrill.com/calendar/wednesday-bingo-night/2026-10-28/
LOCATION:The Dog House Bar and Grill\, 2029 Woodlynn Ave\, St Paul\, MN\, 55109\, United States
CATEGORIES:Bingo,Weekdays
ATTACH;FMTTYPE=image/jpeg:https://thedoghousebarandgrill.com/wp-content/uploads/2021/11/cash-bingo-banner.jpg
ORGANIZER;CN="The Dog House Bar and Grill":MAILTO:thedoghousemn@gmail.com
END:VEVENT
BEGIN:VEVENT
DTSTART;TZID=America/Chicago:20261029T000000
DTEND;TZID=America/Chicago:20261029T235959
DTSTAMP:20260422T032410
CREATED:20260204T204951Z
LAST-MODIFIED:20260204T205008Z
UID:10005753-1793232000-1793318399@thedoghousebarandgrill.com
SUMMARY:THURSDAY SPECIALS
DESCRIPTION:Kids Eat Free Thursdays at The Dog House Bar & Grill! \n\n\n\nBring the whole family out every Thursday from 4PM–8PM and let the kids eat FREE! Enjoy great food\, a fun atmosphere\, and quality time together while saving on dinner. \n\n\n\nLimit one free kids meal from the kids menu per adult entrée purchased. Dine-in only. \n\n\n\n\n\n\n\n\n\n\n\nDJ & DANCING at 9:30pm with the Official MN Wild DJ himself: DJ YS \n\n\n\nHappy Hour 11am-6pm & 9pm – 11pm
URL:https://thedoghousebarandgrill.com/calendar/thursday-specials/2026-10-29/
LOCATION:The Dog House Bar and Grill\, 2029 Woodlynn Ave\, St Paul\, MN\, 55109\, United States
ATTACH;FMTTYPE=image/jpeg:https://thedoghousebarandgrill.com/wp-content/uploads/2024/01/Kids-Eat-Free-Thurs-DogHouse.jpg
END:VEVENT
END:VCALENDAR