BEGIN:VCALENDAR
VERSION:2.0
PRODID:-//The Dog House Bar and Grill - ECPv6.15.17.1//NONSGML v1.0//EN
CALSCALE:GREGORIAN
METHOD:PUBLISH
X-WR-CALNAME:The Dog House Bar and Grill
X-ORIGINAL-URL:https://thedoghousebarandgrill.com
X-WR-CALDESC:Events for The Dog House Bar and Grill
REFRESH-INTERVAL;VALUE=DURATION:PT1H
X-Robots-Tag:noindex
X-PUBLISHED-TTL:PT1H
BEGIN:VTIMEZONE
TZID:America/Chicago
BEGIN:DAYLIGHT
TZOFFSETFROM:-0600
TZOFFSETTO:-0500
TZNAME:CDT
DTSTART:20250309T080000
END:DAYLIGHT
BEGIN:STANDARD
TZOFFSETFROM:-0500
TZOFFSETTO:-0600
TZNAME:CST
DTSTART:20251102T070000
END:STANDARD
BEGIN:DAYLIGHT
TZOFFSETFROM:-0600
TZOFFSETTO:-0500
TZNAME:CDT
DTSTART:20260308T080000
END:DAYLIGHT
BEGIN:STANDARD
TZOFFSETFROM:-0500
TZOFFSETTO:-0600
TZNAME:CST
DTSTART:20261101T070000
END:STANDARD
BEGIN:DAYLIGHT
TZOFFSETFROM:-0600
TZOFFSETTO:-0500
TZNAME:CDT
DTSTART:20270314T080000
END:DAYLIGHT
BEGIN:STANDARD
TZOFFSETFROM:-0500
TZOFFSETTO:-0600
TZNAME:CST
DTSTART:20271107T070000
END:STANDARD
END:VTIMEZONE
BEGIN:VEVENT
DTSTART;TZID=America/Chicago:20260501T200000
DTEND;TZID=America/Chicago:20260501T235900
DTSTAMP:20260421T205250
CREATED:20260318T032119Z
LAST-MODIFIED:20260419T182314Z
UID:10005998-1777665600-1777679940@thedoghousebarandgrill.com
SUMMARY:PopROCKS!
DESCRIPTION:PopROCKS! is a high energy immersive experience — 3 powerhouse vocalists\, 30+ costume changes\, and spot-on impersonations of Lady Gaga\, Ozzy Osbourne\, Katy Perry\, Garth Brooks and more. More than a band. A full show. \n\n\n\nReserve your table — $20–$30 4–6 person table · Guarantees your spot \n\n\n\nGeneral admission — $10 cash at the door First come first serve · ATM inside \n\n\n\nReservations close at 4PM day of show
URL:https://thedoghousebarandgrill.com/calendar/poprocks-4/
LOCATION:The Dog House Bar and Grill\, 2029 Woodlynn Ave\, St Paul\, MN\, 55109\, United States
ATTACH;FMTTYPE=image/jpeg:https://thedoghousebarandgrill.com/wp-content/uploads/2026/04/Poprocks-Header-April-2026.jpg
END:VEVENT
BEGIN:VEVENT
DTSTART;TZID=America/Chicago:20260502T200000
DTEND;TZID=America/Chicago:20260502T235900
DTSTAMP:20260421T205250
CREATED:20260318T032712Z
LAST-MODIFIED:20260420T033058Z
UID:10005999-1777752000-1777766340@thedoghousebarandgrill.com
SUMMARY:Strange Daze
DESCRIPTION:Experience a powerful\, authentic rock night featuring Strange Daze. They’re a nationally charted Minneapolis rock act that’s shared stages with Aerosmith\, ZZ Top\, Lynyrd Skynyrd\, 3 Doors Down and more. This show blends the raw energy of original alternative rock with the gritty edge of 90’s rock and grunge\, delivering a sound that’s loud\, honest\, and unforgettable. \n\n\n\n🎶 If you love real alternative rock with edge and attitude\, this is your night. \n\n\n\n$8 Cash cover at the door. (ATM inside) \n\n\n\nReserve your table — $20–$30 4–6 person table · Guarantees your spot \n\n\n\nGeneral admission — $10 cash at the door First come first serve · ATM inside \n\n\n\nReservations close at 4PM day of show
URL:https://thedoghousebarandgrill.com/calendar/strange-daze-2/
LOCATION:The Dog House Bar and Grill\, 2029 Woodlynn Ave\, St Paul\, MN\, 55109\, United States
ATTACH;FMTTYPE=image/png:https://thedoghousebarandgrill.com/wp-content/uploads/2026/03/Strange-Daze_Sunshine-Behavior.png
END:VEVENT
BEGIN:VEVENT
DTSTART;TZID=America/Chicago:20260503T100000
DTEND;TZID=America/Chicago:20260503T235900
DTSTAMP:20260421T205250
CREATED:20260109T214810Z
LAST-MODIFIED:20260109T214838Z
UID:10005199-1777802400-1777852740@thedoghousebarandgrill.com
SUMMARY:SUNDAY FUNDAY!
DESCRIPTION:Cash Bingo 1st and 3rd Sundays | 3:30pm\n\n\n\nCoach Purse Bingo 2nd\, 4th and 5th Sundays | 3:30pm\n\n\n\nMeat Raffle During Bingo\n\n\n\nTexas hold ’em at 7pm\n\n\n\nWin up to $100 in cash! \n\n\n\nALL DAY HAPPY HOUR
URL:https://thedoghousebarandgrill.com/calendar/sunday-funday-2/2026-05-03/
LOCATION:The Dog House Bar and Grill\, 2029 Woodlynn Ave\, St Paul\, MN\, 55109\, United States
ATTACH;FMTTYPE=image/jpeg:https://thedoghousebarandgrill.com/wp-content/uploads/2026/01/Bingo_real-image-at-Dog-House.jpg
END:VEVENT
BEGIN:VEVENT
DTSTART;TZID=America/Chicago:20260503T190000
DTEND;TZID=America/Chicago:20260503T220000
DTSTAMP:20260421T205250
CREATED:20250212T035145Z
LAST-MODIFIED:20250212T035145Z
UID:10002885-1777834800-1777845600@thedoghousebarandgrill.com
SUMMARY:FREE Poker Night
DESCRIPTION:FREE TEXAS HOLD ‘EM!\nThe more players the bigger the payout\, so share this with your friends! \nLast sunday of the month we are doing a Bigger Payout Game ($100 cash\, $60 cash\, $25 gift card\, $15 gift card)
URL:https://thedoghousebarandgrill.com/calendar/free-poker-night/2026-05-03/
LOCATION:The Dog House Bar and Grill\, 2029 Woodlynn Ave\, St Paul\, MN\, 55109\, United States
CATEGORIES:Live Music
ATTACH;FMTTYPE=image/png:https://thedoghousebarandgrill.com/wp-content/uploads/2025/02/Poker-Night-Sundays-Doghouse.png
ORGANIZER;CN="The Dog House Bar and Grill":MAILTO:thedoghousemn@gmail.com
END:VEVENT
BEGIN:VEVENT
DTSTART;VALUE=DATE:20260504
DTEND;VALUE=DATE:20260505
DTSTAMP:20260421T205250
CREATED:20240126T194845Z
LAST-MODIFIED:20260319T141939Z
UID:10003148-1777852800-1777939199@thedoghousebarandgrill.com
SUMMARY:MONDAY KARAOKE NIGHT & SPECIALS
DESCRIPTION: \nKaraoke With Ick: 9pm to 1am\n10PM – 1AM\nLate Night Happy Hour\n$1.50 OFF all alcoholic drinks\n$4-$8 Happy Appetizers\n\n+ $5 OFF All Burgers\, All Day!\n\n 
URL:https://thedoghousebarandgrill.com/calendar/monday-karaoke-night/2026-05-04/
LOCATION:The Dog House Bar and Grill\, 2029 Woodlynn Ave\, St Paul\, MN\, 55109\, United States
CATEGORIES:Karaoke,Weekdays
ATTACH;FMTTYPE=image/jpeg:https://thedoghousebarandgrill.com/wp-content/uploads/2024/01/Monday-Karaoke-Night-New-Dog-House.jpg
ORGANIZER;CN="The Dog House Bar and Grill":MAILTO:thedoghousemn@gmail.com
END:VEVENT
BEGIN:VEVENT
DTSTART;VALUE=DATE:20260505
DTEND;VALUE=DATE:20260506
DTSTAMP:20260421T205250
CREATED:20240126T201409Z
LAST-MODIFIED:20250924T190811Z
UID:10003411-1777939200-1778025599@thedoghousebarandgrill.com
SUMMARY:TUESDAY TRIVIA NIGHT
DESCRIPTION:  \nTRIVIA 7pm -9pm\nEach trivia event is based around a DJ experience combined with a trivia contest that offers fun competition for all\, along with prizes for the top teams. \nLIKE AND SHARE our posts on Facebook and/or Instagram then show us to receive 1 FREE trivia answer! \nLARGEST TEAM GETS FREE SHOTS! \n$1.50 WINGS ALL DAY
URL:https://thedoghousebarandgrill.com/calendar/tuesday-trivia-night/2026-05-05/
LOCATION:The Dog House Bar and Grill\, 2029 Woodlynn Ave\, St Paul\, MN\, 55109\, United States
CATEGORIES:Trivia,Weekdays
ATTACH;FMTTYPE=image/png:https://thedoghousebarandgrill.com/wp-content/uploads/2025/09/Tues.-Trivia-Wings-Night-Dog-House-.png
ORGANIZER;CN="The Dog House Bar and Grill":MAILTO:thedoghousemn@gmail.com
END:VEVENT
BEGIN:VEVENT
DTSTART;VALUE=DATE:20260506
DTEND;VALUE=DATE:20260507
DTSTAMP:20260421T205250
CREATED:20240126T202135Z
LAST-MODIFIED:20250924T190944Z
UID:10003673-1778025600-1778111999@thedoghousebarandgrill.com
SUMMARY:WEDNESDAY BINGO NIGHT
DESCRIPTION:Cash Bingo starts at 6:30pm\n$99 Games & 2 Guaranteed cover all $700 7 $1000\nMeat Raffle from Borcherts Meat market\n3 Ball Call!!!\n$2/Pulltab\nAvailable for purchase 90 minutes prior to bingo ONLY.  Save all the Pulltabs with bingo balls on them for a chances at: \nAn extra $200 payout on Game #1\nAn extra $400 payout on Game #2\nAn extra $500 payout on Game #3 \nNeed not play bingo to win these extra prizes!! \n+ Daily Chef Specials.\n(Ask your server/bartender or check our social media for details)
URL:https://thedoghousebarandgrill.com/calendar/wednesday-bingo-night/2026-05-06/
LOCATION:The Dog House Bar and Grill\, 2029 Woodlynn Ave\, St Paul\, MN\, 55109\, United States
CATEGORIES:Bingo,Weekdays
ATTACH;FMTTYPE=image/jpeg:https://thedoghousebarandgrill.com/wp-content/uploads/2021/11/cash-bingo-banner.jpg
ORGANIZER;CN="The Dog House Bar and Grill":MAILTO:thedoghousemn@gmail.com
END:VEVENT
BEGIN:VEVENT
DTSTART;TZID=America/Chicago:20260507T000000
DTEND;TZID=America/Chicago:20260507T235959
DTSTAMP:20260421T205250
CREATED:20260204T204951Z
LAST-MODIFIED:20260204T205008Z
UID:10005728-1778112000-1778198399@thedoghousebarandgrill.com
SUMMARY:THURSDAY SPECIALS
DESCRIPTION:Kids Eat Free Thursdays at The Dog House Bar & Grill! \n\n\n\nBring the whole family out every Thursday from 4PM–8PM and let the kids eat FREE! Enjoy great food\, a fun atmosphere\, and quality time together while saving on dinner. \n\n\n\nLimit one free kids meal from the kids menu per adult entrée purchased. Dine-in only. \n\n\n\n\n\n\n\n\n\n\n\nDJ & DANCING at 9:30pm with the Official MN Wild DJ himself: DJ YS \n\n\n\nHappy Hour 11am-6pm & 9pm – 11pm
URL:https://thedoghousebarandgrill.com/calendar/thursday-specials/2026-05-07/
LOCATION:The Dog House Bar and Grill\, 2029 Woodlynn Ave\, St Paul\, MN\, 55109\, United States
ATTACH;FMTTYPE=image/jpeg:https://thedoghousebarandgrill.com/wp-content/uploads/2024/01/Kids-Eat-Free-Thurs-DogHouse.jpg
END:VEVENT
BEGIN:VEVENT
DTSTART;TZID=America/Chicago:20260508T200000
DTEND;TZID=America/Chicago:20260508T235900
DTSTAMP:20260421T205250
CREATED:20260318T033444Z
LAST-MODIFIED:20260318T211630Z
UID:10006000-1778270400-1778284740@thedoghousebarandgrill.com
SUMMARY:Bobby Jensen and the Dead Cowboys
DESCRIPTION:“Dead Cowboys” isn’t just an album—it’s a full-throttle ride through the mythic badlands of Heavy Western. Bobby Jensen delivers a sonic sermon that fuses outlaw country grit with rock ‘n’ roll firepower\, conjuring a world where possessed semis\, haunted saloons\, and chrome-drenched legends roar to life. \n\n\n\nFrom the opening riff to the final howl\, this record bleeds attitude and atmosphere. It’s dust\, danger\, and divine rebellion—every track a roadside altar to the wild\, the weird\, and the unapologetically loud. If you’ve ever wanted to baptize your soul in gasoline and gospel\, Bobby Jensen’s Dead Cowboys is your soundtrack. Saddle up and let it burn. \n\n\n\nRESERVE A TABLE BELOW!(4-6 person table. Guarantees a spot. Does NOT include admission\, must purchase at the door.) \n\n\n\n$10 cash General admission at the door. (ATM inside) (First come first serve\, standing room without a reserved table)
URL:https://thedoghousebarandgrill.com/calendar/bobby-jensen-and-the-dead-cowboys/
LOCATION:The Dog House Bar and Grill\, 2029 Woodlynn Ave\, St Paul\, MN\, 55109\, United States
ATTACH;FMTTYPE=image/webp:https://thedoghousebarandgrill.com/wp-content/uploads/2026/03/Bobby-Jensen-and-the-Dead-Cowboys.webp
END:VEVENT
BEGIN:VEVENT
DTSTART;TZID=America/Chicago:20260509T210000
DTEND;TZID=America/Chicago:20260509T233000
DTSTAMP:20260421T205250
CREATED:20260318T034135Z
LAST-MODIFIED:20260318T211749Z
UID:10006001-1778360400-1778369400@thedoghousebarandgrill.com
SUMMARY:The Hype!
DESCRIPTION:Take a musical and visual road trip back to the 80’s\, when bands rocked your world and kicked some butt on stage too.\n\n\n\nPerforming the biggest hits from Motley Crue\, Def Leppard\, Poison\, Bon Jovi\, and Aerosmith\, The HYPE! present 5 Mini-Concerts packed into over two hours of Electrifying\, High Energy 80’s Glamtastic\, Bombastic Rock! \n\n\n\n\n\n\n\nGET TICKETS!\n\n\n\nPurchase General Admission Tickets below!\n\n\n\n(purchasing a general admission ticket is first come first serve and does not include seating) \n\n\n\n\nGeneral Admission Tickets!\n\n\n\n\n\n\n\n\nWant to guarantee a place to sit?\n\n\n\nReserve a VIP table below! \n\n\n\n(reserving a VIP Table does not include admission. Must purchase general admission separately above) \n\n\n\n\n\n\n\n\n\n\n\n\n\n\n\n\n\n\n\nTable reservations are taken until 4p the day of the show…after 4p please contact the bar to see availability!
URL:https://thedoghousebarandgrill.com/calendar/the-hype-3/
LOCATION:The Dog House Bar and Grill\, 2029 Woodlynn Ave\, St Paul\, MN\, 55109\, United States
CATEGORIES:Live Music
ATTACH;FMTTYPE=image/jpeg:https://thedoghousebarandgrill.com/wp-content/uploads/2023/11/The-Hype.jpeg
END:VEVENT
BEGIN:VEVENT
DTSTART;TZID=America/Chicago:20260515T200000
DTEND;TZID=America/Chicago:20260515T233000
DTSTAMP:20260421T205250
CREATED:20260318T034652Z
LAST-MODIFIED:20260318T211911Z
UID:10006002-1778875200-1778887800@thedoghousebarandgrill.com
SUMMARY:Some Shitty Cover Band
DESCRIPTION:Some Shitty Cover Band brings together 4 members of successful original bands Quietdrive\, Take Cover\, and The Usual Things\, to inject life back into what has become a stale and uninteresting arena of live music — covers.  With an exciting show\, and a no-frills\, explosive stage performance\, SSCB draws on experience from thousands of cumulative shows\, tours\, and hard-won fans in their original acts\, to rise above the monotony of the Minneapolis cover band scene.\n\n\n\n\n\n\n\nReserve your VIP Table below!\n\n\n\n(Purchasing a VIP Table does not include admission. Must purchase admission at the door.) \n\n\n\n\n\n\n\n\n\n\n\n\n\n\n\n\n\n\n\nTable reservations are taken until 4p the day of the show…after 4p please contact the bar to see availability!
URL:https://thedoghousebarandgrill.com/calendar/some-shitty-cover-band/
LOCATION:The Dog House Bar and Grill\, 2029 Woodlynn Ave\, St Paul\, MN\, 55109\, United States
ATTACH;FMTTYPE=image/jpeg:https://thedoghousebarandgrill.com/wp-content/uploads/2025/02/Some-Shitty-Cover-Band-2025-live-scaled.jpeg
END:VEVENT
BEGIN:VEVENT
DTSTART;TZID=America/Chicago:20260516T140000
DTEND;TZID=America/Chicago:20260516T180000
DTSTAMP:20260421T205250
CREATED:20260421T175741Z
LAST-MODIFIED:20260421T175745Z
UID:10006009-1778940000-1778954400@thedoghousebarandgrill.com
SUMMARY:Semlak Strong Benefit — Supporting Andy Semlak & His Family
DESCRIPTION:The Dog House Bar & Grill is proud to host the Semlak Strong Benefit — a community fundraiser supporting Andy Semlak and his family as they navigate one of life’s most difficult journeys. \n\n\n\nIn June 2025\, Andy was diagnosed with Stage IV Renal Cell Carcinoma\, an aggressive form of kidney cancer that has spread to his brain\, bones\, lungs\, adrenal glands\, and gall bladder. The road ahead is long\, costly\, and demanding — but Andy\, his wife Molly\, and their children Jacob and Isabella are not walking it alone. \n\n\n\nThis event is about showing up for one of our own. Come out\, have a great time\, and make a real difference. \n\n\n\n\n\n\n\n🎟️ Tickets\n\n\n\n$25 in Advance | $30 at the Door \n\n\n\n\nPurchase tickets in advance!\n\n\n\n\n\n\n\n\n🎉 Event Highlights\n\n\n\n\nTaco Feed — Come hungry\n\n\n\nSilent Auction — Score something great for a great cause\n\n\n\nRaffles — Your ticket could be a winner\n\n\n\n$100 Cash Drawing — Because who couldn’t use that\n\n\n\n\n\n\n\n\n💛 Where Your Money Goes\n\n\n\nEvery dollar raised directly supports the Semlak family with: \n\n\n\n\nMedical and treatment expenses\n\n\n\nGroceries and basic necessities\n\n\n\nHousehold expenses\n\n\n\nSupport for Jacob & Isabella\n\n\n\nA portion donated to Kidney Cancer Research\n\n\n\n\n\n\n\n\n📬 Get Involved or Donate\n\n\n\nCan’t make it in person? You can still help. \n\n\n\n\nWebsite: www.semlakstrong.org\n\n\n\nEmail: semlakstrong@gmail.com\n\n\n\nGoFundMe: Visit semlakstrong.org to donate directly\n\n\n\n\n\nThe Dog House Bar & Grill is honored to stand with the Semlak family. This is what community looks like. \n\n\n\n\n\n\n\n\n📍 Location\n\n\n\nThe Dog House Bar & Grill 2029 Woodlynn Ave\, Maplewood\, MN 55109 (651) 621-1535 \n\n\n\nThe Dog House has long been a home for the Maplewood and Twin Cities community — for live music\, good food\, and moments that matter. Hosting events like this is exactly who we are. Come. Sit. Stay. And help us make a difference.
URL:https://thedoghousebarandgrill.com/calendar/semlak-strong-benefit-maplewood-mn/
LOCATION:The Dog House Bar and Grill\, 2029 Woodlynn Ave\, St Paul\, MN\, 55109\, United States
ATTACH;FMTTYPE=image/jpeg:https://thedoghousebarandgrill.com/wp-content/uploads/2026/04/Semlak-Benefit-Flyer-event.jpg
END:VEVENT
BEGIN:VEVENT
DTSTART;TZID=America/Chicago:20260516T200000
DTEND;TZID=America/Chicago:20260516T235900
DTSTAMP:20260421T205250
CREATED:20260318T041248Z
LAST-MODIFIED:20260415T202146Z
UID:10006003-1778961600-1778975940@thedoghousebarandgrill.com
SUMMARY:Rough House Rox
DESCRIPTION:Rough House Rox plays everything fromAldean to Zeppelin!!!Classic rock80s rock90s rockmodern rockFunkMetalOld countryModern countrySomething for everyone \n\n\n\n$8 Cash cover at the door. (ATM inside) \n\n\n\n\n\n\n\n\n\n\n\n\n\n\n\n\n\n\n\nTable reservations are taken until 4p the day of the show…after 4p please contact the bar to see availability!
URL:https://thedoghousebarandgrill.com/calendar/rough-house-rox/
LOCATION:The Dog House Bar and Grill\, 2029 Woodlynn Ave\, St Paul\, MN\, 55109\, United States
ATTACH;FMTTYPE=image/jpeg:https://thedoghousebarandgrill.com/wp-content/uploads/2026/03/Rough-House-Rox.jpg
END:VEVENT
BEGIN:VEVENT
DTSTART;TZID=America/Chicago:20260529T200000
DTEND;TZID=America/Chicago:20260529T233000
DTSTAMP:20260421T205250
CREATED:20260318T192524Z
LAST-MODIFIED:20260416T222738Z
UID:10006005-1780084800-1780097400@thedoghousebarandgrill.com
SUMMARY:RUDE GIRL and FEMMELECTRIC
DESCRIPTION:GRRRRRL POWER PARTY!  \n\n\n\nJoin us for a high-energy night of music\, attitude\, and pure girl-powered fun as Femmelectric teams up with Rude Girl for a killer dual bill! \n\n\n\nGet ready for: Crowd-favorite hits Big vocals + bold energy A packed dance floor \n\n\n\nWhether you’re here to rock out\, dance it out\, or just soak in the vibe—this is the night to do it. \n\n\n\nBring your people. Bring your energy. \n\n\n\nRESERVE A TABLE BELOW!(4-6 person table. Guarantees a spot. Does NOT include admission\, must purchase at the door.) \n\n\n\n$8 cash General admission at the door. (ATM inside) (First come first serve\, standing room without a reserved table) \n\n\n\n\n\n\n\n\n\n\n\n\n\n\n\n\n\n\n\nTable reservations are taken until 4p the day of the show…after 4p please contact the bar to see availability!
URL:https://thedoghousebarandgrill.com/calendar/rude-girl-and-femmelectric/
LOCATION:The Dog House Bar and Grill\, 2029 Woodlynn Ave\, St Paul\, MN\, 55109\, United States
ATTACH;FMTTYPE=image/png:https://thedoghousebarandgrill.com/wp-content/uploads/2026/03/RUDE-GIRL-and-FEMMELECTRIC.png
END:VEVENT
BEGIN:VEVENT
DTSTART;TZID=America/Chicago:20260530T140000
DTEND;TZID=America/Chicago:20260530T233000
DTSTAMP:20260421T205250
CREATED:20260415T181558Z
LAST-MODIFIED:20260416T013716Z
UID:10006008-1780149600-1780183800@thedoghousebarandgrill.com
SUMMARY:Ride For Wishes Music Festival
DESCRIPTION:Ride for Wishes is celebrating their 22nd Annual Event! They are fundraising to Benefit Make-A-Wish Minnesota!\n\n\n\nCome on down and help make wishes come true for children battling critical illness! \n\n\n\n\n\n\n\nMusic\, Food\, Raffles and More!! \n\n\n\nMultiple bands with something for everyone\, inside on the stage! \n\n\n\nBAND LINE-UPMod GarageShufflecatsAustin HealeyQueen of the RycheHellion \n\n\n\nGates open: @ 2:00 pmMusic starts: @ 3:00 pm \n\n\n\nEntry fee: $20.00– 6 years old and under free (allowed until 9pm).– Bike run participants-included with paid registration. \n\n\n\n\nMusic Festival Tickets\n\n\n\nBike Run Tickets\n\n\n\n\nRide for Wishes website: www.chucksride.com
URL:https://thedoghousebarandgrill.com/calendar/ride-for-wishes-music-festival/
LOCATION:The Dog House Bar and Grill\, 2029 Woodlynn Ave\, St Paul\, MN\, 55109\, United States
ATTACH;FMTTYPE=image/jpeg:https://thedoghousebarandgrill.com/wp-content/uploads/2026/04/Ride-For-Wishes-2026.jpg
END:VEVENT
BEGIN:VEVENT
DTSTART;TZID=America/Chicago:20260606T120000
DTEND;TZID=America/Chicago:20260606T233000
DTSTAMP:20260421T205250
CREATED:20260226T171756Z
LAST-MODIFIED:20260318T212048Z
UID:10005996-1780747200-1780788600@thedoghousebarandgrill.com
SUMMARY:Legends of Rock 2026
DESCRIPTION:The Doghouse Bar & Grill presents: Legends of Rock 2026 \n\n\n\nSeven of the best bands in MN will be hosting an outdoor festival event Saturday June 6th. \n\n\n\nDoors: NoonMusic starts around: 1:00-1:30pm \n\n\n\nAudioStoneOld VoltageKobbMntallicaMad AliceHybrid TheoryExit Stage Right  \n\n\n\nMid-Summer Music Fest will be there with swag and a ticket package give away! \n\n\n\n$20.00 Pre-Sale$30.00 Door \n\n\n\nTICKETS ON SALE NOW! \n\n\n\n\nGET TICKETS
URL:https://thedoghousebarandgrill.com/calendar/legends-of-rock-2026/
LOCATION:The Dog House Bar and Grill\, 2029 Woodlynn Ave\, St Paul\, MN\, 55109\, United States
ATTACH;FMTTYPE=image/jpeg:https://thedoghousebarandgrill.com/wp-content/uploads/2026/02/Legends-of-Rock-2026.jpg
END:VEVENT
BEGIN:VEVENT
DTSTART;TZID=America/Chicago:20260801T110000
DTEND;TZID=America/Chicago:20260801T230000
DTSTAMP:20260421T205250
CREATED:20260127T222512Z
LAST-MODIFIED:20260129T000711Z
UID:10005452-1785582000-1785625200@thedoghousebarandgrill.com
SUMMARY:16th Annual Dog House Golf Tournament
DESCRIPTION:🏌️‍♂️ Tee Off with The Dog House Bar and Grill! 🏌️‍♀️ \n\n\n\nJoin us for our annual Golf Tournament on Saturday\, August 1st at Manitou Ridge Golf Course — it’s going to be a hole-in-one kind of day! \n\n\n\n📍 Start your day right with breakfast at The Dog House at 11am⏰ 1:30 PM Shotgun Start🍽️ Dinner\, drinks\, and giveaways after the tournament💵 $120 per person – includes golf\, cart\, breakfast\, dinner\, and all the fun! \n\n\n\nWhether you’re swinging for fun or shooting for the win\, you won’t want to miss this day of golf\, good food\, and great company. \n\n\n\n🎟️ Spots are limited – SIGN UP BELOW! (disregard that is says “Reserve Table” It is for reserving a Golf Spot)
URL:https://thedoghousebarandgrill.com/calendar/16th-annual-dog-house-golf-tournament/
LOCATION:The Dog House Bar and Grill\, 2029 Woodlynn Ave\, St Paul\, MN\, 55109\, United States
ATTACH;FMTTYPE=image/jpeg:https://thedoghousebarandgrill.com/wp-content/uploads/2026/01/Golf-Tournament-2026-DogHouse.jpg
ORGANIZER;CN="The Dog House Bar and Grill":MAILTO:thedoghousemn@gmail.com
END:VEVENT
END:VCALENDAR