BEGIN:VCALENDAR
VERSION:2.0
PRODID:-//The Dog House Bar and Grill - ECPv6.15.17.1//NONSGML v1.0//EN
CALSCALE:GREGORIAN
METHOD:PUBLISH
X-ORIGINAL-URL:https://thedoghousebarandgrill.com
X-WR-CALDESC:Events for The Dog House Bar and Grill
REFRESH-INTERVAL;VALUE=DURATION:PT1H
X-Robots-Tag:noindex
X-PUBLISHED-TTL:PT1H
BEGIN:VTIMEZONE
TZID:America/Chicago
BEGIN:DAYLIGHT
TZOFFSETFROM:-0600
TZOFFSETTO:-0500
TZNAME:CDT
DTSTART:20250309T080000
END:DAYLIGHT
BEGIN:STANDARD
TZOFFSETFROM:-0500
TZOFFSETTO:-0600
TZNAME:CST
DTSTART:20251102T070000
END:STANDARD
BEGIN:DAYLIGHT
TZOFFSETFROM:-0600
TZOFFSETTO:-0500
TZNAME:CDT
DTSTART:20260308T080000
END:DAYLIGHT
BEGIN:STANDARD
TZOFFSETFROM:-0500
TZOFFSETTO:-0600
TZNAME:CST
DTSTART:20261101T070000
END:STANDARD
BEGIN:DAYLIGHT
TZOFFSETFROM:-0600
TZOFFSETTO:-0500
TZNAME:CDT
DTSTART:20270314T080000
END:DAYLIGHT
BEGIN:STANDARD
TZOFFSETFROM:-0500
TZOFFSETTO:-0600
TZNAME:CST
DTSTART:20271107T070000
END:STANDARD
END:VTIMEZONE
BEGIN:VEVENT
DTSTART;VALUE=DATE:20260202
DTEND;VALUE=DATE:20260203
DTSTAMP:20260422T192710
CREATED:20240126T194845Z
LAST-MODIFIED:20260319T141939Z
UID:10003135-1769990400-1770076799@thedoghousebarandgrill.com
SUMMARY:MONDAY KARAOKE NIGHT & SPECIALS
DESCRIPTION: \nKaraoke With Ick: 9pm to 1am\n10PM – 1AM\nLate Night Happy Hour\n$1.50 OFF all alcoholic drinks\n$4-$8 Happy Appetizers\n\n+ $5 OFF All Burgers\, All Day!\n\n 
URL:https://thedoghousebarandgrill.com/calendar/monday-karaoke-night/2026-02-02/
LOCATION:The Dog House Bar and Grill\, 2029 Woodlynn Ave\, St Paul\, MN\, 55109\, United States
CATEGORIES:Karaoke,Weekdays
ATTACH;FMTTYPE=image/jpeg:https://thedoghousebarandgrill.com/wp-content/uploads/2024/01/Monday-Karaoke-Night-New-Dog-House.jpg
ORGANIZER;CN="The Dog House Bar and Grill":MAILTO:thedoghousemn@gmail.com
END:VEVENT
BEGIN:VEVENT
DTSTART;VALUE=DATE:20260203
DTEND;VALUE=DATE:20260204
DTSTAMP:20260422T192710
CREATED:20240126T201409Z
LAST-MODIFIED:20250924T190811Z
UID:10003398-1770076800-1770163199@thedoghousebarandgrill.com
SUMMARY:TUESDAY TRIVIA NIGHT
DESCRIPTION:  \nTRIVIA 7pm -9pm\nEach trivia event is based around a DJ experience combined with a trivia contest that offers fun competition for all\, along with prizes for the top teams. \nLIKE AND SHARE our posts on Facebook and/or Instagram then show us to receive 1 FREE trivia answer! \nLARGEST TEAM GETS FREE SHOTS! \n$1.50 WINGS ALL DAY
URL:https://thedoghousebarandgrill.com/calendar/tuesday-trivia-night/2026-02-03/
LOCATION:The Dog House Bar and Grill\, 2029 Woodlynn Ave\, St Paul\, MN\, 55109\, United States
CATEGORIES:Trivia,Weekdays
ATTACH;FMTTYPE=image/png:https://thedoghousebarandgrill.com/wp-content/uploads/2025/09/Tues.-Trivia-Wings-Night-Dog-House-.png
ORGANIZER;CN="The Dog House Bar and Grill":MAILTO:thedoghousemn@gmail.com
END:VEVENT
BEGIN:VEVENT
DTSTART;VALUE=DATE:20260204
DTEND;VALUE=DATE:20260205
DTSTAMP:20260422T192710
CREATED:20240126T202135Z
LAST-MODIFIED:20250924T190944Z
UID:10003660-1770163200-1770249599@thedoghousebarandgrill.com
SUMMARY:WEDNESDAY BINGO NIGHT
DESCRIPTION:Cash Bingo starts at 6:30pm\n$99 Games & 2 Guaranteed cover all $700 7 $1000\nMeat Raffle from Borcherts Meat market\n3 Ball Call!!!\n$2/Pulltab\nAvailable for purchase 90 minutes prior to bingo ONLY.  Save all the Pulltabs with bingo balls on them for a chances at: \nAn extra $200 payout on Game #1\nAn extra $400 payout on Game #2\nAn extra $500 payout on Game #3 \nNeed not play bingo to win these extra prizes!! \n+ Daily Chef Specials.\n(Ask your server/bartender or check our social media for details)
URL:https://thedoghousebarandgrill.com/calendar/wednesday-bingo-night/2026-02-04/
LOCATION:The Dog House Bar and Grill\, 2029 Woodlynn Ave\, St Paul\, MN\, 55109\, United States
CATEGORIES:Bingo,Weekdays
ATTACH;FMTTYPE=image/jpeg:https://thedoghousebarandgrill.com/wp-content/uploads/2021/11/cash-bingo-banner.jpg
ORGANIZER;CN="The Dog House Bar and Grill":MAILTO:thedoghousemn@gmail.com
END:VEVENT
BEGIN:VEVENT
DTSTART;VALUE=DATE:20260209
DTEND;VALUE=DATE:20260210
DTSTAMP:20260422T192710
CREATED:20240126T194845Z
LAST-MODIFIED:20260319T141939Z
UID:10003136-1770595200-1770681599@thedoghousebarandgrill.com
SUMMARY:MONDAY KARAOKE NIGHT & SPECIALS
DESCRIPTION: \nKaraoke With Ick: 9pm to 1am\n10PM – 1AM\nLate Night Happy Hour\n$1.50 OFF all alcoholic drinks\n$4-$8 Happy Appetizers\n\n+ $5 OFF All Burgers\, All Day!\n\n 
URL:https://thedoghousebarandgrill.com/calendar/monday-karaoke-night/2026-02-09/
LOCATION:The Dog House Bar and Grill\, 2029 Woodlynn Ave\, St Paul\, MN\, 55109\, United States
CATEGORIES:Karaoke,Weekdays
ATTACH;FMTTYPE=image/jpeg:https://thedoghousebarandgrill.com/wp-content/uploads/2024/01/Monday-Karaoke-Night-New-Dog-House.jpg
ORGANIZER;CN="The Dog House Bar and Grill":MAILTO:thedoghousemn@gmail.com
END:VEVENT
BEGIN:VEVENT
DTSTART;VALUE=DATE:20260210
DTEND;VALUE=DATE:20260211
DTSTAMP:20260422T192710
CREATED:20240126T201409Z
LAST-MODIFIED:20250924T190811Z
UID:10003399-1770681600-1770767999@thedoghousebarandgrill.com
SUMMARY:TUESDAY TRIVIA NIGHT
DESCRIPTION:  \nTRIVIA 7pm -9pm\nEach trivia event is based around a DJ experience combined with a trivia contest that offers fun competition for all\, along with prizes for the top teams. \nLIKE AND SHARE our posts on Facebook and/or Instagram then show us to receive 1 FREE trivia answer! \nLARGEST TEAM GETS FREE SHOTS! \n$1.50 WINGS ALL DAY
URL:https://thedoghousebarandgrill.com/calendar/tuesday-trivia-night/2026-02-10/
LOCATION:The Dog House Bar and Grill\, 2029 Woodlynn Ave\, St Paul\, MN\, 55109\, United States
CATEGORIES:Trivia,Weekdays
ATTACH;FMTTYPE=image/png:https://thedoghousebarandgrill.com/wp-content/uploads/2025/09/Tues.-Trivia-Wings-Night-Dog-House-.png
ORGANIZER;CN="The Dog House Bar and Grill":MAILTO:thedoghousemn@gmail.com
END:VEVENT
BEGIN:VEVENT
DTSTART;VALUE=DATE:20260211
DTEND;VALUE=DATE:20260212
DTSTAMP:20260422T192710
CREATED:20240126T202135Z
LAST-MODIFIED:20250924T190944Z
UID:10003661-1770768000-1770854399@thedoghousebarandgrill.com
SUMMARY:WEDNESDAY BINGO NIGHT
DESCRIPTION:Cash Bingo starts at 6:30pm\n$99 Games & 2 Guaranteed cover all $700 7 $1000\nMeat Raffle from Borcherts Meat market\n3 Ball Call!!!\n$2/Pulltab\nAvailable for purchase 90 minutes prior to bingo ONLY.  Save all the Pulltabs with bingo balls on them for a chances at: \nAn extra $200 payout on Game #1\nAn extra $400 payout on Game #2\nAn extra $500 payout on Game #3 \nNeed not play bingo to win these extra prizes!! \n+ Daily Chef Specials.\n(Ask your server/bartender or check our social media for details)
URL:https://thedoghousebarandgrill.com/calendar/wednesday-bingo-night/2026-02-11/
LOCATION:The Dog House Bar and Grill\, 2029 Woodlynn Ave\, St Paul\, MN\, 55109\, United States
CATEGORIES:Bingo,Weekdays
ATTACH;FMTTYPE=image/jpeg:https://thedoghousebarandgrill.com/wp-content/uploads/2021/11/cash-bingo-banner.jpg
ORGANIZER;CN="The Dog House Bar and Grill":MAILTO:thedoghousemn@gmail.com
END:VEVENT
BEGIN:VEVENT
DTSTART;VALUE=DATE:20260216
DTEND;VALUE=DATE:20260217
DTSTAMP:20260422T192710
CREATED:20240126T194845Z
LAST-MODIFIED:20260319T141939Z
UID:10003137-1771200000-1771286399@thedoghousebarandgrill.com
SUMMARY:MONDAY KARAOKE NIGHT & SPECIALS
DESCRIPTION: \nKaraoke With Ick: 9pm to 1am\n10PM – 1AM\nLate Night Happy Hour\n$1.50 OFF all alcoholic drinks\n$4-$8 Happy Appetizers\n\n+ $5 OFF All Burgers\, All Day!\n\n 
URL:https://thedoghousebarandgrill.com/calendar/monday-karaoke-night/2026-02-16/
LOCATION:The Dog House Bar and Grill\, 2029 Woodlynn Ave\, St Paul\, MN\, 55109\, United States
CATEGORIES:Karaoke,Weekdays
ATTACH;FMTTYPE=image/jpeg:https://thedoghousebarandgrill.com/wp-content/uploads/2024/01/Monday-Karaoke-Night-New-Dog-House.jpg
ORGANIZER;CN="The Dog House Bar and Grill":MAILTO:thedoghousemn@gmail.com
END:VEVENT
BEGIN:VEVENT
DTSTART;VALUE=DATE:20260217
DTEND;VALUE=DATE:20260218
DTSTAMP:20260422T192710
CREATED:20240126T201409Z
LAST-MODIFIED:20250924T190811Z
UID:10003400-1771286400-1771372799@thedoghousebarandgrill.com
SUMMARY:TUESDAY TRIVIA NIGHT
DESCRIPTION:  \nTRIVIA 7pm -9pm\nEach trivia event is based around a DJ experience combined with a trivia contest that offers fun competition for all\, along with prizes for the top teams. \nLIKE AND SHARE our posts on Facebook and/or Instagram then show us to receive 1 FREE trivia answer! \nLARGEST TEAM GETS FREE SHOTS! \n$1.50 WINGS ALL DAY
URL:https://thedoghousebarandgrill.com/calendar/tuesday-trivia-night/2026-02-17/
LOCATION:The Dog House Bar and Grill\, 2029 Woodlynn Ave\, St Paul\, MN\, 55109\, United States
CATEGORIES:Trivia,Weekdays
ATTACH;FMTTYPE=image/png:https://thedoghousebarandgrill.com/wp-content/uploads/2025/09/Tues.-Trivia-Wings-Night-Dog-House-.png
ORGANIZER;CN="The Dog House Bar and Grill":MAILTO:thedoghousemn@gmail.com
END:VEVENT
BEGIN:VEVENT
DTSTART;VALUE=DATE:20260218
DTEND;VALUE=DATE:20260219
DTSTAMP:20260422T192710
CREATED:20240126T202135Z
LAST-MODIFIED:20250924T190944Z
UID:10003662-1771372800-1771459199@thedoghousebarandgrill.com
SUMMARY:WEDNESDAY BINGO NIGHT
DESCRIPTION:Cash Bingo starts at 6:30pm\n$99 Games & 2 Guaranteed cover all $700 7 $1000\nMeat Raffle from Borcherts Meat market\n3 Ball Call!!!\n$2/Pulltab\nAvailable for purchase 90 minutes prior to bingo ONLY.  Save all the Pulltabs with bingo balls on them for a chances at: \nAn extra $200 payout on Game #1\nAn extra $400 payout on Game #2\nAn extra $500 payout on Game #3 \nNeed not play bingo to win these extra prizes!! \n+ Daily Chef Specials.\n(Ask your server/bartender or check our social media for details)
URL:https://thedoghousebarandgrill.com/calendar/wednesday-bingo-night/2026-02-18/
LOCATION:The Dog House Bar and Grill\, 2029 Woodlynn Ave\, St Paul\, MN\, 55109\, United States
CATEGORIES:Bingo,Weekdays
ATTACH;FMTTYPE=image/jpeg:https://thedoghousebarandgrill.com/wp-content/uploads/2021/11/cash-bingo-banner.jpg
ORGANIZER;CN="The Dog House Bar and Grill":MAILTO:thedoghousemn@gmail.com
END:VEVENT
BEGIN:VEVENT
DTSTART;VALUE=DATE:20260223
DTEND;VALUE=DATE:20260224
DTSTAMP:20260422T192710
CREATED:20240126T194845Z
LAST-MODIFIED:20260319T141939Z
UID:10003138-1771804800-1771891199@thedoghousebarandgrill.com
SUMMARY:MONDAY KARAOKE NIGHT & SPECIALS
DESCRIPTION: \nKaraoke With Ick: 9pm to 1am\n10PM – 1AM\nLate Night Happy Hour\n$1.50 OFF all alcoholic drinks\n$4-$8 Happy Appetizers\n\n+ $5 OFF All Burgers\, All Day!\n\n 
URL:https://thedoghousebarandgrill.com/calendar/monday-karaoke-night/2026-02-23/
LOCATION:The Dog House Bar and Grill\, 2029 Woodlynn Ave\, St Paul\, MN\, 55109\, United States
CATEGORIES:Karaoke,Weekdays
ATTACH;FMTTYPE=image/jpeg:https://thedoghousebarandgrill.com/wp-content/uploads/2024/01/Monday-Karaoke-Night-New-Dog-House.jpg
ORGANIZER;CN="The Dog House Bar and Grill":MAILTO:thedoghousemn@gmail.com
END:VEVENT
BEGIN:VEVENT
DTSTART;VALUE=DATE:20260224
DTEND;VALUE=DATE:20260225
DTSTAMP:20260422T192710
CREATED:20240126T201409Z
LAST-MODIFIED:20250924T190811Z
UID:10003401-1771891200-1771977599@thedoghousebarandgrill.com
SUMMARY:TUESDAY TRIVIA NIGHT
DESCRIPTION:  \nTRIVIA 7pm -9pm\nEach trivia event is based around a DJ experience combined with a trivia contest that offers fun competition for all\, along with prizes for the top teams. \nLIKE AND SHARE our posts on Facebook and/or Instagram then show us to receive 1 FREE trivia answer! \nLARGEST TEAM GETS FREE SHOTS! \n$1.50 WINGS ALL DAY
URL:https://thedoghousebarandgrill.com/calendar/tuesday-trivia-night/2026-02-24/
LOCATION:The Dog House Bar and Grill\, 2029 Woodlynn Ave\, St Paul\, MN\, 55109\, United States
CATEGORIES:Trivia,Weekdays
ATTACH;FMTTYPE=image/png:https://thedoghousebarandgrill.com/wp-content/uploads/2025/09/Tues.-Trivia-Wings-Night-Dog-House-.png
ORGANIZER;CN="The Dog House Bar and Grill":MAILTO:thedoghousemn@gmail.com
END:VEVENT
BEGIN:VEVENT
DTSTART;VALUE=DATE:20260225
DTEND;VALUE=DATE:20260226
DTSTAMP:20260422T192710
CREATED:20240126T202135Z
LAST-MODIFIED:20250924T190944Z
UID:10003663-1771977600-1772063999@thedoghousebarandgrill.com
SUMMARY:WEDNESDAY BINGO NIGHT
DESCRIPTION:Cash Bingo starts at 6:30pm\n$99 Games & 2 Guaranteed cover all $700 7 $1000\nMeat Raffle from Borcherts Meat market\n3 Ball Call!!!\n$2/Pulltab\nAvailable for purchase 90 minutes prior to bingo ONLY.  Save all the Pulltabs with bingo balls on them for a chances at: \nAn extra $200 payout on Game #1\nAn extra $400 payout on Game #2\nAn extra $500 payout on Game #3 \nNeed not play bingo to win these extra prizes!! \n+ Daily Chef Specials.\n(Ask your server/bartender or check our social media for details)
URL:https://thedoghousebarandgrill.com/calendar/wednesday-bingo-night/2026-02-25/
LOCATION:The Dog House Bar and Grill\, 2029 Woodlynn Ave\, St Paul\, MN\, 55109\, United States
CATEGORIES:Bingo,Weekdays
ATTACH;FMTTYPE=image/jpeg:https://thedoghousebarandgrill.com/wp-content/uploads/2021/11/cash-bingo-banner.jpg
ORGANIZER;CN="The Dog House Bar and Grill":MAILTO:thedoghousemn@gmail.com
END:VEVENT
END:VCALENDAR