BEGIN:VCALENDAR
VERSION:2.0
PRODID:-//The Dog House Bar and Grill - ECPv6.15.17.1//NONSGML v1.0//EN
CALSCALE:GREGORIAN
METHOD:PUBLISH
X-ORIGINAL-URL:https://thedoghousebarandgrill.com
X-WR-CALDESC:Events for The Dog House Bar and Grill
REFRESH-INTERVAL;VALUE=DURATION:PT1H
X-Robots-Tag:noindex
X-PUBLISHED-TTL:PT1H
BEGIN:VTIMEZONE
TZID:America/Chicago
BEGIN:DAYLIGHT
TZOFFSETFROM:-0600
TZOFFSETTO:-0500
TZNAME:CDT
DTSTART:20240310T080000
END:DAYLIGHT
BEGIN:STANDARD
TZOFFSETFROM:-0500
TZOFFSETTO:-0600
TZNAME:CST
DTSTART:20241103T070000
END:STANDARD
BEGIN:DAYLIGHT
TZOFFSETFROM:-0600
TZOFFSETTO:-0500
TZNAME:CDT
DTSTART:20250309T080000
END:DAYLIGHT
BEGIN:STANDARD
TZOFFSETFROM:-0500
TZOFFSETTO:-0600
TZNAME:CST
DTSTART:20251102T070000
END:STANDARD
BEGIN:DAYLIGHT
TZOFFSETFROM:-0600
TZOFFSETTO:-0500
TZNAME:CDT
DTSTART:20260308T080000
END:DAYLIGHT
BEGIN:STANDARD
TZOFFSETFROM:-0500
TZOFFSETTO:-0600
TZNAME:CST
DTSTART:20261101T070000
END:STANDARD
END:VTIMEZONE
BEGIN:VEVENT
DTSTART;VALUE=DATE:20251201
DTEND;VALUE=DATE:20251202
DTSTAMP:20260422T224042
CREATED:20240126T194845Z
LAST-MODIFIED:20260319T141939Z
UID:10003126-1764547200-1764633599@thedoghousebarandgrill.com
SUMMARY:MONDAY KARAOKE NIGHT & SPECIALS
DESCRIPTION: \nKaraoke With Ick: 9pm to 1am\n10PM – 1AM\nLate Night Happy Hour\n$1.50 OFF all alcoholic drinks\n$4-$8 Happy Appetizers\n\n+ $5 OFF All Burgers\, All Day!\n\n 
URL:https://thedoghousebarandgrill.com/calendar/monday-karaoke-night/2025-12-01/
LOCATION:The Dog House Bar and Grill\, 2029 Woodlynn Ave\, St Paul\, MN\, 55109\, United States
CATEGORIES:Karaoke,Weekdays
ATTACH;FMTTYPE=image/jpeg:https://thedoghousebarandgrill.com/wp-content/uploads/2024/01/Monday-Karaoke-Night-New-Dog-House.jpg
ORGANIZER;CN="The Dog House Bar and Grill":MAILTO:thedoghousemn@gmail.com
END:VEVENT
BEGIN:VEVENT
DTSTART;VALUE=DATE:20251202
DTEND;VALUE=DATE:20251203
DTSTAMP:20260422T224042
CREATED:20240126T201409Z
LAST-MODIFIED:20250924T190811Z
UID:10003389-1764633600-1764719999@thedoghousebarandgrill.com
SUMMARY:TUESDAY TRIVIA NIGHT
DESCRIPTION:  \nTRIVIA 7pm -9pm\nEach trivia event is based around a DJ experience combined with a trivia contest that offers fun competition for all\, along with prizes for the top teams. \nLIKE AND SHARE our posts on Facebook and/or Instagram then show us to receive 1 FREE trivia answer! \nLARGEST TEAM GETS FREE SHOTS! \n$1.50 WINGS ALL DAY
URL:https://thedoghousebarandgrill.com/calendar/tuesday-trivia-night/2025-12-02/
LOCATION:The Dog House Bar and Grill\, 2029 Woodlynn Ave\, St Paul\, MN\, 55109\, United States
CATEGORIES:Trivia,Weekdays
ATTACH;FMTTYPE=image/png:https://thedoghousebarandgrill.com/wp-content/uploads/2025/09/Tues.-Trivia-Wings-Night-Dog-House-.png
ORGANIZER;CN="The Dog House Bar and Grill":MAILTO:thedoghousemn@gmail.com
END:VEVENT
BEGIN:VEVENT
DTSTART;VALUE=DATE:20251203
DTEND;VALUE=DATE:20251204
DTSTAMP:20260422T224042
CREATED:20240126T202135Z
LAST-MODIFIED:20250924T190944Z
UID:10003651-1764720000-1764806399@thedoghousebarandgrill.com
SUMMARY:WEDNESDAY BINGO NIGHT
DESCRIPTION:Cash Bingo starts at 6:30pm\n$99 Games & 2 Guaranteed cover all $700 7 $1000\nMeat Raffle from Borcherts Meat market\n3 Ball Call!!!\n$2/Pulltab\nAvailable for purchase 90 minutes prior to bingo ONLY.  Save all the Pulltabs with bingo balls on them for a chances at: \nAn extra $200 payout on Game #1\nAn extra $400 payout on Game #2\nAn extra $500 payout on Game #3 \nNeed not play bingo to win these extra prizes!! \n+ Daily Chef Specials.\n(Ask your server/bartender or check our social media for details)
URL:https://thedoghousebarandgrill.com/calendar/wednesday-bingo-night/2025-12-03/
LOCATION:The Dog House Bar and Grill\, 2029 Woodlynn Ave\, St Paul\, MN\, 55109\, United States
CATEGORIES:Bingo,Weekdays
ATTACH;FMTTYPE=image/jpeg:https://thedoghousebarandgrill.com/wp-content/uploads/2021/11/cash-bingo-banner.jpg
ORGANIZER;CN="The Dog House Bar and Grill":MAILTO:thedoghousemn@gmail.com
END:VEVENT
BEGIN:VEVENT
DTSTART;VALUE=DATE:20251208
DTEND;VALUE=DATE:20251209
DTSTAMP:20260422T224042
CREATED:20240126T194845Z
LAST-MODIFIED:20260319T141939Z
UID:10003127-1765152000-1765238399@thedoghousebarandgrill.com
SUMMARY:MONDAY KARAOKE NIGHT & SPECIALS
DESCRIPTION: \nKaraoke With Ick: 9pm to 1am\n10PM – 1AM\nLate Night Happy Hour\n$1.50 OFF all alcoholic drinks\n$4-$8 Happy Appetizers\n\n+ $5 OFF All Burgers\, All Day!\n\n 
URL:https://thedoghousebarandgrill.com/calendar/monday-karaoke-night/2025-12-08/
LOCATION:The Dog House Bar and Grill\, 2029 Woodlynn Ave\, St Paul\, MN\, 55109\, United States
CATEGORIES:Karaoke,Weekdays
ATTACH;FMTTYPE=image/jpeg:https://thedoghousebarandgrill.com/wp-content/uploads/2024/01/Monday-Karaoke-Night-New-Dog-House.jpg
ORGANIZER;CN="The Dog House Bar and Grill":MAILTO:thedoghousemn@gmail.com
END:VEVENT
BEGIN:VEVENT
DTSTART;VALUE=DATE:20251209
DTEND;VALUE=DATE:20251210
DTSTAMP:20260422T224042
CREATED:20240126T201409Z
LAST-MODIFIED:20250924T190811Z
UID:10003390-1765238400-1765324799@thedoghousebarandgrill.com
SUMMARY:TUESDAY TRIVIA NIGHT
DESCRIPTION:  \nTRIVIA 7pm -9pm\nEach trivia event is based around a DJ experience combined with a trivia contest that offers fun competition for all\, along with prizes for the top teams. \nLIKE AND SHARE our posts on Facebook and/or Instagram then show us to receive 1 FREE trivia answer! \nLARGEST TEAM GETS FREE SHOTS! \n$1.50 WINGS ALL DAY
URL:https://thedoghousebarandgrill.com/calendar/tuesday-trivia-night/2025-12-09/
LOCATION:The Dog House Bar and Grill\, 2029 Woodlynn Ave\, St Paul\, MN\, 55109\, United States
CATEGORIES:Trivia,Weekdays
ATTACH;FMTTYPE=image/png:https://thedoghousebarandgrill.com/wp-content/uploads/2025/09/Tues.-Trivia-Wings-Night-Dog-House-.png
ORGANIZER;CN="The Dog House Bar and Grill":MAILTO:thedoghousemn@gmail.com
END:VEVENT
BEGIN:VEVENT
DTSTART;VALUE=DATE:20251210
DTEND;VALUE=DATE:20251211
DTSTAMP:20260422T224042
CREATED:20240126T202135Z
LAST-MODIFIED:20250924T190944Z
UID:10003652-1765324800-1765411199@thedoghousebarandgrill.com
SUMMARY:WEDNESDAY BINGO NIGHT
DESCRIPTION:Cash Bingo starts at 6:30pm\n$99 Games & 2 Guaranteed cover all $700 7 $1000\nMeat Raffle from Borcherts Meat market\n3 Ball Call!!!\n$2/Pulltab\nAvailable for purchase 90 minutes prior to bingo ONLY.  Save all the Pulltabs with bingo balls on them for a chances at: \nAn extra $200 payout on Game #1\nAn extra $400 payout on Game #2\nAn extra $500 payout on Game #3 \nNeed not play bingo to win these extra prizes!! \n+ Daily Chef Specials.\n(Ask your server/bartender or check our social media for details)
URL:https://thedoghousebarandgrill.com/calendar/wednesday-bingo-night/2025-12-10/
LOCATION:The Dog House Bar and Grill\, 2029 Woodlynn Ave\, St Paul\, MN\, 55109\, United States
CATEGORIES:Bingo,Weekdays
ATTACH;FMTTYPE=image/jpeg:https://thedoghousebarandgrill.com/wp-content/uploads/2021/11/cash-bingo-banner.jpg
ORGANIZER;CN="The Dog House Bar and Grill":MAILTO:thedoghousemn@gmail.com
END:VEVENT
BEGIN:VEVENT
DTSTART;VALUE=DATE:20251215
DTEND;VALUE=DATE:20251216
DTSTAMP:20260422T224042
CREATED:20240126T194845Z
LAST-MODIFIED:20260319T141939Z
UID:10003128-1765756800-1765843199@thedoghousebarandgrill.com
SUMMARY:MONDAY KARAOKE NIGHT & SPECIALS
DESCRIPTION: \nKaraoke With Ick: 9pm to 1am\n10PM – 1AM\nLate Night Happy Hour\n$1.50 OFF all alcoholic drinks\n$4-$8 Happy Appetizers\n\n+ $5 OFF All Burgers\, All Day!\n\n 
URL:https://thedoghousebarandgrill.com/calendar/monday-karaoke-night/2025-12-15/
LOCATION:The Dog House Bar and Grill\, 2029 Woodlynn Ave\, St Paul\, MN\, 55109\, United States
CATEGORIES:Karaoke,Weekdays
ATTACH;FMTTYPE=image/jpeg:https://thedoghousebarandgrill.com/wp-content/uploads/2024/01/Monday-Karaoke-Night-New-Dog-House.jpg
ORGANIZER;CN="The Dog House Bar and Grill":MAILTO:thedoghousemn@gmail.com
END:VEVENT
BEGIN:VEVENT
DTSTART;VALUE=DATE:20251216
DTEND;VALUE=DATE:20251217
DTSTAMP:20260422T224042
CREATED:20240126T201409Z
LAST-MODIFIED:20250924T190811Z
UID:10003391-1765843200-1765929599@thedoghousebarandgrill.com
SUMMARY:TUESDAY TRIVIA NIGHT
DESCRIPTION:  \nTRIVIA 7pm -9pm\nEach trivia event is based around a DJ experience combined with a trivia contest that offers fun competition for all\, along with prizes for the top teams. \nLIKE AND SHARE our posts on Facebook and/or Instagram then show us to receive 1 FREE trivia answer! \nLARGEST TEAM GETS FREE SHOTS! \n$1.50 WINGS ALL DAY
URL:https://thedoghousebarandgrill.com/calendar/tuesday-trivia-night/2025-12-16/
LOCATION:The Dog House Bar and Grill\, 2029 Woodlynn Ave\, St Paul\, MN\, 55109\, United States
CATEGORIES:Trivia,Weekdays
ATTACH;FMTTYPE=image/png:https://thedoghousebarandgrill.com/wp-content/uploads/2025/09/Tues.-Trivia-Wings-Night-Dog-House-.png
ORGANIZER;CN="The Dog House Bar and Grill":MAILTO:thedoghousemn@gmail.com
END:VEVENT
BEGIN:VEVENT
DTSTART;VALUE=DATE:20251217
DTEND;VALUE=DATE:20251218
DTSTAMP:20260422T224042
CREATED:20240126T202135Z
LAST-MODIFIED:20250924T190944Z
UID:10003653-1765929600-1766015999@thedoghousebarandgrill.com
SUMMARY:WEDNESDAY BINGO NIGHT
DESCRIPTION:Cash Bingo starts at 6:30pm\n$99 Games & 2 Guaranteed cover all $700 7 $1000\nMeat Raffle from Borcherts Meat market\n3 Ball Call!!!\n$2/Pulltab\nAvailable for purchase 90 minutes prior to bingo ONLY.  Save all the Pulltabs with bingo balls on them for a chances at: \nAn extra $200 payout on Game #1\nAn extra $400 payout on Game #2\nAn extra $500 payout on Game #3 \nNeed not play bingo to win these extra prizes!! \n+ Daily Chef Specials.\n(Ask your server/bartender or check our social media for details)
URL:https://thedoghousebarandgrill.com/calendar/wednesday-bingo-night/2025-12-17/
LOCATION:The Dog House Bar and Grill\, 2029 Woodlynn Ave\, St Paul\, MN\, 55109\, United States
CATEGORIES:Bingo,Weekdays
ATTACH;FMTTYPE=image/jpeg:https://thedoghousebarandgrill.com/wp-content/uploads/2021/11/cash-bingo-banner.jpg
ORGANIZER;CN="The Dog House Bar and Grill":MAILTO:thedoghousemn@gmail.com
END:VEVENT
BEGIN:VEVENT
DTSTART;VALUE=DATE:20251222
DTEND;VALUE=DATE:20251223
DTSTAMP:20260422T224042
CREATED:20240126T194845Z
LAST-MODIFIED:20260319T141939Z
UID:10003129-1766361600-1766447999@thedoghousebarandgrill.com
SUMMARY:MONDAY KARAOKE NIGHT & SPECIALS
DESCRIPTION: \nKaraoke With Ick: 9pm to 1am\n10PM – 1AM\nLate Night Happy Hour\n$1.50 OFF all alcoholic drinks\n$4-$8 Happy Appetizers\n\n+ $5 OFF All Burgers\, All Day!\n\n 
URL:https://thedoghousebarandgrill.com/calendar/monday-karaoke-night/2025-12-22/
LOCATION:The Dog House Bar and Grill\, 2029 Woodlynn Ave\, St Paul\, MN\, 55109\, United States
CATEGORIES:Karaoke,Weekdays
ATTACH;FMTTYPE=image/jpeg:https://thedoghousebarandgrill.com/wp-content/uploads/2024/01/Monday-Karaoke-Night-New-Dog-House.jpg
ORGANIZER;CN="The Dog House Bar and Grill":MAILTO:thedoghousemn@gmail.com
END:VEVENT
BEGIN:VEVENT
DTSTART;VALUE=DATE:20251223
DTEND;VALUE=DATE:20251224
DTSTAMP:20260422T224042
CREATED:20240126T201409Z
LAST-MODIFIED:20250924T190811Z
UID:10003392-1766448000-1766534399@thedoghousebarandgrill.com
SUMMARY:TUESDAY TRIVIA NIGHT
DESCRIPTION:  \nTRIVIA 7pm -9pm\nEach trivia event is based around a DJ experience combined with a trivia contest that offers fun competition for all\, along with prizes for the top teams. \nLIKE AND SHARE our posts on Facebook and/or Instagram then show us to receive 1 FREE trivia answer! \nLARGEST TEAM GETS FREE SHOTS! \n$1.50 WINGS ALL DAY
URL:https://thedoghousebarandgrill.com/calendar/tuesday-trivia-night/2025-12-23/
LOCATION:The Dog House Bar and Grill\, 2029 Woodlynn Ave\, St Paul\, MN\, 55109\, United States
CATEGORIES:Trivia,Weekdays
ATTACH;FMTTYPE=image/png:https://thedoghousebarandgrill.com/wp-content/uploads/2025/09/Tues.-Trivia-Wings-Night-Dog-House-.png
ORGANIZER;CN="The Dog House Bar and Grill":MAILTO:thedoghousemn@gmail.com
END:VEVENT
BEGIN:VEVENT
DTSTART;VALUE=DATE:20251224
DTEND;VALUE=DATE:20251225
DTSTAMP:20260422T224042
CREATED:20240126T202135Z
LAST-MODIFIED:20250924T190944Z
UID:10003654-1766534400-1766620799@thedoghousebarandgrill.com
SUMMARY:WEDNESDAY BINGO NIGHT
DESCRIPTION:Cash Bingo starts at 6:30pm\n$99 Games & 2 Guaranteed cover all $700 7 $1000\nMeat Raffle from Borcherts Meat market\n3 Ball Call!!!\n$2/Pulltab\nAvailable for purchase 90 minutes prior to bingo ONLY.  Save all the Pulltabs with bingo balls on them for a chances at: \nAn extra $200 payout on Game #1\nAn extra $400 payout on Game #2\nAn extra $500 payout on Game #3 \nNeed not play bingo to win these extra prizes!! \n+ Daily Chef Specials.\n(Ask your server/bartender or check our social media for details)
URL:https://thedoghousebarandgrill.com/calendar/wednesday-bingo-night/2025-12-24/
LOCATION:The Dog House Bar and Grill\, 2029 Woodlynn Ave\, St Paul\, MN\, 55109\, United States
CATEGORIES:Bingo,Weekdays
ATTACH;FMTTYPE=image/jpeg:https://thedoghousebarandgrill.com/wp-content/uploads/2021/11/cash-bingo-banner.jpg
ORGANIZER;CN="The Dog House Bar and Grill":MAILTO:thedoghousemn@gmail.com
END:VEVENT
BEGIN:VEVENT
DTSTART;VALUE=DATE:20251229
DTEND;VALUE=DATE:20251230
DTSTAMP:20260422T224042
CREATED:20240126T194845Z
LAST-MODIFIED:20260319T141939Z
UID:10003130-1766966400-1767052799@thedoghousebarandgrill.com
SUMMARY:MONDAY KARAOKE NIGHT & SPECIALS
DESCRIPTION: \nKaraoke With Ick: 9pm to 1am\n10PM – 1AM\nLate Night Happy Hour\n$1.50 OFF all alcoholic drinks\n$4-$8 Happy Appetizers\n\n+ $5 OFF All Burgers\, All Day!\n\n 
URL:https://thedoghousebarandgrill.com/calendar/monday-karaoke-night/2025-12-29/
LOCATION:The Dog House Bar and Grill\, 2029 Woodlynn Ave\, St Paul\, MN\, 55109\, United States
CATEGORIES:Karaoke,Weekdays
ATTACH;FMTTYPE=image/jpeg:https://thedoghousebarandgrill.com/wp-content/uploads/2024/01/Monday-Karaoke-Night-New-Dog-House.jpg
ORGANIZER;CN="The Dog House Bar and Grill":MAILTO:thedoghousemn@gmail.com
END:VEVENT
BEGIN:VEVENT
DTSTART;VALUE=DATE:20251230
DTEND;VALUE=DATE:20251231
DTSTAMP:20260422T224042
CREATED:20240126T201409Z
LAST-MODIFIED:20250924T190811Z
UID:10003393-1767052800-1767139199@thedoghousebarandgrill.com
SUMMARY:TUESDAY TRIVIA NIGHT
DESCRIPTION:  \nTRIVIA 7pm -9pm\nEach trivia event is based around a DJ experience combined with a trivia contest that offers fun competition for all\, along with prizes for the top teams. \nLIKE AND SHARE our posts on Facebook and/or Instagram then show us to receive 1 FREE trivia answer! \nLARGEST TEAM GETS FREE SHOTS! \n$1.50 WINGS ALL DAY
URL:https://thedoghousebarandgrill.com/calendar/tuesday-trivia-night/2025-12-30/
LOCATION:The Dog House Bar and Grill\, 2029 Woodlynn Ave\, St Paul\, MN\, 55109\, United States
CATEGORIES:Trivia,Weekdays
ATTACH;FMTTYPE=image/png:https://thedoghousebarandgrill.com/wp-content/uploads/2025/09/Tues.-Trivia-Wings-Night-Dog-House-.png
ORGANIZER;CN="The Dog House Bar and Grill":MAILTO:thedoghousemn@gmail.com
END:VEVENT
BEGIN:VEVENT
DTSTART;VALUE=DATE:20251231
DTEND;VALUE=DATE:20260101
DTSTAMP:20260422T224042
CREATED:20240126T202135Z
LAST-MODIFIED:20250924T190944Z
UID:10003655-1767139200-1767225599@thedoghousebarandgrill.com
SUMMARY:WEDNESDAY BINGO NIGHT
DESCRIPTION:Cash Bingo starts at 6:30pm\n$99 Games & 2 Guaranteed cover all $700 7 $1000\nMeat Raffle from Borcherts Meat market\n3 Ball Call!!!\n$2/Pulltab\nAvailable for purchase 90 minutes prior to bingo ONLY.  Save all the Pulltabs with bingo balls on them for a chances at: \nAn extra $200 payout on Game #1\nAn extra $400 payout on Game #2\nAn extra $500 payout on Game #3 \nNeed not play bingo to win these extra prizes!! \n+ Daily Chef Specials.\n(Ask your server/bartender or check our social media for details)
URL:https://thedoghousebarandgrill.com/calendar/wednesday-bingo-night/2025-12-31/
LOCATION:The Dog House Bar and Grill\, 2029 Woodlynn Ave\, St Paul\, MN\, 55109\, United States
CATEGORIES:Bingo,Weekdays
ATTACH;FMTTYPE=image/jpeg:https://thedoghousebarandgrill.com/wp-content/uploads/2021/11/cash-bingo-banner.jpg
ORGANIZER;CN="The Dog House Bar and Grill":MAILTO:thedoghousemn@gmail.com
END:VEVENT
END:VCALENDAR