BEGIN:VCALENDAR
VERSION:2.0
PRODID:-//The Dog House Bar and Grill - ECPv6.15.17.1//NONSGML v1.0//EN
CALSCALE:GREGORIAN
METHOD:PUBLISH
X-ORIGINAL-URL:https://thedoghousebarandgrill.com
X-WR-CALDESC:Events for The Dog House Bar and Grill
REFRESH-INTERVAL;VALUE=DURATION:PT1H
X-Robots-Tag:noindex
X-PUBLISHED-TTL:PT1H
BEGIN:VTIMEZONE
TZID:America/Chicago
BEGIN:DAYLIGHT
TZOFFSETFROM:-0600
TZOFFSETTO:-0500
TZNAME:CDT
DTSTART:20260308T080000
END:DAYLIGHT
BEGIN:STANDARD
TZOFFSETFROM:-0500
TZOFFSETTO:-0600
TZNAME:CST
DTSTART:20261101T070000
END:STANDARD
BEGIN:DAYLIGHT
TZOFFSETFROM:-0600
TZOFFSETTO:-0500
TZNAME:CDT
DTSTART:20270314T080000
END:DAYLIGHT
BEGIN:STANDARD
TZOFFSETFROM:-0500
TZOFFSETTO:-0600
TZNAME:CST
DTSTART:20271107T070000
END:STANDARD
BEGIN:DAYLIGHT
TZOFFSETFROM:-0600
TZOFFSETTO:-0500
TZNAME:CDT
DTSTART:20280312T080000
END:DAYLIGHT
BEGIN:STANDARD
TZOFFSETFROM:-0500
TZOFFSETTO:-0600
TZNAME:CST
DTSTART:20281105T070000
END:STANDARD
END:VTIMEZONE
BEGIN:VEVENT
DTSTART;TZID=America/Chicago:20270307T190000
DTEND;TZID=America/Chicago:20270307T220000
DTSTAMP:20260424T170152
CREATED:20250212T035145Z
LAST-MODIFIED:20250212T035145Z
UID:10002929-1804446000-1804456800@thedoghousebarandgrill.com
SUMMARY:FREE Poker Night
DESCRIPTION:FREE TEXAS HOLD ‘EM!\nThe more players the bigger the payout\, so share this with your friends! \nLast sunday of the month we are doing a Bigger Payout Game ($100 cash\, $60 cash\, $25 gift card\, $15 gift card)
URL:https://thedoghousebarandgrill.com/calendar/free-poker-night/2027-03-07/
LOCATION:The Dog House Bar and Grill\, 2029 Woodlynn Ave\, St Paul\, MN\, 55109\, United States
CATEGORIES:Live Music
ATTACH;FMTTYPE=image/png:https://thedoghousebarandgrill.com/wp-content/uploads/2025/02/Poker-Night-Sundays-Doghouse.png
ORGANIZER;CN="The Dog House Bar and Grill":MAILTO:thedoghousemn@gmail.com
END:VEVENT
BEGIN:VEVENT
DTSTART;TZID=America/Chicago:20270314T190000
DTEND;TZID=America/Chicago:20270314T220000
DTSTAMP:20260424T170152
CREATED:20250212T035145Z
LAST-MODIFIED:20250212T035145Z
UID:10002930-1805050800-1805061600@thedoghousebarandgrill.com
SUMMARY:FREE Poker Night
DESCRIPTION:FREE TEXAS HOLD ‘EM!\nThe more players the bigger the payout\, so share this with your friends! \nLast sunday of the month we are doing a Bigger Payout Game ($100 cash\, $60 cash\, $25 gift card\, $15 gift card)
URL:https://thedoghousebarandgrill.com/calendar/free-poker-night/2027-03-14/
LOCATION:The Dog House Bar and Grill\, 2029 Woodlynn Ave\, St Paul\, MN\, 55109\, United States
CATEGORIES:Live Music
ATTACH;FMTTYPE=image/png:https://thedoghousebarandgrill.com/wp-content/uploads/2025/02/Poker-Night-Sundays-Doghouse.png
ORGANIZER;CN="The Dog House Bar and Grill":MAILTO:thedoghousemn@gmail.com
END:VEVENT
BEGIN:VEVENT
DTSTART;TZID=America/Chicago:20270321T190000
DTEND;TZID=America/Chicago:20270321T220000
DTSTAMP:20260424T170152
CREATED:20250212T035145Z
LAST-MODIFIED:20250212T035145Z
UID:10002931-1805655600-1805666400@thedoghousebarandgrill.com
SUMMARY:FREE Poker Night
DESCRIPTION:FREE TEXAS HOLD ‘EM!\nThe more players the bigger the payout\, so share this with your friends! \nLast sunday of the month we are doing a Bigger Payout Game ($100 cash\, $60 cash\, $25 gift card\, $15 gift card)
URL:https://thedoghousebarandgrill.com/calendar/free-poker-night/2027-03-21/
LOCATION:The Dog House Bar and Grill\, 2029 Woodlynn Ave\, St Paul\, MN\, 55109\, United States
CATEGORIES:Live Music
ATTACH;FMTTYPE=image/png:https://thedoghousebarandgrill.com/wp-content/uploads/2025/02/Poker-Night-Sundays-Doghouse.png
ORGANIZER;CN="The Dog House Bar and Grill":MAILTO:thedoghousemn@gmail.com
END:VEVENT
BEGIN:VEVENT
DTSTART;TZID=America/Chicago:20270328T190000
DTEND;TZID=America/Chicago:20270328T220000
DTSTAMP:20260424T170152
CREATED:20250212T035145Z
LAST-MODIFIED:20250212T035145Z
UID:10002932-1806260400-1806271200@thedoghousebarandgrill.com
SUMMARY:FREE Poker Night
DESCRIPTION:FREE TEXAS HOLD ‘EM!\nThe more players the bigger the payout\, so share this with your friends! \nLast sunday of the month we are doing a Bigger Payout Game ($100 cash\, $60 cash\, $25 gift card\, $15 gift card)
URL:https://thedoghousebarandgrill.com/calendar/free-poker-night/2027-03-28/
LOCATION:The Dog House Bar and Grill\, 2029 Woodlynn Ave\, St Paul\, MN\, 55109\, United States
CATEGORIES:Live Music
ATTACH;FMTTYPE=image/png:https://thedoghousebarandgrill.com/wp-content/uploads/2025/02/Poker-Night-Sundays-Doghouse.png
ORGANIZER;CN="The Dog House Bar and Grill":MAILTO:thedoghousemn@gmail.com
END:VEVENT
END:VCALENDAR