BEGIN:VCALENDAR
VERSION:2.0
PRODID:-//The Dog House Bar and Grill - ECPv6.15.17.1//NONSGML v1.0//EN
CALSCALE:GREGORIAN
METHOD:PUBLISH
X-WR-CALNAME:The Dog House Bar and Grill
X-ORIGINAL-URL:https://thedoghousebarandgrill.com
X-WR-CALDESC:Events for The Dog House Bar and Grill
REFRESH-INTERVAL;VALUE=DURATION:PT1H
X-Robots-Tag:noindex
X-PUBLISHED-TTL:PT1H
BEGIN:VTIMEZONE
TZID:America/Chicago
BEGIN:DAYLIGHT
TZOFFSETFROM:-0600
TZOFFSETTO:-0500
TZNAME:CDT
DTSTART:20250309T080000
END:DAYLIGHT
BEGIN:STANDARD
TZOFFSETFROM:-0500
TZOFFSETTO:-0600
TZNAME:CST
DTSTART:20251102T070000
END:STANDARD
BEGIN:DAYLIGHT
TZOFFSETFROM:-0600
TZOFFSETTO:-0500
TZNAME:CDT
DTSTART:20260308T080000
END:DAYLIGHT
BEGIN:STANDARD
TZOFFSETFROM:-0500
TZOFFSETTO:-0600
TZNAME:CST
DTSTART:20261101T070000
END:STANDARD
BEGIN:DAYLIGHT
TZOFFSETFROM:-0600
TZOFFSETTO:-0500
TZNAME:CDT
DTSTART:20270314T080000
END:DAYLIGHT
BEGIN:STANDARD
TZOFFSETFROM:-0500
TZOFFSETTO:-0600
TZNAME:CST
DTSTART:20271107T070000
END:STANDARD
END:VTIMEZONE
BEGIN:VEVENT
DTSTART;TZID=America/Chicago:20260802T190000
DTEND;TZID=America/Chicago:20260802T220000
DTSTAMP:20260424T044206
CREATED:20250212T035145Z
LAST-MODIFIED:20250212T035145Z
UID:10002898-1785697200-1785708000@thedoghousebarandgrill.com
SUMMARY:FREE Poker Night
DESCRIPTION:FREE TEXAS HOLD ‘EM!\nThe more players the bigger the payout\, so share this with your friends! \nLast sunday of the month we are doing a Bigger Payout Game ($100 cash\, $60 cash\, $25 gift card\, $15 gift card)
URL:https://thedoghousebarandgrill.com/calendar/free-poker-night/2026-08-02/
LOCATION:The Dog House Bar and Grill\, 2029 Woodlynn Ave\, St Paul\, MN\, 55109\, United States
CATEGORIES:Live Music
ATTACH;FMTTYPE=image/png:https://thedoghousebarandgrill.com/wp-content/uploads/2025/02/Poker-Night-Sundays-Doghouse.png
ORGANIZER;CN="The Dog House Bar and Grill":MAILTO:thedoghousemn@gmail.com
END:VEVENT
BEGIN:VEVENT
DTSTART;TZID=America/Chicago:20260809T190000
DTEND;TZID=America/Chicago:20260809T220000
DTSTAMP:20260424T044206
CREATED:20250212T035145Z
LAST-MODIFIED:20250212T035145Z
UID:10002899-1786302000-1786312800@thedoghousebarandgrill.com
SUMMARY:FREE Poker Night
DESCRIPTION:FREE TEXAS HOLD ‘EM!\nThe more players the bigger the payout\, so share this with your friends! \nLast sunday of the month we are doing a Bigger Payout Game ($100 cash\, $60 cash\, $25 gift card\, $15 gift card)
URL:https://thedoghousebarandgrill.com/calendar/free-poker-night/2026-08-09/
LOCATION:The Dog House Bar and Grill\, 2029 Woodlynn Ave\, St Paul\, MN\, 55109\, United States
CATEGORIES:Live Music
ATTACH;FMTTYPE=image/png:https://thedoghousebarandgrill.com/wp-content/uploads/2025/02/Poker-Night-Sundays-Doghouse.png
ORGANIZER;CN="The Dog House Bar and Grill":MAILTO:thedoghousemn@gmail.com
END:VEVENT
BEGIN:VEVENT
DTSTART;TZID=America/Chicago:20260816T190000
DTEND;TZID=America/Chicago:20260816T220000
DTSTAMP:20260424T044206
CREATED:20250212T035145Z
LAST-MODIFIED:20250212T035145Z
UID:10002900-1786906800-1786917600@thedoghousebarandgrill.com
SUMMARY:FREE Poker Night
DESCRIPTION:FREE TEXAS HOLD ‘EM!\nThe more players the bigger the payout\, so share this with your friends! \nLast sunday of the month we are doing a Bigger Payout Game ($100 cash\, $60 cash\, $25 gift card\, $15 gift card)
URL:https://thedoghousebarandgrill.com/calendar/free-poker-night/2026-08-16/
LOCATION:The Dog House Bar and Grill\, 2029 Woodlynn Ave\, St Paul\, MN\, 55109\, United States
CATEGORIES:Live Music
ATTACH;FMTTYPE=image/png:https://thedoghousebarandgrill.com/wp-content/uploads/2025/02/Poker-Night-Sundays-Doghouse.png
ORGANIZER;CN="The Dog House Bar and Grill":MAILTO:thedoghousemn@gmail.com
END:VEVENT
BEGIN:VEVENT
DTSTART;TZID=America/Chicago:20260823T190000
DTEND;TZID=America/Chicago:20260823T220000
DTSTAMP:20260424T044206
CREATED:20250212T035145Z
LAST-MODIFIED:20250212T035145Z
UID:10002901-1787511600-1787522400@thedoghousebarandgrill.com
SUMMARY:FREE Poker Night
DESCRIPTION:FREE TEXAS HOLD ‘EM!\nThe more players the bigger the payout\, so share this with your friends! \nLast sunday of the month we are doing a Bigger Payout Game ($100 cash\, $60 cash\, $25 gift card\, $15 gift card)
URL:https://thedoghousebarandgrill.com/calendar/free-poker-night/2026-08-23/
LOCATION:The Dog House Bar and Grill\, 2029 Woodlynn Ave\, St Paul\, MN\, 55109\, United States
CATEGORIES:Live Music
ATTACH;FMTTYPE=image/png:https://thedoghousebarandgrill.com/wp-content/uploads/2025/02/Poker-Night-Sundays-Doghouse.png
ORGANIZER;CN="The Dog House Bar and Grill":MAILTO:thedoghousemn@gmail.com
END:VEVENT
BEGIN:VEVENT
DTSTART;TZID=America/Chicago:20260830T190000
DTEND;TZID=America/Chicago:20260830T220000
DTSTAMP:20260424T044206
CREATED:20250212T035145Z
LAST-MODIFIED:20250212T035145Z
UID:10002902-1788116400-1788127200@thedoghousebarandgrill.com
SUMMARY:FREE Poker Night
DESCRIPTION:FREE TEXAS HOLD ‘EM!\nThe more players the bigger the payout\, so share this with your friends! \nLast sunday of the month we are doing a Bigger Payout Game ($100 cash\, $60 cash\, $25 gift card\, $15 gift card)
URL:https://thedoghousebarandgrill.com/calendar/free-poker-night/2026-08-30/
LOCATION:The Dog House Bar and Grill\, 2029 Woodlynn Ave\, St Paul\, MN\, 55109\, United States
CATEGORIES:Live Music
ATTACH;FMTTYPE=image/png:https://thedoghousebarandgrill.com/wp-content/uploads/2025/02/Poker-Night-Sundays-Doghouse.png
ORGANIZER;CN="The Dog House Bar and Grill":MAILTO:thedoghousemn@gmail.com
END:VEVENT
END:VCALENDAR