BEGIN:VCALENDAR
VERSION:2.0
PRODID:-//The Dog House Bar and Grill - ECPv6.15.17.1//NONSGML v1.0//EN
CALSCALE:GREGORIAN
METHOD:PUBLISH
X-WR-CALNAME:The Dog House Bar and Grill
X-ORIGINAL-URL:https://thedoghousebarandgrill.com
X-WR-CALDESC:Events for The Dog House Bar and Grill
REFRESH-INTERVAL;VALUE=DURATION:PT1H
X-Robots-Tag:noindex
X-PUBLISHED-TTL:PT1H
BEGIN:VTIMEZONE
TZID:America/Chicago
BEGIN:DAYLIGHT
TZOFFSETFROM:-0600
TZOFFSETTO:-0500
TZNAME:CDT
DTSTART:20250309T080000
END:DAYLIGHT
BEGIN:STANDARD
TZOFFSETFROM:-0500
TZOFFSETTO:-0600
TZNAME:CST
DTSTART:20251102T070000
END:STANDARD
BEGIN:DAYLIGHT
TZOFFSETFROM:-0600
TZOFFSETTO:-0500
TZNAME:CDT
DTSTART:20260308T080000
END:DAYLIGHT
BEGIN:STANDARD
TZOFFSETFROM:-0500
TZOFFSETTO:-0600
TZNAME:CST
DTSTART:20261101T070000
END:STANDARD
BEGIN:DAYLIGHT
TZOFFSETFROM:-0600
TZOFFSETTO:-0500
TZNAME:CDT
DTSTART:20270314T080000
END:DAYLIGHT
BEGIN:STANDARD
TZOFFSETFROM:-0500
TZOFFSETTO:-0600
TZNAME:CST
DTSTART:20271107T070000
END:STANDARD
END:VTIMEZONE
BEGIN:VEVENT
DTSTART;VALUE=DATE:20260422
DTEND;VALUE=DATE:20260423
DTSTAMP:20260422T014223
CREATED:20240126T202135Z
LAST-MODIFIED:20250924T190944Z
UID:10003671-1776816000-1776902399@thedoghousebarandgrill.com
SUMMARY:WEDNESDAY BINGO NIGHT
DESCRIPTION:Cash Bingo starts at 6:30pm\n$99 Games & 2 Guaranteed cover all $700 7 $1000\nMeat Raffle from Borcherts Meat market\n3 Ball Call!!!\n$2/Pulltab\nAvailable for purchase 90 minutes prior to bingo ONLY.  Save all the Pulltabs with bingo balls on them for a chances at: \nAn extra $200 payout on Game #1\nAn extra $400 payout on Game #2\nAn extra $500 payout on Game #3 \nNeed not play bingo to win these extra prizes!! \n+ Daily Chef Specials.\n(Ask your server/bartender or check our social media for details)
URL:https://thedoghousebarandgrill.com/calendar/wednesday-bingo-night/2026-04-22/
LOCATION:The Dog House Bar and Grill\, 2029 Woodlynn Ave\, St Paul\, MN\, 55109\, United States
CATEGORIES:Bingo,Weekdays
ATTACH;FMTTYPE=image/jpeg:https://thedoghousebarandgrill.com/wp-content/uploads/2021/11/cash-bingo-banner.jpg
ORGANIZER;CN="The Dog House Bar and Grill":MAILTO:thedoghousemn@gmail.com
END:VEVENT
END:VCALENDAR