BEGIN:VCALENDAR
VERSION:2.0
PRODID:-//The Dog House Bar and Grill - ECPv6.15.17.1//NONSGML v1.0//EN
CALSCALE:GREGORIAN
METHOD:PUBLISH
X-WR-CALNAME:The Dog House Bar and Grill
X-ORIGINAL-URL:https://thedoghousebarandgrill.com
X-WR-CALDESC:Events for The Dog House Bar and Grill
REFRESH-INTERVAL;VALUE=DURATION:PT1H
X-Robots-Tag:noindex
X-PUBLISHED-TTL:PT1H
BEGIN:VTIMEZONE
TZID:America/Chicago
BEGIN:DAYLIGHT
TZOFFSETFROM:-0600
TZOFFSETTO:-0500
TZNAME:CDT
DTSTART:20240310T080000
END:DAYLIGHT
BEGIN:STANDARD
TZOFFSETFROM:-0500
TZOFFSETTO:-0600
TZNAME:CST
DTSTART:20241103T070000
END:STANDARD
BEGIN:DAYLIGHT
TZOFFSETFROM:-0600
TZOFFSETTO:-0500
TZNAME:CDT
DTSTART:20250309T080000
END:DAYLIGHT
BEGIN:STANDARD
TZOFFSETFROM:-0500
TZOFFSETTO:-0600
TZNAME:CST
DTSTART:20251102T070000
END:STANDARD
BEGIN:DAYLIGHT
TZOFFSETFROM:-0600
TZOFFSETTO:-0500
TZNAME:CDT
DTSTART:20260308T080000
END:DAYLIGHT
BEGIN:STANDARD
TZOFFSETFROM:-0500
TZOFFSETTO:-0600
TZNAME:CST
DTSTART:20261101T070000
END:STANDARD
END:VTIMEZONE
BEGIN:VEVENT
DTSTART;TZID=America/Chicago:20250517T190000
DTEND;TZID=America/Chicago:20250517T235900
DTSTAMP:20260422T113540
CREATED:20250414T223703Z
LAST-MODIFIED:20250414T224744Z
UID:10582-1747508400-1747526340@thedoghousebarandgrill.com
SUMMARY:Spring Pole Show - Studio 33 Showcase
DESCRIPTION:« All Events\n 				\n				\n				\n				\n					This event has passed. \n				\n				\n				\n				\n					\n	Spring Pole Show – Studio 33 Showcase				\n				\n				\n				\n					\n		\n			May 17\n\n	\n\n	  @  \n\n\n7:00 pm\n\n		\n\n\n\n	\n	  -  \n\n11:59 pm\n\n\n\n	\n				\n				\n				\n				\n					\n	\n				\n				\n				\n				\n									Spring into the Spectacular!								\n				\n				\n				\n									Step into the magic of Studio 33’s Spring Pole Show\, where gravity-defying performances and breathtaking artistry come together for an unforgettable night. Experience the Pole Art Studio Co. signature show style\, complete with mesmerizing lights\, immersive stage effects\, and the RED CARPET.								\n				\n				\n				\n									\n					\n						\n									RESERVE & PURCHASE TICKETS\n					\n					\n				\n								\n				\n				\n				\n									😎 Dress to Impress! Join us for a night of elegance and excitement—prizes will be awarded for Best Dressed and Best Costume\, so bring your A-game! ✨ Come early for dinner\, stay late for the fun! ✨ TIMES 6:00 PM | Doors open Seating\, dinner\, and exclusive pre-show performances 6:30 PM | Matinee Show Get there early to see more!! Tickets include both shows! 8:00 PM | Late Show featuring Studio 33 Performance Team & studio members 10:30 PM | Dance Afterparty 🎶 🎟️ TICKETS ON SALE – April 18\, 2025 🎟️ 💎 VIP Table (4 seats) – $125 (includes 4 drink tickets & $10 food voucher) 🎟️ Reserved high/low table seats – $18 🎟️ Single seats – $15 🎟️ General Admission & Standing Room – $12 🎟️ Afterparty-Only Ticket – $10 (starting at 10:30 PM) 💵 PRO TIP: Bring your dollar bills to show love and support for your favorite dancers! 								\n				\n				\n				\n									\n					\n						\n									RESERVE & PURCHASE TICKETS\n					\n					\n				\n								\n				\n				\n						\n					\n			\n						\n				\n					\n	\n		\n\n	\n	Add to calendar	\n		\n	\n\n		\n			\n									\n	Google Calendar\n\n									\n	iCalendar\n\n									\n	Outlook 365\n\n									\n	Outlook Live\n\n							\n		\n\n		\n	\n\n				\n				\n					\n		\n					\n		\n				\n				\n							\n			\n						\n		\n						\n				\n				\n						\n					\n			\n						\n				\n					\n				\n				\n	\n			\n		The Dog House Bar and Grill			\n	\n	\n	\n\n2029 Woodlynn Ave\n	\n		\n		St Paul\,\n\n	MN\n\n	55109\n\n	United States\n\n\n\n\n	+ Google Map \n\n\n	\n					\n			651.621.1535			\n	 \n\n\n	\n	View Venue Website \n\n\n\n	\n\n\n\n		\n	\n				\n				\n					\n		\n				\n			\n						\n				\n					\n	\n			\n			The Dog House Bar and Grill			\n	\n\n	\n	\n\n	Phone:\n					\n			651.621.1535			\n	 \n\n\n	\n\n	Website:View Organizer Website \n\n\n	\n	Email:\n					\n			thedoghousemn@gmail.com			\n	 \n\n\n\n				\n				\n					\n		\n					\n		\n				\n						\n					\n			\n						\n				\n					\n	\n		\n\n				Wicked Garden	\n\n\n		\n	\n		FREE Poker Night
URL:https://thedoghousebarandgrill.com/calendar/spring-pole-show-studio-33-showcase/
LOCATION:The Dog House Bar and Grill\, 2029 Woodlynn Ave\, St Paul\, MN\, 55109\, United States
CATEGORIES:Live Music
ATTACH;FMTTYPE=image/jpeg:https://thedoghousebarandgrill.com/wp-content/uploads/2024/12/Twisted-Valentine-Pole-Show.jpeg
ORGANIZER;CN="The Dog House Bar and Grill":MAILTO:thedoghousemn@gmail.com
END:VEVENT
END:VCALENDAR