BEGIN:VCALENDAR
VERSION:2.0
PRODID:-//The Dog House Bar and Grill - ECPv6.15.17.1//NONSGML v1.0//EN
CALSCALE:GREGORIAN
METHOD:PUBLISH
X-WR-CALNAME:The Dog House Bar and Grill
X-ORIGINAL-URL:https://thedoghousebarandgrill.com
X-WR-CALDESC:Events for The Dog House Bar and Grill
REFRESH-INTERVAL;VALUE=DURATION:PT1H
X-Robots-Tag:noindex
X-PUBLISHED-TTL:PT1H
BEGIN:VTIMEZONE
TZID:America/Chicago
BEGIN:DAYLIGHT
TZOFFSETFROM:-0600
TZOFFSETTO:-0500
TZNAME:CDT
DTSTART:20240310T080000
END:DAYLIGHT
BEGIN:STANDARD
TZOFFSETFROM:-0500
TZOFFSETTO:-0600
TZNAME:CST
DTSTART:20241103T070000
END:STANDARD
BEGIN:DAYLIGHT
TZOFFSETFROM:-0600
TZOFFSETTO:-0500
TZNAME:CDT
DTSTART:20250309T080000
END:DAYLIGHT
BEGIN:STANDARD
TZOFFSETFROM:-0500
TZOFFSETTO:-0600
TZNAME:CST
DTSTART:20251102T070000
END:STANDARD
BEGIN:DAYLIGHT
TZOFFSETFROM:-0600
TZOFFSETTO:-0500
TZNAME:CDT
DTSTART:20260308T080000
END:DAYLIGHT
BEGIN:STANDARD
TZOFFSETFROM:-0500
TZOFFSETTO:-0600
TZNAME:CST
DTSTART:20261101T070000
END:STANDARD
END:VTIMEZONE
BEGIN:VEVENT
DTSTART;TZID=America/Chicago:20250531T150000
DTEND;TZID=America/Chicago:20250531T235900
DTSTAMP:20260422T095030
CREATED:20250414T225724Z
LAST-MODIFIED:20260415T175635Z
UID:10594-1748703600-1748735940@thedoghousebarandgrill.com
SUMMARY:Ride for Wishes 2025
DESCRIPTION:« All Events\n 				\n				\n				\n				\n					This event has passed. \n				\n				\n				\n				\n					\n	Ride for Wishes 2025				\n				\n				\n				\n					\n		\n			May 31\n\n	\n\n	  @  \n\n\n3:00 pm\n\n		\n\n\n\n	\n	  -  \n\n11:59 pm\n\n\n\n	\n				\n				\n				\n				\n					\n	\n				\n				\n				\n				\n									21ST ANNIVERSARY RIDE FOR WISHES!								\n				\n				\n				\n									Ride for Wishes is celebrating our 21st Annual Event! We are fundraising to Benefit Make-A-Wish Minnesota!Come on down and help make wishes come true for children battling critical illness!								\n				\n				\n				\n									Ride for Wishes in Memory of Chuck Worden to Benefit Make-A-Wish of MN featuring Music\, Food\, Ride for wishes store\, LIVE MUSIC BY:Cursed By LightningWayward Boyz ClubBack AlleyThem Pesky Kids Gates open: @ 3:00 pmMusic starts: @ 4:00 pmEntry fee: $20.00– 6 years old and under free (allowed until 9pm).– Bike run participants-included with paid registration.CLICK HERE to RSVP and receive updates for the event.								\n				\n				\n				\n									\n					\n						\n									BIKE RUN REGISTRATION\n					\n					\n				\n								\n				\n				\n				\n									\n					\n						\n									MUSIC FESTIVAL REGISTRATION\n					\n					\n				\n								\n				\n				\n						\n					\n			\n						\n				\n					\n	\n		\n\n	\n	Add to calendar	\n		\n	\n\n		\n			\n									\n	Google Calendar\n\n									\n	iCalendar\n\n									\n	Outlook 365\n\n									\n	Outlook Live\n\n							\n		\n\n		\n	\n\n				\n				\n					\n		\n					\n		\n				\n				\n							\n			\n						\n		\n						\n				\n				\n						\n					\n			\n						\n				\n					\n				\n				\n	\n			\n		The Dog House Bar and Grill			\n	\n	\n	\n\n2029 Woodlynn Ave\n	\n		\n		St Paul\,\n\n	MN\n\n	55109\n\n	United States\n\n\n\n\n	+ Google Map \n\n\n	\n					\n			651.621.1535			\n	 \n\n\n	\n	View Venue Website \n\n\n\n	\n\n\n\n		\n	\n				\n				\n					\n		\n				\n			\n						\n				\n					\n	\n			\n			The Dog House Bar and Grill			\n	\n\n	\n	\n\n	Phone:\n					\n			651.621.1535			\n	 \n\n\n	\n\n	Website:View Organizer Website \n\n\n	\n	Email:\n					\n			thedoghousemn@gmail.com			\n	 \n\n\n\n				\n				\n					\n		\n					\n		\n				\n						\n					\n			\n						\n				\n					\n	\n		\n\n				FLASHMOB!	\n\n\n		\n	\n		FREE Poker Night
URL:https://thedoghousebarandgrill.com/calendar/ride-for-wishes-2025/
LOCATION:The Dog House Bar and Grill\, 2029 Woodlynn Ave\, St Paul\, MN\, 55109\, United States
CATEGORIES:Live Music
ATTACH;FMTTYPE=image/jpeg:https://thedoghousebarandgrill.com/wp-content/uploads/2025/04/Ride-For-Wishes-2025.jpg
ORGANIZER;CN="The Dog House Bar and Grill":MAILTO:thedoghousemn@gmail.com
END:VEVENT
END:VCALENDAR