BEGIN:VCALENDAR
VERSION:2.0
PRODID:-//The Dog House Bar and Grill - ECPv6.15.17.1//NONSGML v1.0//EN
CALSCALE:GREGORIAN
METHOD:PUBLISH
X-WR-CALNAME:The Dog House Bar and Grill
X-ORIGINAL-URL:https://thedoghousebarandgrill.com
X-WR-CALDESC:Events for The Dog House Bar and Grill
REFRESH-INTERVAL;VALUE=DURATION:PT1H
X-Robots-Tag:noindex
X-PUBLISHED-TTL:PT1H
BEGIN:VTIMEZONE
TZID:America/Chicago
BEGIN:DAYLIGHT
TZOFFSETFROM:-0600
TZOFFSETTO:-0500
TZNAME:CDT
DTSTART:20240310T080000
END:DAYLIGHT
BEGIN:STANDARD
TZOFFSETFROM:-0500
TZOFFSETTO:-0600
TZNAME:CST
DTSTART:20241103T070000
END:STANDARD
BEGIN:DAYLIGHT
TZOFFSETFROM:-0600
TZOFFSETTO:-0500
TZNAME:CDT
DTSTART:20250309T080000
END:DAYLIGHT
BEGIN:STANDARD
TZOFFSETFROM:-0500
TZOFFSETTO:-0600
TZNAME:CST
DTSTART:20251102T070000
END:STANDARD
BEGIN:DAYLIGHT
TZOFFSETFROM:-0600
TZOFFSETTO:-0500
TZNAME:CDT
DTSTART:20260308T080000
END:DAYLIGHT
BEGIN:STANDARD
TZOFFSETFROM:-0500
TZOFFSETTO:-0600
TZNAME:CST
DTSTART:20261101T070000
END:STANDARD
END:VTIMEZONE
BEGIN:VEVENT
DTSTART;TZID=America/Chicago:20250413T190000
DTEND;TZID=America/Chicago:20250413T235900
DTSTAMP:20260421T132841
CREATED:20250219T150907Z
LAST-MODIFIED:20250219T155839Z
UID:10328-1744570800-1744588740@thedoghousebarandgrill.com
SUMMARY:David Kruse - ALBUM RELEASE PARTY
DESCRIPTION:« All Events\n 				\n				\n				\n				\n					This event has passed. \n				\n				\n				\n				\n					\n	David Kruse – ALBUM RELEASE PARTY				\n				\n				\n				\n					\n		\n			April 13\n\n	\n\n	  @  \n\n\n7:00 pm\n\n		\n\n\n\n	\n	  -  \n\n11:59 pm\n\n\n\n	\n				\n				\n				\n				\n					\n	\n				\n				\n				\n				\n									David Kruse – ALBUM RELEASE PARTY in St Paul (W/ Emma Fradd & Luke Spehar)								\n				\n				\n				\n									Come join us for a night of live music as David Kruse kicks celebrates the release of his new funk album; Midnight Punch! Emma Fradd will also be gracing the stage with her fairy vocals and intricate guitar work as well as the folky songwriting of Luke Spehar.								\n				\n				\n				\n									7pm Doors 7:30pm Luke Spehar 8pm Emma Fradd 8:35-9:30pm David Kruse DISCOUNTED PRE-SALE TICKETS AVAILABLE! CLICK THE BUTTON BELOW TO PURCHASE TICKETS! 								\n				\n				\n				\n									\n					\n						\n									PURCHASE PRE-SALE TICKETS\n					\n					\n				\n								\n				\n				\n				\n							\n					\n						\n				\n				\n						\n					\n			\n						\n				\n					\n	\n		\n\n	\n	Add to calendar	\n		\n	\n\n		\n			\n									\n	Google Calendar\n\n									\n	iCalendar\n\n									\n	Outlook 365\n\n									\n	Outlook Live\n\n							\n		\n\n		\n	\n\n				\n				\n					\n		\n					\n		\n				\n				\n							\n			\n						\n		\n						\n				\n				\n						\n					\n			\n						\n				\n					\n				\n				\n	\n			\n		The Dog House Bar and Grill			\n	\n	\n	\n\n2029 Woodlynn Ave\n	\n		\n		St Paul\,\n\n	MN\n\n	55109\n\n	United States\n\n\n\n\n	+ Google Map \n\n\n	\n					\n			651.621.1535			\n	 \n\n\n	\n	View Venue Website \n\n\n\n	\n\n\n\n		\n	\n				\n				\n					\n		\n				\n			\n						\n				\n					\n	\n			\n			The Dog House Bar and Grill			\n	\n\n	\n	\n\n	Phone:\n					\n			651.621.1535			\n	 \n\n\n	\n\n	Website:View Organizer Website \n\n\n	\n	Email:\n					\n			thedoghousemn@gmail.com			\n	 \n\n\n\n				\n				\n					\n		\n					\n		\n				\n						\n					\n			\n						\n				\n					\n	\n		\n\n				Dance The Decades! Multi Band Event!	\n\n\n		\n	\n		MONDAY KARAOKE NIGHT & SPECIALS
URL:https://thedoghousebarandgrill.com/calendar/david-kruse-album-release-party/
LOCATION:The Dog House Bar and Grill\, 2029 Woodlynn Ave\, St Paul\, MN\, 55109\, United States
ATTACH;FMTTYPE=image/png:https://thedoghousebarandgrill.com/wp-content/uploads/2025/02/David-Kruse-Midnight-Punch-Tour.png
ORGANIZER;CN="The Dog House Bar and Grill":MAILTO:thedoghousemn@gmail.com
END:VEVENT
END:VCALENDAR